BEGIN:VCALENDAR
VERSION:2.0
PRODID:-//Clockwork Banana - ECPv6.15.20//NONSGML v1.0//EN
CALSCALE:GREGORIAN
METHOD:PUBLISH
X-ORIGINAL-URL:https://clockworkbanana.com
X-WR-CALDESC:Events for Clockwork Banana
REFRESH-INTERVAL;VALUE=DURATION:PT1H
X-Robots-Tag:noindex
X-PUBLISHED-TTL:PT1H
BEGIN:VTIMEZONE
TZID:Europe/Berlin
BEGIN:DAYLIGHT
TZOFFSETFROM:+0100
TZOFFSETTO:+0200
TZNAME:CEST
DTSTART:20220327T010000
END:DAYLIGHT
BEGIN:STANDARD
TZOFFSETFROM:+0200
TZOFFSETTO:+0100
TZNAME:CET
DTSTART:20221030T010000
END:STANDARD
BEGIN:DAYLIGHT
TZOFFSETFROM:+0100
TZOFFSETTO:+0200
TZNAME:CEST
DTSTART:20230326T010000
END:DAYLIGHT
BEGIN:STANDARD
TZOFFSETFROM:+0200
TZOFFSETTO:+0100
TZNAME:CET
DTSTART:20231029T010000
END:STANDARD
BEGIN:DAYLIGHT
TZOFFSETFROM:+0100
TZOFFSETTO:+0200
TZNAME:CEST
DTSTART:20240331T010000
END:DAYLIGHT
BEGIN:STANDARD
TZOFFSETFROM:+0200
TZOFFSETTO:+0100
TZNAME:CET
DTSTART:20241027T010000
END:STANDARD
END:VTIMEZONE
BEGIN:VEVENT
DTSTART;TZID=Europe/Berlin:20230912T170000
DTEND;TZID=Europe/Berlin:20230917T220000
DTSTAMP:20260419T180828
CREATED:20230823T170650Z
LAST-MODIFIED:20230823T171148Z
UID:8046-1694538000-1694988000@clockworkbanana.com
SUMMARY:Indonesian Week
DESCRIPTION:Classic Indonesian dishes\, all gluten free\, and vegan optional. All food contains peanuts\, or may contain traces of peanuts.\nBeef Rendang €16 (contains peanuts) \nSlow cooked beef in aromatic coconut sauce\, with nasi kuning (yellow rice)\, karedok salad and krupuk crackers\nVegan Beef Rendang €15 (contains peanuts) \nTofu\, oyster mushrooms and aubergine in aromatic coconut sauce\, with nasi kuning (yellow rice)\, karedok salad and krupuk crackers\nChicken Satay Plate €15 (contains peanuts) \nTwo chicken satay skewers\, with nasi kuning (yellow rice)\, karedok salad\, peanut sauce and krupuk crackers\nVegan Chicken Satay Plate €15 (contains peanuts) \nTwo vegan chicken satay skewers\, with nasi kuning (yellow rice)\, karedok salad\, peanut sauce and krupuk crackers\nTempeh Goreng Plate €14 (contains peanuts) \nFried tempeh with nasi kuning (yellow rice)\, karedok salad\, peanut sauce and krupuk crackers \nSides\nTwo chicken satay skewers with peanut sauce €7\nTwo vegan chicken satay skewers with peanut sauce €7\nFried tempeh with peanut sauce €6\nKaredok salad – fresh vegetables in peanut sauce €6\nNasi kuning (yellow rice) €3.50\nKrupuk crackers (vo) €3\nPeanut sauce €1.50\nSuperhot sambal sauce €1.50 \nhttps://www.facebook.com/events/647852100698810/
URL:https://clockworkbanana.com/event/indonesian-week-2/
LOCATION:Weserstraße 168\, 12045 Berlin\, Deutschland
CATEGORIES:Food
ATTACH;FMTTYPE=image/jpeg:https://clockworkbanana.com/wp-content/uploads/2023/08/362243466_754127053387594_9123676538449481210_n.jpg
ORGANIZER;CN="Crazy Bastrd Kitchen":MAILTO:noreply@facebookmail.com
END:VEVENT
BEGIN:VEVENT
DTSTART;TZID=Europe/Berlin:20230912T180000
DTEND;TZID=Europe/Berlin:20230916T190000
DTSTAMP:20260419T180828
CREATED:20230908T112403Z
LAST-MODIFIED:20230908T112403Z
UID:8139-1694541600-1694890800@clockworkbanana.com
SUMMARY:Benedict Yu - ENRAPTURED
DESCRIPTION:Opening: Tuesday\, September 12th\, 6 – 9 pm \nDuration: September 13th – 16th\, Tuesday – Saturday 2 – 7 pm \nLocation: SomoS – Kottbusser Damm 95\, 1.0G\, 10967\, Berlin \nFree entry \nCoinciding with Berlin Art Week\, multi-disciplinary artist Benedict Yu’s solo show Enraptured conflates the spiritual and the bodily\, describing one in terms of the other\, making use of virtual reality technology\, video\, digital print\, painting\, and installation. \nAbout\nRaised in Taiwan and educated in Singapore\, Benedict Yu presents his artworks for the first time in Germany in his solo exhibition Enraptured. Inspired by the artist’s varied religious and cultural backgrounds and the liberal atmosphere of Berlin\, Enraptured symbolizes a passionate artistic quest for self-discovery. His work employs religious motives from Christianity and Buddhism\, used in ambiguous ways that seek the holy in the sensual and vice versa. \nCentral to the exhibition is the innovative use of virtual reality technology\, where Yu invites viewers into an alternate cosmic realm. Within this space\, visitors are surrounded by 27 figure drawings brought to life through VR\, a testament to Yu’s dedicated work during his residency. The pieces in this series\, titled Consummation\, were painted blindly\, merely by touch\, with the last one representing a self-portrait created on the artist’s 27th birthday. \nEnraptured also includes a dance video\, an installation piece\, over-painted digital prints\, and the results of his live painting performance Peregrination. Benedict Yu’s work in the versatile yet conceptually coherent Enraptured show encapsulates the struggles and triumphs of embracing seemingly conflicting facets of the self\, inviting viewers to reflect on their own journeys of self-discovery and growth. \n………………………………………………………………………………………………\nAbout Benedict Yu \nBenedict Yu is a Taiwanese Singapore-based multi-disciplinary artist and cultural entrepreneur/manager who works in virtual reality\, painting\, and installation. Yu received his diploma in Fine Arts from LASALLE College of the Arts Singapore in 2017. In 2017\, Benedict received a research award from the same institution\, which allowed him to conduct research in Lhasa\, Tibet. Yu’s projects have been presented in London\, Kyoto\, Tokyo\, Barcelona\, Rovereto\, Singapore\, and Taiwan.
URL:https://clockworkbanana.com/event/benedict-yu-enraptured/
LOCATION:Berlin
CATEGORIES:Art
ATTACH;FMTTYPE=image/jpeg:https://clockworkbanana.com/wp-content/uploads/2023/09/com.Icosa_.OpenBrush-20230810-224138.jpg
ORGANIZER;CN="SomoS Arts":MAILTO:somos@somos-arts.org
END:VEVENT
BEGIN:VEVENT
DTSTART;TZID=Europe/Berlin:20230913T000000
DTEND;TZID=Europe/Berlin:20230917T234500
DTSTAMP:20260419T180828
CREATED:20230702T162826Z
LAST-MODIFIED:20230702T164313Z
UID:7761-1694563200-1694994300@clockworkbanana.com
SUMMARY:Berlin Art Week 13—17 SEP 2023
DESCRIPTION:Berlin Art Week will take place for the 12th time from 13—17 SEP 2023\nStay tuned for upcoming news in the following months and also follow us on Instagram\, TikTok and Twitter!\n#BerlinArtWeek \nwww.instagram.com/berlinartweek\n> www.tiktok.com/@berlinartweek\n> www.twitter.com/BerlinArtWeek \nSign up for our Newsletter at: www.berlinartweek.de/en\nBerlin Art Week is a platform and major collaboration between the most important institutions in the Berlin art world. Once a year\, we present a diverse programme with over 50 partners ranging from museums to exhibition houses\, fairs\, private collections\, project spaces\, and numerous galleries. Our partners open their doors together and invite the public to discover something new and to immerse themselves in ongoing developments in the world of contemporary art. Art experts and art lovers from Berlin\, Germany and around the world are invited to exhibitions\, performances\, screenings and an extensive festival week programme.\nBerlin Art Week is a project of Kulturprojekte Berlin. It is made possible with the support of the Senate Department for Culture and Community\, the Senate Department for Economics\, Energy and Public Enterprises\, and realized with funding from Berliner Volksbank eG.\n__________________________________\nDie Berlin Art Week findet vom 13—17 SEP 2023 zum 12. Mal statt.\nUm in den kommenden Monaten auf dem neuesten Stand zu bleiben\, folgt uns auch auf Instagram\, TikTok und Twitter!\n#BerlinArtWeek\n> www.instagram.com/berlinartweek\n> www.tiktok.com/@berlinartweek\n> www.twitter.com/BerlinArtWeek\nMeldet euch auch für unseren Newsletter an: www.berlinartweek.de\nDie Berlin Art Week ist Plattform und größter Zusammenschluss der wichtigsten Akteur*innen der zeitgenössische Berliner Kunstszene. Einmal im Jahr präsentieren wir mit über 50 Partnern von Museen über Ausstellungshäuser\, zu Messen\, Privatsammlungen und Projekträumen sowie mit zahlreichen Galerien ein vielfältiges Programm. Gemeinsam öffnen die Partner ihre Türen und laden dazu ein\, während der Kunstwoche neue Entdeckungen zu machen und in aktuelle Entwicklungen der zeitgenössischen Kunst einzutauchen. Kunstexpert*innen\, Kunstbegeisterte\, internationale und nationale Gäste wie Berliner*innen sind zu den Ausstellungen\, Performances\, Screenings und umfangreichen Vermittlungsangeboten der Festivalwoche eingeladen.\nDie Berlin Art Week ist ein Projekt von Kulturprojekte Berlin. Sie wird gefördert von der Senatsverwaltung für Kultur und Gesellschaftlichen Zusammenhalt\, der Senatsverwaltung für Wirtschaft\, Energie und Betriebe sowie dem Europäischen Fonds für Regionale Entwicklung (EFRE). Die Realisierung erfolgt mit Unterstützung der Berliner Volksbank eG.\nhttps://www.facebook.com/events/1250974242200619/
URL:https://clockworkbanana.com/event/berlin-art-week-13-17-sep-2023/
LOCATION:Berlin
CATEGORIES:Art
ATTACH;FMTTYPE=image/jpeg:https://clockworkbanana.com/wp-content/uploads/2023/07/355094318_585947703664009_3464405978951325735_n.jpg
ORGANIZER;CN="Berlin Art Week":MAILTO:noreply@facebookmail.com
END:VEVENT
BEGIN:VEVENT
DTSTART;TZID=Europe/Berlin:20230914T190000
DTEND;TZID=Europe/Berlin:20230917T200000
DTSTAMP:20260419T180828
CREATED:20230910T090016Z
LAST-MODIFIED:20230910T090648Z
UID:8172-1694718000-1694980800@clockworkbanana.com
SUMMARY:Tunnelscapes and Kohle
DESCRIPTION:Tunnelscapes Animation created by the Stuttgart filmmaker Michi Meier and Art-drawings by John Klinkenberg. \nTunnelscapes film was shown in Haarlem and Amsterdam in the Netherlands and Theaterhaus Stuttgart “Anita Berber” – Lange Nacht der Musea Wagenhalle Stuttgart – Staatsgalerie Stuttgart – Stadspark Stuttgart Festival – Teufelsberg Berlin – September 2023 Retramp Galerie: Tunnelscapes drawings and charcoals inspired by Ukraine. \nOpening times:\nFriday: 7 pm – 9 pm\nSaturday: 3 pm – 8 pm\nSunday: 3 pm – 8 pm \nhttps://www.facebook.com/events/1750427012077469/
URL:https://clockworkbanana.com/event/tunnelscapes-and-kohle/
LOCATION:ReTramp
ATTACH;FMTTYPE=image/jpeg:https://clockworkbanana.com/wp-content/uploads/2023/09/369730999_769986888465643_5305282918560624783_n.jpg
ORGANIZER;CN="ReTramp":MAILTO:noreply@facebookmail.com
END:VEVENT
BEGIN:VEVENT
DTSTART;TZID=Europe/Berlin:20230915T230000
DTEND;TZID=Europe/Berlin:20230916T020000
DTSTAMP:20260419T180828
CREATED:20230910T095909Z
LAST-MODIFIED:20230910T100122Z
UID:8188-1694818800-1694829600@clockworkbanana.com
SUMMARY:Existential Guess Who - Using a LIVE AUDIENCE
DESCRIPTION:Hosted by Chris Davis and Noah Telson \nPhilosophers of existentialism focus on things like existential crisis\, and dread\, and anxiety\, and all of this in the face of an absurdity! So\, you know\, every Berliner after the weekend? Let’s cure that existential nightmare of yours and play a game of Existential Guess Who with a live audience!\nWe’ll figure out who is who by eliminating each individual in the room with existential questions until one person is left sitting – relieved that they finally have a purpose in life! \nQuestions:\nDoes this person enjoy reading romance novels?\nIs the person a Trump supporter?\nDo they think the Earth is flat?\nWould they gain entry to Berghain?\nWould they ever rob a bank?\nDo they have a tattoo they regret?\nWould this person be responsible for an economic crash?\nHave they ever been in jail?\nCome find out who you really are and join us for an hour of friendly\, supportive and inclusive fun.\n————–\nDoors open 15 minutes before scheduled show time. Please be aware that seats may be released at show time and latecomers may be denied entry or given standing room entry. \nThis is a FREE show \nUnless otherwise stated\, all shows are in English.\nPlease enjoy a drink at the bar before and after the show! (It’s how we keep the doors open.)\nIn partnership with Berlin English Improv Network and Comedy in English Berlin.\nInterested in taking comedy classes? Check out The CCB Training School. \nhttps://www.facebook.com/events/299638529318666/
URL:https://clockworkbanana.com/event/existential-guess-who-using-a-live-audience/
LOCATION:Comedy Café Berlin
CATEGORIES:Comedy
ATTACH;FMTTYPE=image/jpeg:https://clockworkbanana.com/wp-content/uploads/2023/09/376818908_806412384820491_8221799713868656461_n.jpg
ORGANIZER;CN="Comedian Chris Davis":MAILTO:noreply@facebookmail.com
END:VEVENT
BEGIN:VEVENT
DTSTART;TZID=Europe/Berlin:20230916T140000
DTEND;TZID=Europe/Berlin:20230916T200000
DTSTAMP:20260419T180828
CREATED:20230910T083002Z
LAST-MODIFIED:20230910T083545Z
UID:8162-1694872800-1694894400@clockworkbanana.com
SUMMARY:PIE FEST @ Berggarten
DESCRIPTION:We’re ringing in autumn with a food festival with a difference! Taste the city’s tastiest soul food: savoury and sweet pies\, sausage rolls and various delicacies that will make your foodie heart skip a beat. Accompanied by local wines and\, of course\, the freshest beer in Berlin on tap.\nThe local heroes of the pie scene will be there:\nDonau101\nHumble Pie\nNice Pies\nSanto Taco\nSausage Man Never Sleeps\nCrazy Bastard Sauces\n_________________________________________________________ \nAttention: partly CASH ONLY\nAdmission: 2€ (pay at the entrance\, children under 12 free) \nBook ticket free of charge: https://www.eventbrite.com/e/pie-fest-berggarten-tickets-708406822877?aff=oddtdtcreator \nhttps://www.facebook.com/events/819885336466136/
URL:https://clockworkbanana.com/event/pie-fest-berggarten/
LOCATION:Berliner Berg
CATEGORIES:Food
ATTACH;FMTTYPE=image/jpeg:https://clockworkbanana.com/wp-content/uploads/2023/09/374576194_785711973561678_4646008517755928964_n-1.jpg
ORGANIZER;CN="Berliner Berg":MAILTO:noreply@facebookmail.com
END:VEVENT
BEGIN:VEVENT
DTSTART;TZID=Europe/Berlin:20230916T190000
DTEND;TZID=Europe/Berlin:20230916T230000
DTSTAMP:20260419T180828
CREATED:20230912T025916Z
LAST-MODIFIED:20230912T025916Z
UID:8206-1694890800-1694905200@clockworkbanana.com
SUMMARY:Cosmic Comedy Club Berlin : Showcase
DESCRIPTION:Cosmic Comedy Club Berlin : Showcase\nSaturday 16th September 2023 \nThis show is in English. \nJoin us for Cosmic Comedy Club Berlin at our brand new venue and as always every show with Free Vegan and Vegetarian Pizza & Shots \nHosted by:\nDharmander Singh (UK) & Neil Numb (SCOT) \n★★★★★ THE ACTS ★★★★★ \nTyrone Stallone (US)\nAhmed Ibrahim (UK)\nPascal Hausberger (AUS)\nShannon Brooke (AUS)\nDahn Rozario (AUS) \n★★★★★ OPENING TIMES ★★★★★ \nPre-Drinks : 7pm – 9pm\nPizza: 8.15pm\nMain Show : 9pm – 11pm\n2for1 on selected drinks 7pm – 8pm \n★★★★★ HOT SAUCE ★★★★★ \nWe are the only comedy club in the world that has hot sauce shop\, get your hands on some of the best hot sauces in Europe and beyond. https://bit.ly/cosmichotsauce \n★★★★★ TICKETS ★★★★★ \nThe tickets price includes 7% VAT\nhttps://comedyclubberlin.com/events/ \n★★★★★ THE VENUE ★★★★★ \nKookaburra Comedy Club\nSchönhauser Allee 184\, 10119 Berlin\nhttps://bit.ly/3vOs1hH \n★★★★★ COMMUNITY ★★★★★ \nPlease join our Comedy Telegram group to communicate with other nice people going to comedy events in Berlin: http://bit.ly/berlinsocialchat
URL:https://clockworkbanana.com/event/cosmic-comedy-club-berlin-showcase-85/
LOCATION:Kookaburra Comedy Club\, Schönhauser Allee 184\, Berlin\, 10119\, Germany
CATEGORIES:Comedy
ATTACH;FMTTYPE=image/jpeg:https://clockworkbanana.com/wp-content/uploads/2023/09/Saturday-16th-September-2023.jpg
END:VEVENT
END:VCALENDAR