BEGIN:VCALENDAR
VERSION:2.0
PRODID:-//Clockwork Banana - ECPv6.15.20//NONSGML v1.0//EN
CALSCALE:GREGORIAN
METHOD:PUBLISH
X-ORIGINAL-URL:https://clockworkbanana.com
X-WR-CALDESC:Events for Clockwork Banana
REFRESH-INTERVAL;VALUE=DURATION:PT1H
X-Robots-Tag:noindex
X-PUBLISHED-TTL:PT1H
BEGIN:VTIMEZONE
TZID:Europe/Berlin
BEGIN:DAYLIGHT
TZOFFSETFROM:+0100
TZOFFSETTO:+0200
TZNAME:CEST
DTSTART:20220327T010000
END:DAYLIGHT
BEGIN:STANDARD
TZOFFSETFROM:+0200
TZOFFSETTO:+0100
TZNAME:CET
DTSTART:20221030T010000
END:STANDARD
BEGIN:DAYLIGHT
TZOFFSETFROM:+0100
TZOFFSETTO:+0200
TZNAME:CEST
DTSTART:20230326T010000
END:DAYLIGHT
BEGIN:STANDARD
TZOFFSETFROM:+0200
TZOFFSETTO:+0100
TZNAME:CET
DTSTART:20231029T010000
END:STANDARD
BEGIN:DAYLIGHT
TZOFFSETFROM:+0100
TZOFFSETTO:+0200
TZNAME:CEST
DTSTART:20240331T010000
END:DAYLIGHT
BEGIN:STANDARD
TZOFFSETFROM:+0200
TZOFFSETTO:+0100
TZNAME:CET
DTSTART:20241027T010000
END:STANDARD
END:VTIMEZONE
BEGIN:VEVENT
DTSTART;TZID=Europe/Berlin:20231003T170000
DTEND;TZID=Europe/Berlin:20231008T220000
DTSTAMP:20260419T151709
CREATED:20230926T142200Z
LAST-MODIFIED:20230926T142952Z
UID:8424-1696352400-1696802400@clockworkbanana.com
SUMMARY:MEXICAN WEEK at Crazy Bastard Kitchen
DESCRIPTION:Tapas-style small dishes to mix and share 2-3 per person is recommended. \nPOZOLE ROJO – €9 (vo)(gf)\nMexican stew with hominy corn and beef or vegan barbacoa mince\,\nserved with side of garnishes: tortilla strips\, lime\, radish\,\ncoriander\, pickled red onion and chilis \nBIRRIA CHEESE TACOS – €8 (vo)(gf)\nTwo tortillas filled with Birria slow cooked beef and cheese\, dipped in Birria stew and grilled. Served with birria stew dip. vegan or veggie optional with barbacoa vegan mince. \nCHILIQUILES VERDE – €6 (vo)(gf)\nTortilla chips cooked in salsa verde (medium)\, with queso fresco or guacamole\nAdd fried egg +€1\n​\nTAMALES – €5 (v)(gf)\nCorn husk with soft corn dough filled with pinto beans and poblano chili\,\n​served with salsa verde \nTOTOPOS GUACAMOLE (avocado nachos) – €7 (v)(gf)\nTortilla chips with pinto beans\, pica de Gallo salsa\, pickled chilis\,\nshredded slaw and guacamole. Great for sharing \nEXTRAS:\nRefried Pinto beans – €3 (v)(gf)\nGuacamole – €3 (v)(gf)\nTortilla chips – €3 (v) (gf)\nPica de Gallo Salsa – €1\,50 (v)(gf)\nSalsa Verde – €1.50 (v)(gf)\nSour cream – €1.50 (gf) \nhttps://www.facebook.com/events/642369564697622/
URL:https://clockworkbanana.com/event/mexican-week-at-crazy-bastard-kitchen/
LOCATION:Crazy Bastrd Kitchen
CATEGORIES:Food
ATTACH;FMTTYPE=image/jpeg:https://clockworkbanana.com/wp-content/uploads/2023/09/378295469_788710103262622_8427191645717227722_n.jpg
ORGANIZER;CN="Crazy Bastrd Kitchen":MAILTO:noreply@facebookmail.com
END:VEVENT
BEGIN:VEVENT
DTSTART;TZID=Europe/Berlin:20231006T150000
DTEND;TZID=Europe/Berlin:20231006T180000
DTSTAMP:20260419T151709
CREATED:20230926T133810Z
LAST-MODIFIED:20230926T134140Z
UID:8403-1696604400-1696615200@clockworkbanana.com
SUMMARY:19. FESTIVAL OF LIGHTS "Colours of Life"
DESCRIPTION:As every year in autumn\, Berlin becomes the city of light art. The light productions on the world-famous landmarks\, monuments\, buildings and squares of the German capital make the FESTIVAL OF LIGHTS one of the most popular light art festivals in the world. Together with national and international artists\, the Festival of Lights team transforms Berlin into one big shining stage – the whole of Berlin lights up! We tell stories\, draw attention to what is hidden in the neighbourhoods\, present cultures and the arts\, and convey messages and themes. Magic moments in Berlin! \n𝟎𝟔. – 𝟏𝟓. 𝐎𝐤𝐭𝐨𝐛𝐞𝐫 𝟐𝟎𝟐𝟑.\nThe illuminations can be seen every festival evening from 7pm to 11pm. The visit is free of charge. \n𝐂𝐨𝐥𝐨𝐮𝐫𝐬 𝐨𝐟 𝐋𝐢𝐟𝐞\nOur diverse life\, staged on Berlin’s most famous landmarks.\nIn our own special way: bright\, radiant\, colourful and artistic. An immersion in colourful worlds. With the “Colours of Life”. \nWe want to use light art to show how multifaceted and beautiful life is in a diverse society. How we can all win with mutual respect and appreciation. And how a creative diversity arises from very different ways of shaping life\, which always brings forth something new and exciting. Not only in Berlin. \nhttps://www.facebook.com/events/302246282209496/
URL:https://clockworkbanana.com/event/19-festival-of-lights-colours-of-life/
LOCATION:Festival of Lights
ATTACH;FMTTYPE=image/jpeg:https://clockworkbanana.com/wp-content/uploads/2023/09/366169205_249234324653082_56717413931921546_n-1.jpg
ORGANIZER;CN="Mim Mim":MAILTO:noreply@facebookmail.com
END:VEVENT
BEGIN:VEVENT
DTSTART;TZID=Europe/Berlin:20231006T190000
DTEND;TZID=Europe/Berlin:20231006T230000
DTSTAMP:20260419T151709
CREATED:20231001T203618Z
LAST-MODIFIED:20231001T203618Z
UID:8504-1696618800-1696633200@clockworkbanana.com
SUMMARY:Cosmic Comedy Club Berlin : Showcase
DESCRIPTION:Cosmic Comedy Club Berlin : Showcase\nFriday 6th October 2023 \nThis show is in English. \nJoin us for Cosmic Comedy Club Berlin at our brand new venue and as always every show with Free Vegan and Vegetarian Pizza & Shots \nHosted by:\nDharmander Singh (UK) & Neil Numb (SCOT) \n★★★★★ THE ACTS ★★★★★ \nTyrone Stallone (USA)\nAnja Woot (SLO)\nToby Arsalan (DE)\nSam Serrano (UK) \n★★★★★ OPENING TIMES ★★★★★ \nPre-Drinks : 7pm – 9pm\nPizza: 8.15pm\nMain Show : 9pm – 11pm\n2for1 on selected drinks 7pm – 8pm \n★★★★★ HOT SAUCE ★★★★★ \nWe are the only comedy club in the world that has hot sauce shop\, get your hands on some of the best hot sauces in Europe and beyond. https://bit.ly/cosmichotsauce \n★★★★★ TICKETS ★★★★★ \nThe tickets price includes 7% VAT\nhttps://comedyclubberlin.com/events/ \n★★★★★ THE VENUE ★★★★★ \nKookaburra Comedy Club\nSchönhauser Allee 184\, 10119 Berlin\nhttps://bit.ly/3vOs1hH \n★★★★★ COMMUNITY ★★★★★ \nPlease join our Comedy Telegram group to communicate with other nice people going to comedy events in Berlin: http://bit.ly/berlinsocialchat
URL:https://clockworkbanana.com/event/cosmic-comedy-club-berlin-showcase-90/
LOCATION:Kookaburra Comedy Club\, Schönhauser Allee 184\, Berlin\, 10119\, Germany
CATEGORIES:Comedy
ATTACH;FMTTYPE=image/jpeg:https://clockworkbanana.com/wp-content/uploads/2023/10/Friday-6th-October-2023.jpg
END:VEVENT
END:VCALENDAR