BEGIN:VCALENDAR
VERSION:2.0
PRODID:-//Clockwork Banana - ECPv6.15.20//NONSGML v1.0//EN
CALSCALE:GREGORIAN
METHOD:PUBLISH
X-ORIGINAL-URL:https://clockworkbanana.com
X-WR-CALDESC:Events for Clockwork Banana
REFRESH-INTERVAL;VALUE=DURATION:PT1H
X-Robots-Tag:noindex
X-PUBLISHED-TTL:PT1H
BEGIN:VTIMEZONE
TZID:Europe/Berlin
BEGIN:DAYLIGHT
TZOFFSETFROM:+0100
TZOFFSETTO:+0200
TZNAME:CEST
DTSTART:20220327T010000
END:DAYLIGHT
BEGIN:STANDARD
TZOFFSETFROM:+0200
TZOFFSETTO:+0100
TZNAME:CET
DTSTART:20221030T010000
END:STANDARD
BEGIN:DAYLIGHT
TZOFFSETFROM:+0100
TZOFFSETTO:+0200
TZNAME:CEST
DTSTART:20230326T010000
END:DAYLIGHT
BEGIN:STANDARD
TZOFFSETFROM:+0200
TZOFFSETTO:+0100
TZNAME:CET
DTSTART:20231029T010000
END:STANDARD
BEGIN:DAYLIGHT
TZOFFSETFROM:+0100
TZOFFSETTO:+0200
TZNAME:CEST
DTSTART:20240331T010000
END:DAYLIGHT
BEGIN:STANDARD
TZOFFSETFROM:+0200
TZOFFSETTO:+0100
TZNAME:CET
DTSTART:20241027T010000
END:STANDARD
END:VTIMEZONE
BEGIN:VEVENT
DTSTART;TZID=Europe/Berlin:20231003T170000
DTEND;TZID=Europe/Berlin:20231008T220000
DTSTAMP:20260419T145209
CREATED:20230926T142200Z
LAST-MODIFIED:20230926T142952Z
UID:8424-1696352400-1696802400@clockworkbanana.com
SUMMARY:MEXICAN WEEK at Crazy Bastard Kitchen
DESCRIPTION:Tapas-style small dishes to mix and share 2-3 per person is recommended. \nPOZOLE ROJO – €9 (vo)(gf)\nMexican stew with hominy corn and beef or vegan barbacoa mince\,\nserved with side of garnishes: tortilla strips\, lime\, radish\,\ncoriander\, pickled red onion and chilis \nBIRRIA CHEESE TACOS – €8 (vo)(gf)\nTwo tortillas filled with Birria slow cooked beef and cheese\, dipped in Birria stew and grilled. Served with birria stew dip. vegan or veggie optional with barbacoa vegan mince. \nCHILIQUILES VERDE – €6 (vo)(gf)\nTortilla chips cooked in salsa verde (medium)\, with queso fresco or guacamole\nAdd fried egg +€1\n​\nTAMALES – €5 (v)(gf)\nCorn husk with soft corn dough filled with pinto beans and poblano chili\,\n​served with salsa verde \nTOTOPOS GUACAMOLE (avocado nachos) – €7 (v)(gf)\nTortilla chips with pinto beans\, pica de Gallo salsa\, pickled chilis\,\nshredded slaw and guacamole. Great for sharing \nEXTRAS:\nRefried Pinto beans – €3 (v)(gf)\nGuacamole – €3 (v)(gf)\nTortilla chips – €3 (v) (gf)\nPica de Gallo Salsa – €1\,50 (v)(gf)\nSalsa Verde – €1.50 (v)(gf)\nSour cream – €1.50 (gf) \nhttps://www.facebook.com/events/642369564697622/
URL:https://clockworkbanana.com/event/mexican-week-at-crazy-bastard-kitchen/
LOCATION:Crazy Bastrd Kitchen
CATEGORIES:Food
ATTACH;FMTTYPE=image/jpeg:https://clockworkbanana.com/wp-content/uploads/2023/09/378295469_788710103262622_8427191645717227722_n.jpg
ORGANIZER;CN="Crazy Bastrd Kitchen":MAILTO:noreply@facebookmail.com
END:VEVENT
BEGIN:VEVENT
DTSTART;TZID=Europe/Berlin:20231007T160000
DTEND;TZID=Europe/Berlin:20231007T220000
DTSTAMP:20260419T145209
CREATED:20230926T144432Z
LAST-MODIFIED:20230926T144841Z
UID:8441-1696694400-1696716000@clockworkbanana.com
SUMMARY:SAKE WEEK SPECIAL DINNER - ALICE ROOFTOP & GARDEN
DESCRIPTION:Following the impressive launch of the Berlin Sake Week last year\, we are excited to present another highlight this year: An exclusive event on October 7th at the Alice Rooftop.\nAt this breathtaking location overlooking Berlin’s skyline\, Sake enthusiasts can look forward to not only unique Sake experiences but also a culinary menu that is second to none:\nReception: \nMini Okonomiyaki with Shiso Yuzu Mayo\nDeep Fried Sushi Rice Balls on Wakame Salad with Miso Mayo\nServed on disposable plates\, accompanied by a wooden fork. \nIndoor Menu:\nAmuse-Bouche:\nNori-Wasabi Focaccia with a Sesame-Salt Lemon Dip \nStarter:\nGrilled Corn on the Cob Ribs Salad\, enhanced with Parmesan and a Miso Ponzu Dressing\nMain Courses (Choice of):\nSmoked Beef Brisket in Ramen X.O. Sauce\, paired with Edamame\, Grilled Carrot\, and served on a Yuzu Potato Purée\nGrilled Hokkaido Pumpkin with peanuts cooked in soy milk\, served on Yuzu Potato Purée and a touch of Chili-Garlic Crunch\nDessert:\nCreamy Quark Flan\, topped with Miso Caramel and Lemongrass Plums\nPrice: 65 Euros per person.\nDon’t miss out on this culinary highlight during the Sake Week!\n*Kitchen closes at 10 PM.\nIMPORTANT: If you are a group either purchase all the tickets under one name or order\, or let us know so we can sit you all together. E-mail: events@alice-rooftop.de \n+ + + + + + + + + + + + + + + + + + + + + + + + + + + + + + + + \nLOCATION:\nALICE Rooftop & Garden (5. OG im LIVING Berlin)\nKantstrasse 17\, 10623 Berlin\nwww.alice-rooftop.de\nE-Mail: events@alice-rooftop.de\nTelefon: 030 319 91 841\nhttps://www.facebook.com/events/6388188571307791/
URL:https://clockworkbanana.com/event/sake-week-special-dinner-alice-rooftop-garden/
LOCATION:Kantstraße 17\,Berlin\,10623\,DE
CATEGORIES:Food
ATTACH;FMTTYPE=image/jpeg:https://clockworkbanana.com/wp-content/uploads/2023/09/378122272_2042304226161985_873325879049091308_n.jpg
ORGANIZER;CN="Eventbrite":MAILTO:noreply@facebookmail.com
END:VEVENT
BEGIN:VEVENT
DTSTART;TZID=Europe/Berlin:20231007T190000
DTEND;TZID=Europe/Berlin:20231007T230000
DTSTAMP:20260419T145209
CREATED:20231002T081118Z
LAST-MODIFIED:20231002T081118Z
UID:8510-1696705200-1696719600@clockworkbanana.com
SUMMARY:Cosmic Comedy Club Berlin : Showcase
DESCRIPTION:Cosmic Comedy Club Berlin : Showcase\nSaturday 7th October 2023 \nThis show is in English. \nJoin us for Cosmic Comedy Club Berlin at our brand new venue and as always every show with Free Vegan and Vegetarian Pizza & Shots \nHosted by:\nDharmander Singh (UK) & Neil Numb (SCOT) \n★★★★★ THE ACTS ★★★★★ \nDrew Portnoy (USA)\nFitz Gessler (N.Z)\nDivya Mirlay (IND)\nSam Serrano (UK) \n★★★★★ OPENING TIMES ★★★★★ \nPre-Drinks : 7pm – 9pm\nPizza: 8.15pm\nMain Show : 9pm – 11pm\n2for1 on selected drinks 7pm – 8pm \n★★★★★ HOT SAUCE ★★★★★ \nWe are the only comedy club in the world that has hot sauce shop\, get your hands on some of the best hot sauces in Europe and beyond. https://bit.ly/cosmichotsauce \n★★★★★ TICKETS ★★★★★ \nThe tickets price includes 7% VAT\nhttps://comedyclubberlin.com/events/ \n★★★★★ THE VENUE ★★★★★ \nKookaburra Comedy Club\nSchönhauser Allee 184\, 10119 Berlin\nhttps://bit.ly/3vOs1hH \n★★★★★ COMMUNITY ★★★★★ \nPlease join our Comedy Telegram group to communicate with other nice people going to comedy events in Berlin: http://bit.ly/berlinsocialchat
URL:https://clockworkbanana.com/event/cosmic-comedy-club-berlin-showcase-91/
LOCATION:Kookaburra Comedy Club\, Schönhauser Allee 184\, Berlin\, 10119\, Germany
CATEGORIES:Comedy
ATTACH;FMTTYPE=image/jpeg:https://clockworkbanana.com/wp-content/uploads/2023/10/Saturday-7th-October-2023.jpg
END:VEVENT
END:VCALENDAR