BEGIN:VCALENDAR
VERSION:2.0
PRODID:-//Clockwork Banana - ECPv6.15.20//NONSGML v1.0//EN
CALSCALE:GREGORIAN
METHOD:PUBLISH
X-ORIGINAL-URL:https://clockworkbanana.com
X-WR-CALDESC:Events for Clockwork Banana
REFRESH-INTERVAL;VALUE=DURATION:PT1H
X-Robots-Tag:noindex
X-PUBLISHED-TTL:PT1H
BEGIN:VTIMEZONE
TZID:Europe/Berlin
BEGIN:DAYLIGHT
TZOFFSETFROM:+0100
TZOFFSETTO:+0200
TZNAME:CEST
DTSTART:20220327T010000
END:DAYLIGHT
BEGIN:STANDARD
TZOFFSETFROM:+0200
TZOFFSETTO:+0100
TZNAME:CET
DTSTART:20221030T010000
END:STANDARD
BEGIN:DAYLIGHT
TZOFFSETFROM:+0100
TZOFFSETTO:+0200
TZNAME:CEST
DTSTART:20230326T010000
END:DAYLIGHT
BEGIN:STANDARD
TZOFFSETFROM:+0200
TZOFFSETTO:+0100
TZNAME:CET
DTSTART:20231029T010000
END:STANDARD
BEGIN:DAYLIGHT
TZOFFSETFROM:+0100
TZOFFSETTO:+0200
TZNAME:CEST
DTSTART:20240331T010000
END:DAYLIGHT
BEGIN:STANDARD
TZOFFSETFROM:+0200
TZOFFSETTO:+0100
TZNAME:CET
DTSTART:20241027T010000
END:STANDARD
END:VTIMEZONE
BEGIN:VEVENT
DTSTART;TZID=Europe/Berlin:20231024T170000
DTEND;TZID=Europe/Berlin:20231029T220000
DTSTAMP:20260419T161655
CREATED:20230926T143527Z
LAST-MODIFIED:20230926T143904Z
UID:8433-1698166800-1698616800@clockworkbanana.com
SUMMARY:Kentucky Fried Week
DESCRIPTION:Four fried chicken dishes also available vegan! Vegan optional = vo\nFRIED CHICKEN PLATE €16\nSander’s original fried chicken thigh\, leg and wing\, with mashed potatoes and gravy or mac and cheese. Served with coleslaw\nVEGAN/VEGETARIAN FRIED CHICKEN PLATE (vo) €15\nVegan fried chicken fillets with mashed potatoes and gravy or mac and cheese. Served with coleslaw\nFRIED CHICKEN SANDWICH\nSander’s original recipe fried chicken thigh\, in a brioche bun with coleslaw\, pickles and mayo €11\nVEGAN FRIED CHICKEN SANDWICH\nVegan fried chicken fillet\, in a brioche bun with coleslaw\, pickles and mayo €10\nEXTRAS\nMac n Cheese €6 (vo)\nMashed potatoes and gravy €6 (vo)\nColeslaw €3 (vo)\nFried Chicken Wing €2.50\nFried Chicken Leg €3.50\nFried Chicken Thigh €7\nFried Vegan Chicken €4.50 \nhttps://www.facebook.com/events/634692822086550/
URL:https://clockworkbanana.com/event/kentucky-fried-week/
LOCATION:Weserstraße 168\, 12045 Berlin\, Deutschland
CATEGORIES:Food
ATTACH;FMTTYPE=image/jpeg:https://clockworkbanana.com/wp-content/uploads/2023/09/378293001_788714179928881_5583993427681346267_n-1.jpg
ORGANIZER;CN="Crazy Bastrd Kitchen":MAILTO:noreply@facebookmail.com
END:VEVENT
BEGIN:VEVENT
DTSTART;TZID=Europe/Berlin:20231027T170000
DTEND;TZID=Europe/Berlin:20231027T200000
DTSTAMP:20260419T161655
CREATED:20231019T174146Z
LAST-MODIFIED:20231019T174437Z
UID:8703-1698426000-1698436800@clockworkbanana.com
SUMMARY:MUTED HORN 7th Anniversary & Cellarmaker Tap Takeover
DESCRIPTION:IT’S OUR BIRTHDAY!\n🎈🎂🍾🎂🎉🎂🎁\nJoin us on the weekend of Friday\, October 27 from 17:00 to celebrate MUTED HORN’s 7th anniversary with a Cellarmaker Tap Takeover!\nWe are so thankful for your support and friendship over the years\, and very happy to be part of this wonderful community. We’re really looking forward to celebrating with you all soon!\nThere will be 8 Cellarmaker beers on tap and 9 in cans/bottles\, for a total of ten different beers all flown over fresh from California. We’ll also have our annual birthday collaboration with FUERST WIACEK on tap and in cans\, plus a very special bottle selection and even a birthday magnum from Bofkont.\nDetails coming soon.\n🥳 🥳 🥳 🥳 🥳 🥳 🥳\nTAPLIST:\n•\n•\n•\n•\n•\n•\n•\n•\n•\n…\nCAN/BOTTLE LIST:\n•\n•\n•\n•\n•\n•\n•\n•\n•\n•\n…\n🥳🥳🥳🥳🥳\nTo ensure that everyone gets served quickly and efficiently\, we will not be offering tasting trays at this event. Instead\, most beers will be served in festival-style 0\,2L pours.\nAs with past events\, we hope this format will minimize waiting for drinks\, while still allowing you to fully enjoy these fantastic beers.\nWe hope to see you there!\n💜\nLove\,\nTeam MH\nhttps://www.facebook.com/events/315387471223101/
URL:https://clockworkbanana.com/event/muted-horn-7th-anniversary-cellarmaker-tap-takeover/
LOCATION:MUTED HORN
ATTACH;FMTTYPE=image/jpeg:https://clockworkbanana.com/wp-content/uploads/2023/10/394243432_1086831575961390_7703379509985239389_n.jpg
ORGANIZER;CN="MUTED HORN":MAILTO:noreply@facebookmail.com
END:VEVENT
BEGIN:VEVENT
DTSTART;TZID=Europe/Berlin:20231027T190000
DTEND;TZID=Europe/Berlin:20231027T230000
DTSTAMP:20260419T161655
CREATED:20231023T214206Z
LAST-MODIFIED:20231023T214206Z
UID:8728-1698433200-1698447600@clockworkbanana.com
SUMMARY:Cosmic Comedy Club Berlin : Showcase
DESCRIPTION:Cosmic Comedy Club Berlin : Showcase\nFriday 27th October 2023 \nThis show is in English. \nJoin us for Cosmic Comedy Club Berlin at our brand new venue and as always every show with Free Vegan and Vegetarian Pizza & Shots \nHosted by:\nDharmander Singh (UK) & Neil Numb (SCOT) \n★★★★★ THE ACTS ★★★★★ \nTodd Stuchiner (US)\nDom Hatton Woods (UK)\nDrew Portnoy (US)\nChris Loar (US) \n★★★★★ OPENING TIMES ★★★★★ \nPre-Drinks : 7pm – 9pm\nPizza: 8.15pm\nMain Show : 9pm – 11pm\n2for1 on selected drinks 7pm – 8pm \n★★★★★ HOT SAUCE ★★★★★ \nWe are the only comedy club in the world that has hot sauce shop\, get your hands on some of the best hot sauces in Europe and beyond. https://bit.ly/cosmichotsauce \n★★★★★ TICKETS ★★★★★ \nThe tickets price includes 7% VAT\nhttps://comedyclubberlin.com/events/ \n★★★★★ THE VENUE ★★★★★ \nKookaburra Comedy Club\nSchönhauser Allee 184\, 10119 Berlin\nhttps://bit.ly/3vOs1hH \n★★★★★ COMMUNITY ★★★★★ \nPlease join our Comedy Telegram group to communicate with other nice people going to comedy events in Berlin: http://bit.ly/berlinsocialchat
URL:https://clockworkbanana.com/event/cosmic-comedy-club-berlin-showcase-96/
CATEGORIES:Comedy
ATTACH;FMTTYPE=image/jpeg:https://clockworkbanana.com/wp-content/uploads/2023/10/Friday-27th-October-2023.jpg
END:VEVENT
END:VCALENDAR