BEGIN:VCALENDAR
VERSION:2.0
PRODID:-//Clockwork Banana - ECPv6.15.20//NONSGML v1.0//EN
CALSCALE:GREGORIAN
METHOD:PUBLISH
X-ORIGINAL-URL:https://clockworkbanana.com
X-WR-CALDESC:Events for Clockwork Banana
REFRESH-INTERVAL;VALUE=DURATION:PT1H
X-Robots-Tag:noindex
X-PUBLISHED-TTL:PT1H
BEGIN:VTIMEZONE
TZID:Europe/Berlin
BEGIN:DAYLIGHT
TZOFFSETFROM:+0100
TZOFFSETTO:+0200
TZNAME:CEST
DTSTART:20220327T010000
END:DAYLIGHT
BEGIN:STANDARD
TZOFFSETFROM:+0200
TZOFFSETTO:+0100
TZNAME:CET
DTSTART:20221030T010000
END:STANDARD
BEGIN:DAYLIGHT
TZOFFSETFROM:+0100
TZOFFSETTO:+0200
TZNAME:CEST
DTSTART:20230326T010000
END:DAYLIGHT
BEGIN:STANDARD
TZOFFSETFROM:+0200
TZOFFSETTO:+0100
TZNAME:CET
DTSTART:20231029T010000
END:STANDARD
BEGIN:DAYLIGHT
TZOFFSETFROM:+0100
TZOFFSETTO:+0200
TZNAME:CEST
DTSTART:20240331T010000
END:DAYLIGHT
BEGIN:STANDARD
TZOFFSETFROM:+0200
TZOFFSETTO:+0100
TZNAME:CET
DTSTART:20241027T010000
END:STANDARD
END:VTIMEZONE
BEGIN:VEVENT
DTSTART;TZID=Europe/Berlin:20231112T110000
DTEND;TZID=Europe/Berlin:20231112T140000
DTSTAMP:20260419T161713
CREATED:20231015T232959Z
LAST-MODIFIED:20231015T233304Z
UID:8596-1699786800-1699797600@clockworkbanana.com
SUMMARY:Cheese Berlin 2023
DESCRIPTION:Cheese is time. And like a good time\, good cheese cannot be fixed. It is alive and constantly changing. It is much more than stale\, solid or even dead milk: it matures and changes\, is a living natural product of time. \nThe time that cheese-makers give to it and to us when they\nmilking their animals in the barn early in the morning. The time that allows ripening milk to live longer as cheese. The time of attention that cheese requires when ripening. And also all the time it takes to learn to understand soil\, animal\, milk and craft in harmony. \nHere’s to a good time with good cheese: Cheese Berlin 2023. \nhttps://www.facebook.com/events/6616359651816828/
URL:https://clockworkbanana.com/event/cheese-berlin-2023/
LOCATION:Markthalle Neun
CATEGORIES:Cheese,Festival
ATTACH;FMTTYPE=image/jpeg:https://clockworkbanana.com/wp-content/uploads/2023/10/387864849_635059188784946_6646310807056289893_n.jpg
ORGANIZER;CN="Cheese Berlin":MAILTO:noreply@facebookmail.com
END:VEVENT
END:VCALENDAR