BEGIN:VCALENDAR
VERSION:2.0
PRODID:-//Clockwork Banana - ECPv6.15.20//NONSGML v1.0//EN
CALSCALE:GREGORIAN
METHOD:PUBLISH
X-ORIGINAL-URL:https://clockworkbanana.com
X-WR-CALDESC:Events for Clockwork Banana
REFRESH-INTERVAL;VALUE=DURATION:PT1H
X-Robots-Tag:noindex
X-PUBLISHED-TTL:PT1H
BEGIN:VTIMEZONE
TZID:Europe/Berlin
BEGIN:DAYLIGHT
TZOFFSETFROM:+0100
TZOFFSETTO:+0200
TZNAME:CEST
DTSTART:20220327T010000
END:DAYLIGHT
BEGIN:STANDARD
TZOFFSETFROM:+0200
TZOFFSETTO:+0100
TZNAME:CET
DTSTART:20221030T010000
END:STANDARD
BEGIN:DAYLIGHT
TZOFFSETFROM:+0100
TZOFFSETTO:+0200
TZNAME:CEST
DTSTART:20230326T010000
END:DAYLIGHT
BEGIN:STANDARD
TZOFFSETFROM:+0200
TZOFFSETTO:+0100
TZNAME:CET
DTSTART:20231029T010000
END:STANDARD
BEGIN:DAYLIGHT
TZOFFSETFROM:+0100
TZOFFSETTO:+0200
TZNAME:CEST
DTSTART:20240331T010000
END:DAYLIGHT
BEGIN:STANDARD
TZOFFSETFROM:+0200
TZOFFSETTO:+0100
TZNAME:CET
DTSTART:20241027T010000
END:STANDARD
END:VTIMEZONE
BEGIN:VEVENT
DTSTART;TZID=Europe/Berlin:20231113T120000
DTEND;TZID=Europe/Berlin:20231119T234500
DTSTAMP:20260419T161711
CREATED:20231016T001013Z
LAST-MODIFIED:20231016T001333Z
UID:8624-1699876800-1700437500@clockworkbanana.com
SUMMARY:True Italian Pasta Week 2023
DESCRIPTION:The True Italian Pasta Week is coming back in Berlin with an incredible offer:\n📣 A special PASTA – to choose between two variants + a drink for just 15 euros! 🍕+🍹\n🍝In more than 30 selected restaurants in Berlin (the full list is coming soon)🤤 \n👉🏻HOW DOES IT WORK? \nIt’s never been so easy! For a whole week\, from November 13th until November 19th\, in many True Italian restaurants (stay tuned to discover them all!)\, you will get the chance to taste authentic and delicious Italian pasta (choosing between two types on offer\, also vegetarian or vegan)\, a drink for the special price of 15€. 😎 \nYou won’t need a card or a ticket for the event: just go to one of the restaurants on our list and ask for the event’s offer! \n👉🏻HOW TO FIND THE PARTICIPATING RESTAURANTS? \nOn our website\, you will find a complete list with all adhering restaurants\, their addresses and special pastas offered. Soon you will also find the Pasta Week Berlin Map which is traced on the Berlin underground and shows all the participating restaurants! 🔎\nSo\, stay tuned to download it very soon! \n👉🏻WHO ARE WE? \nThe event is organized by True Italian\, a project of Berlin Italian Communication\, with the partnership of Metro and Acqua Panna San Pellegrino. \nQuick recap:\n🔸WHEN: from Monday\, November 13 to Sunday\, November 17\, 2023.\n🔸WHERE: In Berlin’s best restaurants.\n🔸WHAT: 15 euros for a special handmade pasta dish along with a drink. \nWebsite link:\n📍Berlin: https://true-italian.com/events/true-italian-pasta-week/\nhttps://www.facebook.com/events/320865803854044/
URL:https://clockworkbanana.com/event/true-italian-pasta-week-2023/
LOCATION:Berlin
CATEGORIES:Festival
ATTACH;FMTTYPE=image/jpeg:https://clockworkbanana.com/wp-content/uploads/2023/10/376676305_748573213948783_6336319525889808569_n.jpg
ORGANIZER;CN="True Italian":MAILTO:noreply@facebookmail.com
END:VEVENT
BEGIN:VEVENT
DTSTART;TZID=Europe/Berlin:20231115T164500
DTEND;TZID=Europe/Berlin:20231115T230000
DTSTAMP:20260419T161711
CREATED:20231028T124644Z
LAST-MODIFIED:20231028T124946Z
UID:8759-1700066700-1700089200@clockworkbanana.com
SUMMARY:Launch Party - Winter Wunderland Mitte Berlin - INSPIRED BY QUEERS - FOR EVERYONE
DESCRIPTION:Join us for an unforgettable evening at Winter Wunderland in Mitte Berlin\, where we celebrate diversity\, creativity\, and the magic of winter. Get ready for an enchanting experience that will warm your heart and ignite your spirit. On Wednesday\, November 15\, 2023\, starting at 16:45\, we invite you to immerse yourself in a world of queer-inspired wonder. Our launch promises a delightful mix of art\, music\, performances\, and more\, all curated to showcase the vibrant LGBTQIA+ community and so much more.\nDiscover unique installations that blend the beauty of winter with the creativity of queer artists. From stunning visual displays to interactive exhibits\, there’s something for everyone to enjoy. Let your senses come alive as you explore this captivating fusion of art and winter magic. Winter Wunderland is more than just an event; it’s a celebration of individuality\, love\, and self-expression. Come together with friends\, old and new\, to embrace the spirit of inclusivity and acceptance. This is a safe space where everyone is welcome to be their authentic selves. Experience a night of unforgettable music by a talented queer artist\, showcasing their skills and celebrating their identities. Dance to the rhythm of the music\, indulge in delicious food and drinks\, and let the joy of the season fill your heart. Don’t miss out on this extraordinary event that combines the wonders of winter with the power of expression.\nJoin us at Winter Wunderland and let your imagination soar. ❄️\n– FREE ENTRY ALWAYS 🎫\n– 2-4-1 DRINKS FOR TICKET HOLDERS 🥤\n– 🥙 STREET FOOD 🌈 QUEER WINTER MARKET 🛍️\nLINEUP\nDJ LADY $UKA 16.30 – 22:00\nLADY $UKA is a fresh DJ on Berlin music scene. He was one of the pioneers of Ukrainian queer party culture; having a classical music education\, he’s always been into music\, exploring new genres and always searching for something new. In Berlin he developed his music style and skills so now his sets are always a vibe because he loves mixing a bunch of genres: like techno\, trance\, speedhouse\, pop\, etc to create an ultimate music ambiance for the party. His sets are always fresh\, fun\, groovy and extra sexy. 💅🏻💋\nhttps://www.facebook.com/events/622314549980326/
URL:https://clockworkbanana.com/event/launch-party-winter-wunderland-mitte-berlin-inspired-by-queers-for-everyone/
LOCATION:gestrandet Mitte
ATTACH;FMTTYPE=image/jpeg:https://clockworkbanana.com/wp-content/uploads/2023/10/387204891_339948808425037_2540256766712509070_n.jpg
ORGANIZER;CN="That Gay Creation / Queer Events Guide Berlin":MAILTO:noreply@facebookmail.com
END:VEVENT
BEGIN:VEVENT
DTSTART;TZID=Europe/Berlin:20231115T190000
DTEND;TZID=Europe/Berlin:20231115T220000
DTSTAMP:20260419T161711
CREATED:20231026T144009Z
LAST-MODIFIED:20231026T144009Z
UID:8738-1700074800-1700085600@clockworkbanana.com
SUMMARY:Dave Adams Musical Comedy Solo Show
DESCRIPTION:Dave Adams Solo Show\nWednesday 15th November 2023 \nDoors 7pm\, Showtime 8pm \nDave Adams is an established musician and comedian hailing from Melbourne Australia\, where he performed as a jazz pianist for over a decade. In 2017 he relocated to the other side of the world and began tackling his hardest challenge to date: getting an Anmeldung and making the Germans laugh. \nFor the past seven years\, he has produced and hosted some of the best comedy shows in Berlin. This includes the very popular “The Real Show” every single Tuesday at Space Meduza for four years \, and he’s a regular headliner at ‘Cosmic Comedy Club’\, the largest in the city. \nIn 2021\, he debuted his solo hour show “Dave Adams Has Feelings” to sold-out crowds. Since then\, he’s been performing all over Europe\, UK\, Australia and Asia. He has been opening act for Allan Havey (Seinfeld/Mad Men)\, Todd Barry (Louie) and was a writer for Comedy Central’s – “Was ich eigentlich sagen wollte.” \nAnd he doesn’t even speak German. He also appeared on Romanian Tv Show ‘Stand Up Revolution.’ “He speaks in a rich\, somewhat blokey tone; the kind of voice that’d help you smuggle a bottle of scotch onto a golf course.” – Beat Magazine (AUS) \nThis will be be last ever performance of ‘Dave Adams has Feelings’ – Dave will be back next year with a new show. So if you haven’t seen this hour\, this is your last chance\, and if you have seen it\, come along to see the final product! New songs\, new jokes. Ah you’ll love it. Xx \n★★★★★ TICKETS ★★★★★ \nThe tickets price includes 7% VAT\nhttps://comedyclubberlin.com/events/ \n★★★★★ THE VENUE ★★★★★ \nKookaburra Comedy Club\nSchönhauser Allee 184\, 10119 Berlin\nhttps://bit.ly/3vOs1hH \n★★★★★ COMMUNITY ★★★★★ \nPlease join our Comedy Telegram group to communicate with other nice people going to comedy events in Berlin: http://bit.ly/berlinsocialchat
URL:https://clockworkbanana.com/event/dave-adams-musical-comedy-solo-show/
LOCATION:Kookaburra Comedy Club\, Schönhauser Allee 184\, Berlin\, 10119\, Germany
CATEGORIES:Comedy
ATTACH;FMTTYPE=image/jpeg:https://clockworkbanana.com/wp-content/uploads/2023/10/David-Adams-AUS.jpg
END:VEVENT
END:VCALENDAR