BEGIN:VCALENDAR
VERSION:2.0
PRODID:-//Clockwork Banana - ECPv6.15.20//NONSGML v1.0//EN
CALSCALE:GREGORIAN
METHOD:PUBLISH
X-ORIGINAL-URL:https://clockworkbanana.com
X-WR-CALDESC:Events for Clockwork Banana
REFRESH-INTERVAL;VALUE=DURATION:PT1H
X-Robots-Tag:noindex
X-PUBLISHED-TTL:PT1H
BEGIN:VTIMEZONE
TZID:Europe/Berlin
BEGIN:DAYLIGHT
TZOFFSETFROM:+0100
TZOFFSETTO:+0200
TZNAME:CEST
DTSTART:20220327T010000
END:DAYLIGHT
BEGIN:STANDARD
TZOFFSETFROM:+0200
TZOFFSETTO:+0100
TZNAME:CET
DTSTART:20221030T010000
END:STANDARD
BEGIN:DAYLIGHT
TZOFFSETFROM:+0100
TZOFFSETTO:+0200
TZNAME:CEST
DTSTART:20230326T010000
END:DAYLIGHT
BEGIN:STANDARD
TZOFFSETFROM:+0200
TZOFFSETTO:+0100
TZNAME:CET
DTSTART:20231029T010000
END:STANDARD
BEGIN:DAYLIGHT
TZOFFSETFROM:+0100
TZOFFSETTO:+0200
TZNAME:CEST
DTSTART:20240331T010000
END:DAYLIGHT
BEGIN:STANDARD
TZOFFSETFROM:+0200
TZOFFSETTO:+0100
TZNAME:CET
DTSTART:20241027T010000
END:STANDARD
END:VTIMEZONE
BEGIN:VEVENT
DTSTART;TZID=Europe/Berlin:20231113T120000
DTEND;TZID=Europe/Berlin:20231119T234500
DTSTAMP:20260419T161654
CREATED:20231016T001013Z
LAST-MODIFIED:20231016T001333Z
UID:8624-1699876800-1700437500@clockworkbanana.com
SUMMARY:True Italian Pasta Week 2023
DESCRIPTION:The True Italian Pasta Week is coming back in Berlin with an incredible offer:\n📣 A special PASTA – to choose between two variants + a drink for just 15 euros! 🍕+🍹\n🍝In more than 30 selected restaurants in Berlin (the full list is coming soon)🤤 \n👉🏻HOW DOES IT WORK? \nIt’s never been so easy! For a whole week\, from November 13th until November 19th\, in many True Italian restaurants (stay tuned to discover them all!)\, you will get the chance to taste authentic and delicious Italian pasta (choosing between two types on offer\, also vegetarian or vegan)\, a drink for the special price of 15€. 😎 \nYou won’t need a card or a ticket for the event: just go to one of the restaurants on our list and ask for the event’s offer! \n👉🏻HOW TO FIND THE PARTICIPATING RESTAURANTS? \nOn our website\, you will find a complete list with all adhering restaurants\, their addresses and special pastas offered. Soon you will also find the Pasta Week Berlin Map which is traced on the Berlin underground and shows all the participating restaurants! 🔎\nSo\, stay tuned to download it very soon! \n👉🏻WHO ARE WE? \nThe event is organized by True Italian\, a project of Berlin Italian Communication\, with the partnership of Metro and Acqua Panna San Pellegrino. \nQuick recap:\n🔸WHEN: from Monday\, November 13 to Sunday\, November 17\, 2023.\n🔸WHERE: In Berlin’s best restaurants.\n🔸WHAT: 15 euros for a special handmade pasta dish along with a drink. \nWebsite link:\n📍Berlin: https://true-italian.com/events/true-italian-pasta-week/\nhttps://www.facebook.com/events/320865803854044/
URL:https://clockworkbanana.com/event/true-italian-pasta-week-2023/
LOCATION:Berlin
CATEGORIES:Festival
ATTACH;FMTTYPE=image/jpeg:https://clockworkbanana.com/wp-content/uploads/2023/10/376676305_748573213948783_6336319525889808569_n.jpg
ORGANIZER;CN="True Italian":MAILTO:noreply@facebookmail.com
END:VEVENT
BEGIN:VEVENT
DTSTART;TZID=Europe/Berlin:20231119T130000
DTEND;TZID=Europe/Berlin:20231119T190000
DTSTAMP:20260419T161654
CREATED:20230926T131459Z
LAST-MODIFIED:20230926T131921Z
UID:8372-1700398800-1700420400@clockworkbanana.com
SUMMARY:Crepe City BERLIN Sneaker Festival
DESCRIPTION:🤜 Crepe City\, Europe’s leading sneaker event\, returns to Berlin! Bigger and better than 2022 at STATION BERLIN. \n👟Be part of the Crepe City Sneaker Festival in Berlin\, where sneakerheads from all over Europe come together to celebrate their love for kicks! Get ready for a day full of meetings with the leading resellers from all over Germany. They’ll offer you the hottest pairs from brands like Nike\, Jordan and Yeezy\, as well as rare finds and special grails. As always in Crepe City\, you can expect a buzzing atmosphere. \n📍 On Sunday\, 19 November 2023\, the event starts at 12:00 (noon) in the heart of Berlin\, at Station Berlin. Luckenwalder Straße\, 10963 Berlin. Whether you’re a seasoned collector or just starting your sneaker journey\, this festival offers something for everyone. \n🧢 Discover a wide range of sneakers\, from iconic classics to the latest models. Network with other enthusiasts\, share stories and discover the hottest trends in the sneaker world. With a diverse selection of brands and styles\, you’re sure to find your perfect pair. \n✨ Keep your kicks looking fresh all day long with Crep Protect’s on-site sneaker cleaning service. Crep Protect will also be hosting a range of games and giveaways throughout the day with its free ‘Cop or Flop’ keymaster machine. \n📃 StockX will also be on site and its authentication team will offer to verify your sneakers. There will also be surprise merch giveaways and a chance to win sneakers at the Guess the Grail Spectacular! \n🎤 Immerse yourself in the vibrant sneaker culture where fashion meets passion. Enjoy an exciting stage programme with performances by some of Berlin’s biggest DJs as well as a live host who will keep you energised with exciting games and giveaways. \n🍔 Street food vendors will be on site to provide everyone with delicious dishes for the day.📷 \nDon’t forget to bring your camera to capture the incredible sneaker displays and unique street style.\n🗓 Don’t miss out on this exciting event! Mark the Crepe City Sneaker Festival Berlin in your calendar. Grab your friends\, lace up your favourite sneakers and get ready for a day of sneaker heaven. \nhttps://www.facebook.com/events/338061288744949/
URL:https://clockworkbanana.com/event/crepe-city-berlin-sneaker-festival/
LOCATION:STATION BERLIN\, Luckenwalder Straße 4-6\,Berlin\,10963\,DE
CATEGORIES:Festival
ATTACH;FMTTYPE=image/jpeg:https://clockworkbanana.com/wp-content/uploads/2023/09/380829775_24016177541330720_8841358851545332871_n.jpg
ORGANIZER;CN="Eventbrite":MAILTO:noreply@facebookmail.com
END:VEVENT
BEGIN:VEVENT
DTSTART;TZID=Europe/Berlin:20231119T143000
DTEND;TZID=Europe/Berlin:20231119T160000
DTSTAMP:20260419T161655
CREATED:20231016T011600Z
LAST-MODIFIED:20231016T012030Z
UID:8667-1700404200-1700409600@clockworkbanana.com
SUMMARY:Guided tour "Nature on the Train"
DESCRIPTION:In nature\, inconspicuous things also have their meaning for us. Embedded in railway history and art\, they offer exciting insights into the Nature Park Südgelände and open up a view of a big picture. A Sunday walk with an expert guide. \nMeeting point: 2.30 p.m.\, park entrance S-Bhf. Priesterweg\nOrganizer: PD Dr. Gottfried Wiedenmann\, biologist\, environmental educator \nE-Mail: Drum-Herum@gmx.net\nCosts: €7.50 (plus €1.00 park admission or annual pass\, free up to 13 years)\nDates for group tours (also on weekdays) on request \nhttps://www.facebook.com/events/577144103849984/?event_time_id=577144107183317
URL:https://clockworkbanana.com/event/fuhrung-natur-am-zug/
LOCATION:Natur Park Südgelände
ATTACH;FMTTYPE=image/jpeg:https://clockworkbanana.com/wp-content/uploads/2023/10/325881260_1573202919757826_6580942353007593917_n.jpg
ORGANIZER;CN="Natur Park S%C3%BCdgel%C3%A4nde":MAILTO:noreply@facebookmail.com
END:VEVENT
END:VCALENDAR