BEGIN:VCALENDAR
VERSION:2.0
PRODID:-//Clockwork Banana - ECPv6.15.20//NONSGML v1.0//EN
CALSCALE:GREGORIAN
METHOD:PUBLISH
X-ORIGINAL-URL:https://clockworkbanana.com
X-WR-CALDESC:Events for Clockwork Banana
REFRESH-INTERVAL;VALUE=DURATION:PT1H
X-Robots-Tag:noindex
X-PUBLISHED-TTL:PT1H
BEGIN:VTIMEZONE
TZID:Europe/Berlin
BEGIN:DAYLIGHT
TZOFFSETFROM:+0100
TZOFFSETTO:+0200
TZNAME:CEST
DTSTART:20220327T010000
END:DAYLIGHT
BEGIN:STANDARD
TZOFFSETFROM:+0200
TZOFFSETTO:+0100
TZNAME:CET
DTSTART:20221030T010000
END:STANDARD
BEGIN:DAYLIGHT
TZOFFSETFROM:+0100
TZOFFSETTO:+0200
TZNAME:CEST
DTSTART:20230326T010000
END:DAYLIGHT
BEGIN:STANDARD
TZOFFSETFROM:+0200
TZOFFSETTO:+0100
TZNAME:CET
DTSTART:20231029T010000
END:STANDARD
BEGIN:DAYLIGHT
TZOFFSETFROM:+0100
TZOFFSETTO:+0200
TZNAME:CEST
DTSTART:20240331T010000
END:DAYLIGHT
BEGIN:STANDARD
TZOFFSETFROM:+0200
TZOFFSETTO:+0100
TZNAME:CET
DTSTART:20241027T010000
END:STANDARD
BEGIN:DAYLIGHT
TZOFFSETFROM:+0100
TZOFFSETTO:+0200
TZNAME:CEST
DTSTART:20250330T010000
END:DAYLIGHT
BEGIN:STANDARD
TZOFFSETFROM:+0200
TZOFFSETTO:+0100
TZNAME:CET
DTSTART:20251026T010000
END:STANDARD
END:VTIMEZONE
BEGIN:VEVENT
DTSTART;TZID=Europe/Berlin:20231120T080000
DTEND;TZID=Europe/Berlin:20240112T210000
DTSTAMP:20260419T174618
CREATED:20231120T143741Z
LAST-MODIFIED:20231120T143904Z
UID:9070-1700467200-1705093200@clockworkbanana.com
SUMMARY:Entries now open for the Berlin New Stand-Up Award
DESCRIPTION:Welcome to the Berlin New Stand-Up Award\, now in its 4th year!\n\nIt’s that time of the year again! Berlin New Stand-Up Award 2024\, here we come! You know the drill\, newbies apply\, fight for your life and hope it’s you that ends up with 1000€ to spend on weed and other comedian hobbies of yours. May the games begin! \n\n\n\nSignup here: https://forms.gle/WXwWDsLPJNsH4PiM9\n\n\nMore info: www.berlinnewstandupaward.com
URL:https://clockworkbanana.com/event/9070/
CATEGORIES:Comedy
ATTACH;FMTTYPE=image/jpeg:https://clockworkbanana.com/wp-content/uploads/2023/11/WhatsApp-Image-2023-11-20-at-01.18.12_0e09c68c.jpg
END:VEVENT
BEGIN:VEVENT
DTSTART;TZID=Europe/Berlin:20231121T170000
DTEND;TZID=Europe/Berlin:20231126T220000
DTSTAMP:20260419T174618
CREATED:20231120T010300Z
LAST-MODIFIED:20231120T010954Z
UID:8936-1700586000-1701036000@clockworkbanana.com
SUMMARY:Jamaican Jerk Week
DESCRIPTION:This week we are serving up jerk chicken\, a vegan version\, and Trinidad doubles.\nJERK CHICKEN PLATE €16 (gf)\nJerk chicken leg and thigh\, with rice and peas\, plantain\, slaw\, jerk sauce\nVEGAN JERK CHICKEN PLATE (v) €15\nJerk vegan chicken (soy/gluten)\, peppers\, rice and peas\, plantain\, slaw\, jerk sauce\nTRINIDAD DOUBLE (v) €8\nChickpea curry in fried flatbread with cucumber\, mango chutney\, tamarind sauce and CBS Blue Label\nJAMAICAN DOUBLE (vo) €10\nJerk chicken (vo) and chickpea curry in fried flatbread with cucumber\, mango chutney\, tamarind sauce and CBS Blue label\nEXTRAS\nRice and Peas (gf)(v) €4\nJamaican Festival Dumpling (v) €5\nFried Plantain (gf)(v) €4\nCaribbean Slaw (gf)(v) €3\nhttps://www.facebook.com/events/7144116985622530/
URL:https://clockworkbanana.com/event/jamaican-jerk-week-2/
LOCATION:Weserstraße 168\, 12045 Berlin\, Deutschland
ATTACH;FMTTYPE=image/jpeg:https://clockworkbanana.com/wp-content/uploads/2023/11/395196841_817761840357448_22999840988253457_n.jpg
ORGANIZER;CN="Crazy Bastrd Kitchen":MAILTO:noreply@facebookmail.com
END:VEVENT
BEGIN:VEVENT
DTSTART;TZID=Europe/Berlin:20231123T160000
DTEND;TZID=Europe/Berlin:20231223T220000
DTSTAMP:20260419T174618
CREATED:20231119T194935Z
LAST-MODIFIED:20231119T201226Z
UID:8880-1700755200-1703368800@clockworkbanana.com
SUMMARY:🔥 HEISSA HOLZMARKT 🔥 Wintermarkt an der Spree!
DESCRIPTION:🔥 HEISSA WOOD MARKET WINTER MARKET 🔥\nAt the wood market from 23.NOV to 23.DEC\nFrom November 23rd it’s time again: Heissa Holzmarkt! From the holy bimbo to St. Joseph. The somewhat different winter market on the banks of the Spree returns 👀\nWith a great program for the little ones and mulled wine & culture for the grown-ups. Every Thursday to Sunday\, our market square is transformed into the city’s coziest and weirdest winter universe.\n▶︎ THURSDAY & FRIDAY we invite you to eat and drink from 4 pm. With all kinds of delicacies from selected market stalls\, homemade Holzmarkt mulled wine and a retro carousel from 1961. Naturally\, everything is cozy and warm by the fire barrel.\n▶︎ SATURDAY & SUNDAY there is a cultural program on top. The Heissa Holzmarkt is for everyone! Bring grandma\, grandpa and the rascals!\nAnd of course there will be glittering knick-knacks from hand-picked traders anyway. So there’s no shortage of original gifts this year!\n🔥 PROGRAM HIGHLIGHTS 🔥\n▶︎ FOR THE KIDS:\nConcert with Mr. Jan\, children’s readings in the fairytale hut\, baking in the Backpfeife\,\nmagic show\, indoor bouncy castle\, 3D printer recycling workshop\,\ntoy flea market/swap market\, flea circus.\n▶︎ FOR THE ADULTS:\nDrag shows by Duct Tape\, Brazilian Samba Takeover by Maloca\, music and performances every weekend!\n🔥 WINTER MARKET INFO 🔥\n▶︎ When?\nFrom November 23 to December 23\nhttps://www.facebook.com/events/344575811293936/?event_time_id=344575857960598
URL:https://clockworkbanana.com/event/%f0%9f%94%a5-heissa-holzmarkt-%f0%9f%94%a5-wintermarkt-an-der-spree/
LOCATION:Holzmarkt25\, Holzmarktstr. 25\, Berlin\, 10243\, Germany
CATEGORIES:Festival,Market
ATTACH;FMTTYPE=image/jpeg:https://clockworkbanana.com/wp-content/uploads/2023/11/394735964_734284728744280_7901975008234833159_n.jpg
ORGANIZER;CN="Holzmarkt25":MAILTO:noreply@facebookmail.com
END:VEVENT
BEGIN:VEVENT
DTSTART;TZID=Europe/Berlin:20231125T233000
DTEND;TZID=Europe/Berlin:20231126T080000
DTSTAMP:20260419T174618
CREATED:20231120T132334Z
LAST-MODIFIED:20231120T132536Z
UID:9042-1700955000-1700985600@clockworkbanana.com
SUMMARY:Power House - The Euro Edition
DESCRIPTION:For this edition DJ Pete & Finn Johannsen will play a very special selection of Power House records made in Europe. Because we love Europe and cannot imagine a world without it.\nIt is also Finn’s birthday party\, who is a very firm European.\nYou see\, it all fits.\nArtwork by Philip Marshall.\nhttps://www.facebook.com/events/635647442048948/
URL:https://clockworkbanana.com/event/power-house-the-euro-edition/
LOCATION:Paloma
CATEGORIES:Techno
ATTACH;FMTTYPE=image/jpeg:https://clockworkbanana.com/wp-content/uploads/2023/11/391503257_312410244759500_1384464147376694663_n.jpg
ORGANIZER;CN="Power House":MAILTO:noreply@facebookmail.com
END:VEVENT
BEGIN:VEVENT
DTSTART;TZID=Europe/Berlin:20231126T120000
DTEND;TZID=Europe/Berlin:20231126T200000
DTSTAMP:20260419T174618
CREATED:20231121T035425Z
LAST-MODIFIED:20231121T035651Z
UID:9175-1701000000-1701028800@clockworkbanana.com
SUMMARY:The Crafty Market ⎮ Festive Edition 🎄
DESCRIPTION:✨ Get ready for a whimsical winter experience at “The Crafty Market” at Manifesto! ✨\nFriends and craft enthusiasts\, join us at The Crafty Market at Manifesto for a day where creativity and holiday spirit beautifully intertwine! Mark your calendars for November 26th and get ready for an unforgettable experience filled with unique finds\, handpicked gifts\, and a festive atmosphere. \n📅 Date: 26th November\n⏰ Time: 12:00 – 20:00\n📍 Location: Manifesto Market\, Potsdamer Platz\nExplore Over 25 Artisans & Their Unique Crafts: \n💍 Jewelry: Dazzle with pieces from SS3\, BlondeBerlin\, Gapochi\, SIBYLAI Jewelry\, and My Little Nature. \n🧶 Knitwear & Clothing: Embrace cozy knitwear from My Sister Knits\, innovative fashion from Mona Cordes\, Stefani Moreno\, and Alpaca MGO\, and traditional elegance from Ashwaq Shop. \n👜 Bags & Fashion Accessories: Discover unique bags from Siempre Trapos\, Maria Fardieva Linoldruck\, U Berlin Design\, Latinas en Alemania\, Medaase Fashion\, and fashion accessories by SiFo Berlin. \n🎨 Art & Crafts: Explore traditional chinese crafts with Shaniu\, admire visual art from Studio Barbosa\, Cute Octopus Prints\, Andreas Matthiess\, Dekooraa\, Creative Travel Arts\, Anna Wozniak Art\, and Ilias Design. \n🥣 Culinary Delights & Ceramics: Enjoy flavors from Mouneh and exquisite ceramic artistry from Saho Art Design and Eunbi Choi Ceramics. \n🎵 Vinyl Vibes: For music lovers\, Lanz Records offers a trove of vinyl records.\nTaste & Toast: \n🍴 22 Restaurants: An array of culinary delights awaits you. \n🍹 3 Bars: Sip on festive drinks\, including our special house-made Glühwein. \n🥂 Happy Glühwein Hour: From 17:00–19:00\, enjoy 1+1 on our house Glühwein to keep the festive spirit high! \nThe Crafty Market isn’t just a shopping destination; it’s a celebration of joy\, creativity\, and the vibrant artisan community of Berlin. Embark on this festive journey\, find the perfect gift\, and make lasting memories. \nJoin us for a day of discovery and enchantment at The Crafty Market. Let’s light up this festive season together!\nSee you there! 🎉 \nhttps://www.facebook.com/events/148967831613480/
URL:https://clockworkbanana.com/event/the-crafty-market-%e2%8e%ae-festive-edition-%f0%9f%8e%84/
LOCATION:Manifesto Potsdamer Platz
CATEGORIES:Festival,Market
ATTACH;FMTTYPE=image/jpeg:https://clockworkbanana.com/wp-content/uploads/2023/11/399148930_350749934292705_7717682083654326981_n.jpg
ORGANIZER;CN="Manifesto Market Berlin":MAILTO:noreply@facebookmail.com
END:VEVENT
END:VCALENDAR