BEGIN:VCALENDAR
VERSION:2.0
PRODID:-//Clockwork Banana - ECPv6.15.20//NONSGML v1.0//EN
CALSCALE:GREGORIAN
METHOD:PUBLISH
X-WR-CALNAME:Clockwork Banana
X-ORIGINAL-URL:https://clockworkbanana.com
X-WR-CALDESC:Events for Clockwork Banana
REFRESH-INTERVAL;VALUE=DURATION:PT1H
X-Robots-Tag:noindex
X-PUBLISHED-TTL:PT1H
BEGIN:VTIMEZONE
TZID:Europe/Berlin
BEGIN:DAYLIGHT
TZOFFSETFROM:+0100
TZOFFSETTO:+0200
TZNAME:CEST
DTSTART:20220327T010000
END:DAYLIGHT
BEGIN:STANDARD
TZOFFSETFROM:+0200
TZOFFSETTO:+0100
TZNAME:CET
DTSTART:20221030T010000
END:STANDARD
BEGIN:DAYLIGHT
TZOFFSETFROM:+0100
TZOFFSETTO:+0200
TZNAME:CEST
DTSTART:20230326T010000
END:DAYLIGHT
BEGIN:STANDARD
TZOFFSETFROM:+0200
TZOFFSETTO:+0100
TZNAME:CET
DTSTART:20231029T010000
END:STANDARD
BEGIN:DAYLIGHT
TZOFFSETFROM:+0100
TZOFFSETTO:+0200
TZNAME:CEST
DTSTART:20240331T010000
END:DAYLIGHT
BEGIN:STANDARD
TZOFFSETFROM:+0200
TZOFFSETTO:+0100
TZNAME:CET
DTSTART:20241027T010000
END:STANDARD
BEGIN:DAYLIGHT
TZOFFSETFROM:+0100
TZOFFSETTO:+0200
TZNAME:CEST
DTSTART:20250330T010000
END:DAYLIGHT
BEGIN:STANDARD
TZOFFSETFROM:+0200
TZOFFSETTO:+0100
TZNAME:CET
DTSTART:20251026T010000
END:STANDARD
END:VTIMEZONE
BEGIN:VEVENT
DTSTART;TZID=Europe/Berlin:20231120T080000
DTEND;TZID=Europe/Berlin:20240112T210000
DTSTAMP:20260419T160751
CREATED:20231120T143741Z
LAST-MODIFIED:20231120T143904Z
UID:9070-1700467200-1705093200@clockworkbanana.com
SUMMARY:Entries now open for the Berlin New Stand-Up Award
DESCRIPTION:Welcome to the Berlin New Stand-Up Award\, now in its 4th year!\n\nIt’s that time of the year again! Berlin New Stand-Up Award 2024\, here we come! You know the drill\, newbies apply\, fight for your life and hope it’s you that ends up with 1000€ to spend on weed and other comedian hobbies of yours. May the games begin! \n\n\n\nSignup here: https://forms.gle/WXwWDsLPJNsH4PiM9\n\n\nMore info: www.berlinnewstandupaward.com
URL:https://clockworkbanana.com/event/9070/
CATEGORIES:Comedy
ATTACH;FMTTYPE=image/jpeg:https://clockworkbanana.com/wp-content/uploads/2023/11/WhatsApp-Image-2023-11-20-at-01.18.12_0e09c68c.jpg
END:VEVENT
BEGIN:VEVENT
DTSTART;TZID=Europe/Berlin:20231123T160000
DTEND;TZID=Europe/Berlin:20231223T220000
DTSTAMP:20260419T160751
CREATED:20231119T194935Z
LAST-MODIFIED:20231119T201226Z
UID:8880-1700755200-1703368800@clockworkbanana.com
SUMMARY:🔥 HEISSA HOLZMARKT 🔥 Wintermarkt an der Spree!
DESCRIPTION:🔥 HEISSA WOOD MARKET WINTER MARKET 🔥\nAt the wood market from 23.NOV to 23.DEC\nFrom November 23rd it’s time again: Heissa Holzmarkt! From the holy bimbo to St. Joseph. The somewhat different winter market on the banks of the Spree returns 👀\nWith a great program for the little ones and mulled wine & culture for the grown-ups. Every Thursday to Sunday\, our market square is transformed into the city’s coziest and weirdest winter universe.\n▶︎ THURSDAY & FRIDAY we invite you to eat and drink from 4 pm. With all kinds of delicacies from selected market stalls\, homemade Holzmarkt mulled wine and a retro carousel from 1961. Naturally\, everything is cozy and warm by the fire barrel.\n▶︎ SATURDAY & SUNDAY there is a cultural program on top. The Heissa Holzmarkt is for everyone! Bring grandma\, grandpa and the rascals!\nAnd of course there will be glittering knick-knacks from hand-picked traders anyway. So there’s no shortage of original gifts this year!\n🔥 PROGRAM HIGHLIGHTS 🔥\n▶︎ FOR THE KIDS:\nConcert with Mr. Jan\, children’s readings in the fairytale hut\, baking in the Backpfeife\,\nmagic show\, indoor bouncy castle\, 3D printer recycling workshop\,\ntoy flea market/swap market\, flea circus.\n▶︎ FOR THE ADULTS:\nDrag shows by Duct Tape\, Brazilian Samba Takeover by Maloca\, music and performances every weekend!\n🔥 WINTER MARKET INFO 🔥\n▶︎ When?\nFrom November 23 to December 23\nhttps://www.facebook.com/events/344575811293936/?event_time_id=344575857960598
URL:https://clockworkbanana.com/event/%f0%9f%94%a5-heissa-holzmarkt-%f0%9f%94%a5-wintermarkt-an-der-spree/
LOCATION:Holzmarkt25\, Holzmarktstr. 25\, Berlin\, 10243\, Germany
CATEGORIES:Festival,Market
ATTACH;FMTTYPE=image/jpeg:https://clockworkbanana.com/wp-content/uploads/2023/11/394735964_734284728744280_7901975008234833159_n.jpg
ORGANIZER;CN="Holzmarkt25":MAILTO:noreply@facebookmail.com
END:VEVENT
BEGIN:VEVENT
DTSTART;TZID=Europe/Berlin:20231128T170000
DTEND;TZID=Europe/Berlin:20231203T220000
DTSTAMP:20260419T160751
CREATED:20231120T005224Z
LAST-MODIFIED:20231120T005502Z
UID:8919-1701190800-1701640800@clockworkbanana.com
SUMMARY:Kentucky Fried Week
DESCRIPTION:Four fried chicken dishes also available vegan! Vegan optional = vo\nFRIED CHICKEN PLATE €16\nFried chicken thigh\, leg and wing\, with mashed potatoes and gravy or mac and cheese. Served with coleslaw\nVEGAN/VEGETARIAN FRIED CHICKEN PLATE (vo) €15\nVegan fried chicken fillets with mashed potatoes and gravy or mac and cheese. Served with coleslaw\nFRIED CHICKEN SANDWICH €11\nFried chicken thigh\, in a brioche bun with coleslaw\, pickles and mayo\nVEGAN FRIED CHICKEN SANDWICH €10\nVegan fried chicken fillet\, in a brioche bun with coleslaw\, pickles and mayo\nEXTRAS\nMac n Cheese €6 (vo)\nMashed potatoes and gravy €6 (vo)\nColeslaw €3 (vo)\nFried Chicken Wing €2.50\nFried Chicken Leg €3.50\nFried Chicken Thigh €7\nFried Vegan Chicken €4.50 \nhttps://www.facebook.com/events/175793938914862/
URL:https://clockworkbanana.com/event/kentucky-fried-week-2/
LOCATION:Weserstraße 168\, 12045 Berlin\, Deutschland
CATEGORIES:Food
ATTACH;FMTTYPE=image/jpeg:https://clockworkbanana.com/wp-content/uploads/2023/11/395209518_817760810357551_344218094634750365_n.jpg
ORGANIZER;CN="Crazy Bastrd Kitchen":MAILTO:noreply@facebookmail.com
END:VEVENT
BEGIN:VEVENT
DTSTART;TZID=Europe/Berlin:20231201T160000
DTEND;TZID=Europe/Berlin:20231204T080000
DTSTAMP:20260419T160751
CREATED:20231016T001810Z
LAST-MODIFIED:20231016T002529Z
UID:8634-1701446400-1701676800@clockworkbanana.com
SUMMARY:SISYPHOS KUNSTMARKT
DESCRIPTION:SHOP AND PRE-GLOW UNTIL THE FIRST LIGHT COMES ON!\nIt’s art\, but it can go? – Then sell it at the Sisy Art Market. \nThere\, sisy friends can find bargains and sell pieces of jewellery. There are colourful stalls from spectacular to bulky waste. The stand rental is cheap and the customers are willing! \nRegistration: https://docs.google.com/forms/d/e/1FAIpQLSdvEMvk9BmyYFIuakhorPWR9Ens-a2IJz9k7_Gd2YhggGi3dA/viewform \nAdmission: 5€\nFriday 4 p.m. to 1 a.m.\nSaturday 2 p.m. to 1 a.m.\nSunday 2 p.m. to 8 a.m. Arty-Afterparty from 9 p.m. 🚀\nhttps://www.facebook.com/events/302841582463371/
URL:https://clockworkbanana.com/event/sisyphos-kunstmarkt/
LOCATION:Sisyphos\, Hauptstr.15\, Berlin\, 10317
CATEGORIES:Festival
ATTACH;FMTTYPE=image/jpeg:https://clockworkbanana.com/wp-content/uploads/2023/10/391610020_721399820028983_2611361638521248370_n.jpg
ORGANIZER;CN="Sisyphos":MAILTO:noreply@facebookmail.com
END:VEVENT
BEGIN:VEVENT
DTSTART;TZID=Europe/Berlin:20231201T220000
DTEND;TZID=Europe/Berlin:20231202T010000
DTSTAMP:20260419T160751
CREATED:20231120T132747Z
LAST-MODIFIED:20231120T133013Z
UID:9052-1701468000-1701478800@clockworkbanana.com
SUMMARY:Four Play
DESCRIPTION:⫸ DJ LINEUP ⫸\nAnnett Gapstream\nArne Schattenberg\nCamea\nConfidential Recipe\nJanoma\nKarlï\nMultifuse\nRaumtester\nHarlot House w/\nDigitalsteak\nKittz\nSatori Snooks \n⫸ ARTISTIC PROGRAM ⫸\nBurlesque\nDream Circus Pirates\nDream World\nflinta*stiq\nKinky Booth\nLED Show\nLove Train\nOniria\nPlayfight\nSexy Cat Walking\nShibari \n⫸ AWARENESS\nby b_aware \n⫸ KINKY MARKET\nAdrian Weiss\nAskLena \n⫸HOSTED BY:\nSection 8 Berlin\nHarlot House\n⫸ English \n⫸⫸ ABOUT FOUR PLAY ⫸⫸\nImagine a party in which you’re not just moving your feet on the dance floor. Imagine a place full of color and fantasy\, in which you are welcomed to take part in the action.\nIn 2016\, the Four Play project was born in order to breach the all-too-serious walls of those days’ Berlin kinky and fetish scenes\, and to allow the young and the inexperienced to experiment with many aspects of the kinky lifestyle and their own sexuality.\nIn the mean\, Four Play has become one of Berlin’s most beautiful sex-positive and kinky parties\, offering not just an uncompromising musical lineup\, but also an incredibly rich program of performances and workshops\, all designed for our guests to interact and become an active part of the night. \n⫸⫸ WHAT TO EXPECT ⫸⫸\n▻ High-end Techno journey on the Main Floor\, happy modern interpretations of House music in the Dragon Floor\, and Downtempo to Soft-Tech in the basement.\n▻ Around 80 Performances\, walking acts and Workshops.\n▻ A Kinky Marketplace to upgrade your outfits.\n▻ Hedonistic safe space for kinksters and LGTBQ.\n▻ A large\, highly dedicated Awareness Team. \n⫸⫸ MUST READ ⫸⫸\n▻ NO PRESALE. Tickets only at the door.\n▻ The Four Play has a strict no-photo and no phone policy. We have a designated photobooth with our photographer\, where photos can be taken of those who wish for it.\n▻ The Four Play is a safe space for any ethnicity\, gender or sexual orientation. Any sign of racism\, sexism\, or homophobia will not be tolerated.\n▻ You are to respect the personal space of any fellow dancer. In case you feel that you have been treated wrongly\, or that your space has been violated\, please notify our awareness team or our staff immediately. \n▻ DRESS-CODE: * Sexy Swimsuits * Costumes * Leather * Latex * Naked * Super Heroes * Lingerie * Colorful Festival Style. \nNO CASUAL STREET WEAR SUCH AS JEANS IS ALLOWED.\nFAQ\n1. Can single or groups of hetero men join the party?\n– In general\, women\, and queers are rarely a threat to a sexpositive concept. Men are more carefully selected\, and would have to be able to prove acquaintance with the guidelines of consent.\n2. Are normal bathing or boxer shorts enough?\n– No\, they aren’t. With swimwear we mean sexy swimwear (yes men\, better show us your Speedos).\n3. Is the usual Kitkat or Four Play dress code enough?\n– Yes\, they are\, however\, we kindly ask you to make an effort and adapt to the Four Play colourful character.\n4. Am I allowed to masturbate in front of people or playful couples?\n– No\, you’re not. Solo-Wankers are not welcomed at the Four Play and without explicit consent\, are considered an harassment.\n5. What do I do if I or someone around me feel uncomfortable or mistreated?\n– Please report that to our Awareness Team immediately. You can either find them patrolling the club in shiny vests\, or at the Awareness Station at the Pool Bar. \nhttps://www.facebook.com/events/1708341489688245/
URL:https://clockworkbanana.com/event/four-play/
LOCATION:KitKatClub (Official)
CATEGORIES:Party,Techno
ATTACH;FMTTYPE=image/jpeg:https://clockworkbanana.com/wp-content/uploads/2023/11/399627160_725889609579415_6175764078786951898_n.jpg
ORGANIZER;CN="Four Play":MAILTO:noreply@facebookmail.com
END:VEVENT
BEGIN:VEVENT
DTSTART;TZID=Europe/Berlin:20231202T140000
DTEND;TZID=Europe/Berlin:20231202T200000
DTSTAMP:20260419T160751
CREATED:20231119T223214Z
LAST-MODIFIED:20231119T224317Z
UID:8900-1701525600-1701547200@clockworkbanana.com
SUMMARY:BRENN. invites... Winterwunderland by That Gay Creation
DESCRIPTION:That Gay Creation is organising a Queer Xmas market and have offered our collective 3 dates to organise an Open Decks Open Air.\nBRENN. has always supported new talent and with this open decks we invite fresh faces to showcase their talent during these Saturday Sessions. We will make a heated dance floor on the beach and create a full on Winter Beach Open Air Fantasy!\nBesides that there is of course the amazing Queer market by that Gay creation\, with local sellers of goods\nSUGGESTED DONATION €5-10\nNo need to buy tickets\, can be in cash at the door\nNO discrimination of any kind\n4PM – 10PM\nDress warm\nAll updates via Instagram @brenn.berlin\nSee our event details & RSVP on Resident Advisor\nhttps://www.facebook.com/events/829599958961779/?event_time_id=829601975628244
URL:https://clockworkbanana.com/event/brenn-invites-winterwunderland-by-that-gay-creation/
LOCATION:gestrandet Mitte
ATTACH;FMTTYPE=image/jpeg:https://clockworkbanana.com/wp-content/uploads/2023/11/399734313_858513739423808_2372601464930901529_n.jpeg
ORGANIZER;CN="BRENN.":MAILTO:noreply@facebookmail.com
END:VEVENT
BEGIN:VEVENT
DTSTART;TZID=Europe/Berlin:20231202T140000
DTEND;TZID=Europe/Berlin:20231203T190000
DTSTAMP:20260419T160751
CREATED:20231120T014718Z
LAST-MODIFIED:20231120T015523Z
UID:8976-1701525600-1701630000@clockworkbanana.com
SUMMARY:NAUGHTY WINTER MARKET
DESCRIPTION:🎅🌟 Get Ready to Spice Up Your Holiday Season at the Naughtiest Xmas Market! 🌟🎁\nAmoreze is thrilled to join the festivities at this year’s Naughty Xmas Market. 🎉\nIndulge in a world of seduction and sophistication as we showcase our handcrafted\, leather lingerie creations. Whether you’re treating yourself or surprising your loved one\, we’ve got the perfect intimate gift for the season. 🔥💝\nJoin us for an unforgettable experience\, where empowerment meets allure\, at the Naughtiest Xmas Market. Let’s celebrate the holidays with a touch of sensuality and style. See you there! 🍸🎄\nDate: 2 and 3rd of December\nLocation: Arena Market Berlin\nTime: 14:00-22:00\nDon’t miss out on this enchanting event! 🎅✨\nhttps://www.facebook.com/events/1376932043254559/
URL:https://clockworkbanana.com/event/naughty-winter-market-2/
LOCATION:Arena Market Berlin
ATTACH;FMTTYPE=image/jpeg:https://clockworkbanana.com/wp-content/uploads/2023/11/399267469_749483520529455_4971784352918956404_n.jpg
ORGANIZER;CN="Amoreze":MAILTO:noreply@facebookmail.com
END:VEVENT
BEGIN:VEVENT
DTSTART;TZID=Europe/Berlin:20231202T190000
DTEND;TZID=Europe/Berlin:20231202T230000
DTSTAMP:20260419T160751
CREATED:20231128T173102Z
LAST-MODIFIED:20231128T173102Z
UID:9262-1701543600-1701558000@clockworkbanana.com
SUMMARY:Cosmic Comedy Club Berlin : Showcase
DESCRIPTION:Cosmic Comedy Club Berlin : Showcase\nSaturday 2nd December 2023 \nThis show is in English. \nJoin us for Cosmic Comedy Club Berlin at our brand new venue and as always every show with Free Vegan and Vegetarian Pizza & Shots \nHosted by:\nDharmander Singh (UK) & Neil Numb (SCOT) \n★★★★★ THE ACTS ★★★★★ \nTodd Stuchiner (US)\nVladimir McTavish (SCOT)\nBruno Mazzini (PER)\nMoni Zhang (CHN) \n★★★★★ OPENING TIMES ★★★★★ \nPre-Drinks : 7pm – 9pm\nPizza: 8.15pm\nMain Show : 9pm – 11pm\n2for1 on selected drinks 7pm – 8pm \n★★★★★ HOT SAUCE ★★★★★ \nWe are the only comedy club in the world that has hot sauce shop\, get your hands on some of the best hot sauces in Europe and beyond. https://bit.ly/cosmichotsauce \n★★★★★ TICKETS ★★★★★ \nThe tickets price includes 7% VAT\nhttps://comedyclubberlin.com/events/ \n★★★★★ THE VENUE ★★★★★ \nKookaburra Comedy Club\nSchönhauser Allee 184\, 10119 Berlin\nhttps://bit.ly/3vOs1hH \n★★★★★ COMMUNITY ★★★★★ \nPlease join our Comedy Telegram group to communicate with other nice people going to comedy events in Berlin: http://bit.ly/berlinsocialchat
URL:https://clockworkbanana.com/event/cosmic-comedy-club-berlin-showcase-107/
LOCATION:Cosmic Comedy Club Berlin\, Schönhauser Allee 184\, Berlin\, 10119\, Germany
CATEGORIES:Comedy
ATTACH;FMTTYPE=image/jpeg:https://clockworkbanana.com/wp-content/uploads/2023/11/Saturday-2nd-December-2023.jpg
END:VEVENT
BEGIN:VEVENT
DTSTART;TZID=Europe/Berlin:20231202T200000
DTEND;TZID=Europe/Berlin:20231203T030000
DTSTAMP:20260419T160751
CREATED:20231120T225144Z
LAST-MODIFIED:20231120T225322Z
UID:9142-1701547200-1701572400@clockworkbanana.com
SUMMARY:BERLIN  FREAK BURLESQUE CIRCUS  SHOW is BACK!
DESCRIPTION:�� Get ready for the most mind-blowing\, jaw-dropping spectacle to hit Berlin! The BERLIN FREAK BURLESQUE CIRCUS SHOW is BACK and it’s bigger\, bolder\, and sexier than ever before! \n�\nJoin us on Saturday\, December 2nd at 8:00 PM at Roadrunner’s Paradise for an unforgettable night of acrobatics\, burlesque\, boylesque\, comedy\, and kabaret. This is not your average circus show – it’s a wild\, sexy\, and entertaining extravaganza that will leave you begging for more!\nWitness incredible feats of strength and agility as our acrobats defy gravity with their breathtaking stunts. Be mesmerized by the sultry and seductive performances of our burlesque and boylesque dancers\, who will leave you in awe with their tantalizing moves. Laugh till your sides hurt with our hilarious comedy acts\, and let the electrifying atmosphere of the kabaret sweep you off your feet!\nDon’t miss out on this one-of-a-kind event that promises to transport you to a world of fantasy and wonder. Grab your friends\, dress to impress\, and get ready to be amazed! Tickets are selling fast\, so secure your spot now and prepare to have your mind blown at the BERLIN FREAK \nBURLESQUE CIRCUS SHOW! ��\n� Get your tickets now at\nhttps://www.eventbrite.de/e/berlin-freak-burlesque-circus-show-is-back-tickets-727438176167?aff=oddtdtcreator\n� Event Date: Saturday\, December 2nd at 8:00 PM\n� Venue: Roadrunner’s Paradise\n� Dress code: Be as fabulous and daring as you desire!\n#BerlinFreakBurlesqueCircusShow #MindBlowingEntertainment #UnforgettableNight\nhttps://www.facebook.com/events/830160948718855/
URL:https://clockworkbanana.com/event/berlin-freak-burlesque-circus-show-is-back/
LOCATION:Saarbrücker Straße 24\,Berlin\,10405\,DE
CATEGORIES:Burlesque,Circus
ATTACH;FMTTYPE=image/jpeg:https://clockworkbanana.com/wp-content/uploads/2023/11/385094653_3594771960765505_7963487857517803215_n.jpg
ORGANIZER;CN="Eventbrite":MAILTO:noreply@facebookmail.com
END:VEVENT
END:VCALENDAR