BEGIN:VCALENDAR
VERSION:2.0
PRODID:-//Clockwork Banana - ECPv6.15.20//NONSGML v1.0//EN
CALSCALE:GREGORIAN
METHOD:PUBLISH
X-ORIGINAL-URL:https://clockworkbanana.com
X-WR-CALDESC:Events for Clockwork Banana
REFRESH-INTERVAL;VALUE=DURATION:PT1H
X-Robots-Tag:noindex
X-PUBLISHED-TTL:PT1H
BEGIN:VTIMEZONE
TZID:Europe/Berlin
BEGIN:DAYLIGHT
TZOFFSETFROM:+0100
TZOFFSETTO:+0200
TZNAME:CEST
DTSTART:20220327T010000
END:DAYLIGHT
BEGIN:STANDARD
TZOFFSETFROM:+0200
TZOFFSETTO:+0100
TZNAME:CET
DTSTART:20221030T010000
END:STANDARD
BEGIN:DAYLIGHT
TZOFFSETFROM:+0100
TZOFFSETTO:+0200
TZNAME:CEST
DTSTART:20230326T010000
END:DAYLIGHT
BEGIN:STANDARD
TZOFFSETFROM:+0200
TZOFFSETTO:+0100
TZNAME:CET
DTSTART:20231029T010000
END:STANDARD
BEGIN:DAYLIGHT
TZOFFSETFROM:+0100
TZOFFSETTO:+0200
TZNAME:CEST
DTSTART:20240331T010000
END:DAYLIGHT
BEGIN:STANDARD
TZOFFSETFROM:+0200
TZOFFSETTO:+0100
TZNAME:CET
DTSTART:20241027T010000
END:STANDARD
BEGIN:DAYLIGHT
TZOFFSETFROM:+0100
TZOFFSETTO:+0200
TZNAME:CEST
DTSTART:20250330T010000
END:DAYLIGHT
BEGIN:STANDARD
TZOFFSETFROM:+0200
TZOFFSETTO:+0100
TZNAME:CET
DTSTART:20251026T010000
END:STANDARD
END:VTIMEZONE
BEGIN:VEVENT
DTSTART;TZID=Europe/Berlin:20231120T080000
DTEND;TZID=Europe/Berlin:20240112T210000
DTSTAMP:20260419T190859
CREATED:20231120T143741Z
LAST-MODIFIED:20231120T143904Z
UID:9070-1700467200-1705093200@clockworkbanana.com
SUMMARY:Entries now open for the Berlin New Stand-Up Award
DESCRIPTION:Welcome to the Berlin New Stand-Up Award\, now in its 4th year!\n\nIt’s that time of the year again! Berlin New Stand-Up Award 2024\, here we come! You know the drill\, newbies apply\, fight for your life and hope it’s you that ends up with 1000€ to spend on weed and other comedian hobbies of yours. May the games begin! \n\n\n\nSignup here: https://forms.gle/WXwWDsLPJNsH4PiM9\n\n\nMore info: www.berlinnewstandupaward.com
URL:https://clockworkbanana.com/event/9070/
CATEGORIES:Comedy
ATTACH;FMTTYPE=image/jpeg:https://clockworkbanana.com/wp-content/uploads/2023/11/WhatsApp-Image-2023-11-20-at-01.18.12_0e09c68c.jpg
END:VEVENT
BEGIN:VEVENT
DTSTART;TZID=Europe/Berlin:20231123T160000
DTEND;TZID=Europe/Berlin:20231223T220000
DTSTAMP:20260419T190859
CREATED:20231119T194935Z
LAST-MODIFIED:20231119T201226Z
UID:8880-1700755200-1703368800@clockworkbanana.com
SUMMARY:🔥 HEISSA HOLZMARKT 🔥 Wintermarkt an der Spree!
DESCRIPTION:🔥 HEISSA WOOD MARKET WINTER MARKET 🔥\nAt the wood market from 23.NOV to 23.DEC\nFrom November 23rd it’s time again: Heissa Holzmarkt! From the holy bimbo to St. Joseph. The somewhat different winter market on the banks of the Spree returns 👀\nWith a great program for the little ones and mulled wine & culture for the grown-ups. Every Thursday to Sunday\, our market square is transformed into the city’s coziest and weirdest winter universe.\n▶︎ THURSDAY & FRIDAY we invite you to eat and drink from 4 pm. With all kinds of delicacies from selected market stalls\, homemade Holzmarkt mulled wine and a retro carousel from 1961. Naturally\, everything is cozy and warm by the fire barrel.\n▶︎ SATURDAY & SUNDAY there is a cultural program on top. The Heissa Holzmarkt is for everyone! Bring grandma\, grandpa and the rascals!\nAnd of course there will be glittering knick-knacks from hand-picked traders anyway. So there’s no shortage of original gifts this year!\n🔥 PROGRAM HIGHLIGHTS 🔥\n▶︎ FOR THE KIDS:\nConcert with Mr. Jan\, children’s readings in the fairytale hut\, baking in the Backpfeife\,\nmagic show\, indoor bouncy castle\, 3D printer recycling workshop\,\ntoy flea market/swap market\, flea circus.\n▶︎ FOR THE ADULTS:\nDrag shows by Duct Tape\, Brazilian Samba Takeover by Maloca\, music and performances every weekend!\n🔥 WINTER MARKET INFO 🔥\n▶︎ When?\nFrom November 23 to December 23\nhttps://www.facebook.com/events/344575811293936/?event_time_id=344575857960598
URL:https://clockworkbanana.com/event/%f0%9f%94%a5-heissa-holzmarkt-%f0%9f%94%a5-wintermarkt-an-der-spree/
LOCATION:Holzmarkt25\, Holzmarktstr. 25\, Berlin\, 10243\, Germany
CATEGORIES:Festival,Market
ATTACH;FMTTYPE=image/jpeg:https://clockworkbanana.com/wp-content/uploads/2023/11/394735964_734284728744280_7901975008234833159_n.jpg
ORGANIZER;CN="Holzmarkt25":MAILTO:noreply@facebookmail.com
END:VEVENT
BEGIN:VEVENT
DTSTART;TZID=Europe/Berlin:20231205T170000
DTEND;TZID=Europe/Berlin:20231210T220000
DTSTAMP:20260419T190859
CREATED:20231204T194646Z
LAST-MODIFIED:20231204T195511Z
UID:9310-1701795600-1702245600@clockworkbanana.com
SUMMARY:SCOTTISH CHIP SHOP WEEK at CBK
DESCRIPTION:Fish & Chips\, Haggis Pie Supper\, Pizza Crunch\, Deep Fried Mars Bars. Ya canny beat a Scottish chippy!\nMains (upgrade to curry cheese chips +€2):\nFish & Chips €16\nBeer-battered cod fillet\,\nwith mushy peas and tartare sauce\, and chips with salt and malt vinegar.\nVish & Chips (v) €13\nBeer-battered banana blossom\nwith mushy peas and tartare sauce\, and chips with salt and malt vinegar.\nHaggis Pie Supper €15\nBeer-battered haggis pie\, broon sauce\, mushy peas and chips with salt and malt vinegar.\nVegan Haggis Pie Supper €15\nBeer-battered vegan haggis pie\, broon sauce\, mushy peas and chips with salt and malt vinegar.\nPizza Crunch & Chips €14\nBeer-battered pizza\, broon sauce\, mushy peas and chips with salt and malt vinegar. \nSIDES & EXTRAS:\nCurry Cheese Chips (vo) €7\nSalt & Vinegar Chips (v) €5\nBattered Haggis Pie (vo) €8\nBeer-battered cod €9\nBeer-battered banana blossom (v) €7\nPizza Crunch (deep fried pizza slice) €7\nMushy Peas portion €2\nTartare Sauce €2\nBroon Sauce €2\nCurry Sauce €2\nDeep fried mars bar €3.50\nPineapple fritter €2.50 \nhttps://www.facebook.com/events/301722366048907/
URL:https://clockworkbanana.com/event/scottish-chip-shop-week-at-cbk-2/
ATTACH;FMTTYPE=image/jpeg:https://clockworkbanana.com/wp-content/uploads/2023/12/395277365_817761253690840_2263580438782248124_n.jpg
ORGANIZER;CN="Crazy Bastrd Kitchen":MAILTO:noreply@facebookmail.com
END:VEVENT
END:VCALENDAR