BEGIN:VCALENDAR
VERSION:2.0
PRODID:-//Clockwork Banana - ECPv6.15.20//NONSGML v1.0//EN
CALSCALE:GREGORIAN
METHOD:PUBLISH
X-ORIGINAL-URL:https://clockworkbanana.com
X-WR-CALDESC:Events for Clockwork Banana
REFRESH-INTERVAL;VALUE=DURATION:PT1H
X-Robots-Tag:noindex
X-PUBLISHED-TTL:PT1H
BEGIN:VTIMEZONE
TZID:Europe/Berlin
BEGIN:DAYLIGHT
TZOFFSETFROM:+0100
TZOFFSETTO:+0200
TZNAME:CEST
DTSTART:20220327T010000
END:DAYLIGHT
BEGIN:STANDARD
TZOFFSETFROM:+0200
TZOFFSETTO:+0100
TZNAME:CET
DTSTART:20221030T010000
END:STANDARD
BEGIN:DAYLIGHT
TZOFFSETFROM:+0100
TZOFFSETTO:+0200
TZNAME:CEST
DTSTART:20230326T010000
END:DAYLIGHT
BEGIN:STANDARD
TZOFFSETFROM:+0200
TZOFFSETTO:+0100
TZNAME:CET
DTSTART:20231029T010000
END:STANDARD
BEGIN:DAYLIGHT
TZOFFSETFROM:+0100
TZOFFSETTO:+0200
TZNAME:CEST
DTSTART:20240331T010000
END:DAYLIGHT
BEGIN:STANDARD
TZOFFSETFROM:+0200
TZOFFSETTO:+0100
TZNAME:CET
DTSTART:20241027T010000
END:STANDARD
BEGIN:DAYLIGHT
TZOFFSETFROM:+0100
TZOFFSETTO:+0200
TZNAME:CEST
DTSTART:20250330T010000
END:DAYLIGHT
BEGIN:STANDARD
TZOFFSETFROM:+0200
TZOFFSETTO:+0100
TZNAME:CET
DTSTART:20251026T010000
END:STANDARD
END:VTIMEZONE
BEGIN:VEVENT
DTSTART;TZID=Europe/Berlin:20231120T080000
DTEND;TZID=Europe/Berlin:20240112T210000
DTSTAMP:20260419T203048
CREATED:20231120T143741Z
LAST-MODIFIED:20231120T143904Z
UID:9070-1700467200-1705093200@clockworkbanana.com
SUMMARY:Entries now open for the Berlin New Stand-Up Award
DESCRIPTION:Welcome to the Berlin New Stand-Up Award\, now in its 4th year!\n\nIt’s that time of the year again! Berlin New Stand-Up Award 2024\, here we come! You know the drill\, newbies apply\, fight for your life and hope it’s you that ends up with 1000€ to spend on weed and other comedian hobbies of yours. May the games begin! \n\n\n\nSignup here: https://forms.gle/WXwWDsLPJNsH4PiM9\n\n\nMore info: www.berlinnewstandupaward.com
URL:https://clockworkbanana.com/event/9070/
CATEGORIES:Comedy
ATTACH;FMTTYPE=image/jpeg:https://clockworkbanana.com/wp-content/uploads/2023/11/WhatsApp-Image-2023-11-20-at-01.18.12_0e09c68c.jpg
END:VEVENT
BEGIN:VEVENT
DTSTART;TZID=Europe/Berlin:20231123T160000
DTEND;TZID=Europe/Berlin:20231223T220000
DTSTAMP:20260419T203048
CREATED:20231119T194935Z
LAST-MODIFIED:20231119T201226Z
UID:8880-1700755200-1703368800@clockworkbanana.com
SUMMARY:🔥 HEISSA HOLZMARKT 🔥 Wintermarkt an der Spree!
DESCRIPTION:🔥 HEISSA WOOD MARKET WINTER MARKET 🔥\nAt the wood market from 23.NOV to 23.DEC\nFrom November 23rd it’s time again: Heissa Holzmarkt! From the holy bimbo to St. Joseph. The somewhat different winter market on the banks of the Spree returns 👀\nWith a great program for the little ones and mulled wine & culture for the grown-ups. Every Thursday to Sunday\, our market square is transformed into the city’s coziest and weirdest winter universe.\n▶︎ THURSDAY & FRIDAY we invite you to eat and drink from 4 pm. With all kinds of delicacies from selected market stalls\, homemade Holzmarkt mulled wine and a retro carousel from 1961. Naturally\, everything is cozy and warm by the fire barrel.\n▶︎ SATURDAY & SUNDAY there is a cultural program on top. The Heissa Holzmarkt is for everyone! Bring grandma\, grandpa and the rascals!\nAnd of course there will be glittering knick-knacks from hand-picked traders anyway. So there’s no shortage of original gifts this year!\n🔥 PROGRAM HIGHLIGHTS 🔥\n▶︎ FOR THE KIDS:\nConcert with Mr. Jan\, children’s readings in the fairytale hut\, baking in the Backpfeife\,\nmagic show\, indoor bouncy castle\, 3D printer recycling workshop\,\ntoy flea market/swap market\, flea circus.\n▶︎ FOR THE ADULTS:\nDrag shows by Duct Tape\, Brazilian Samba Takeover by Maloca\, music and performances every weekend!\n🔥 WINTER MARKET INFO 🔥\n▶︎ When?\nFrom November 23 to December 23\nhttps://www.facebook.com/events/344575811293936/?event_time_id=344575857960598
URL:https://clockworkbanana.com/event/%f0%9f%94%a5-heissa-holzmarkt-%f0%9f%94%a5-wintermarkt-an-der-spree/
LOCATION:Holzmarkt25\, Holzmarktstr. 25\, Berlin\, 10243\, Germany
CATEGORIES:Festival,Market
ATTACH;FMTTYPE=image/jpeg:https://clockworkbanana.com/wp-content/uploads/2023/11/394735964_734284728744280_7901975008234833159_n.jpg
ORGANIZER;CN="Holzmarkt25":MAILTO:noreply@facebookmail.com
END:VEVENT
BEGIN:VEVENT
DTSTART;TZID=Europe/Berlin:20231205T170000
DTEND;TZID=Europe/Berlin:20231210T220000
DTSTAMP:20260419T203048
CREATED:20231204T194646Z
LAST-MODIFIED:20231204T195511Z
UID:9310-1701795600-1702245600@clockworkbanana.com
SUMMARY:SCOTTISH CHIP SHOP WEEK at CBK
DESCRIPTION:Fish & Chips\, Haggis Pie Supper\, Pizza Crunch\, Deep Fried Mars Bars. Ya canny beat a Scottish chippy!\nMains (upgrade to curry cheese chips +€2):\nFish & Chips €16\nBeer-battered cod fillet\,\nwith mushy peas and tartare sauce\, and chips with salt and malt vinegar.\nVish & Chips (v) €13\nBeer-battered banana blossom\nwith mushy peas and tartare sauce\, and chips with salt and malt vinegar.\nHaggis Pie Supper €15\nBeer-battered haggis pie\, broon sauce\, mushy peas and chips with salt and malt vinegar.\nVegan Haggis Pie Supper €15\nBeer-battered vegan haggis pie\, broon sauce\, mushy peas and chips with salt and malt vinegar.\nPizza Crunch & Chips €14\nBeer-battered pizza\, broon sauce\, mushy peas and chips with salt and malt vinegar. \nSIDES & EXTRAS:\nCurry Cheese Chips (vo) €7\nSalt & Vinegar Chips (v) €5\nBattered Haggis Pie (vo) €8\nBeer-battered cod €9\nBeer-battered banana blossom (v) €7\nPizza Crunch (deep fried pizza slice) €7\nMushy Peas portion €2\nTartare Sauce €2\nBroon Sauce €2\nCurry Sauce €2\nDeep fried mars bar €3.50\nPineapple fritter €2.50 \nhttps://www.facebook.com/events/301722366048907/
URL:https://clockworkbanana.com/event/scottish-chip-shop-week-at-cbk-2/
ATTACH;FMTTYPE=image/jpeg:https://clockworkbanana.com/wp-content/uploads/2023/12/395277365_817761253690840_2263580438782248124_n.jpg
ORGANIZER;CN="Crazy Bastrd Kitchen":MAILTO:noreply@facebookmail.com
END:VEVENT
BEGIN:VEVENT
DTSTART;TZID=Europe/Berlin:20231207T220000
DTEND;TZID=Europe/Berlin:20231208T010000
DTSTAMP:20260419T203048
CREATED:20231119T193329Z
LAST-MODIFIED:20231119T194031Z
UID:8873-1701986400-1701997200@clockworkbanana.com
SUMMARY:House of Lunacy - Birthday ‘Best of’
DESCRIPTION:Darlings\, lovers and dreamers\,\nIt’s time to celebrate two magnificent years of this incredible realm we call House of Lunacy.\nAs many of you know this is a rebirth for us and our roots run much deeper and longer within Berlin night life and we thank you for joining us for so many years and for stepping through our red doors with such vibrancy\, creativity and passion. \nWe invite you to celebrate the ‘BEST OF’ Lunacy and to celebrate the worlds and realms we have visited over the years. \nThat’s right! We are inviting you to really get those creative juices flowing and to get your teeth into your very favourite themes. \nWhichever part of the Luniverse has sparked your imagination and curiosity the most we invite you to get creative. \nWe will be transforming Renate into an immersive playground for you to explore and for you to chose which path you take … \nwhether it’s the sparkling vastness of space\, the decadent world of Weimar Berlin\, the stunning Midsummer realms and the darkness of Ritual\, the gluttonous Sins\, Heavenly Creatures\, Apocalypse Ballroom\, Beasts and Creatures.. which one will you choose? \nWe can’t wait to celebrate this beautiful creation we have made together as a community of delicious souls. Our common ground has been creating these worlds of Art\, beauty and sex positive freedom and we are so grateful for each and every one of you that has joined us over the years. \n✵ DRESS CODE ✵\nOur world is only reachable in costume and your costume is the fuel to this madness.\nWe have a strict dress code –\nWeimar dandies and showgirls\, circus animals and clowns\, beasts and creatures\, heavenly and hellish apparitions\, cosmic space cadets\, demons of the apocalypse. \nNo effort no entry.\nENTRY :\nWe are a LGBTQ+ space and we do not tolerate any forms of discrimination or Homophobia. \nHouse of Lunacy has a strict dress code and door policy.\nEach event is created with a creative theme in mind for guests to explore with their clothes\, costumes and bodies. \nThis is not negotiable and we expect all who jump into this world to join in.\nThis is to enhance everyones experience and to truly create a new adventurous world of love and freedom. \n✵HOUSE RULES✵\nUnfortunately nobody can ever guarantee a space is 100% safe\, but we are striving for perfection.\nNo means no.\nNever take what doesn’t want to be taken and don’t give what is not wanted. Consent is not negotiable.\nWe take this very seriously.\nWe DO NOT tolerate any form of discrimination\,\nRacism\, homophobia\, anti trans or hate speech.\nRespect. Respect. Respect. \nAnyone who is found to be disobeying these rules\, you will be leaving immediately and dealt with accordingly. \nWe will have our care team and\nAwareness team walking around The House at all times.\nA hand-picked selection of caring and loving souls and party veterans who know how to look out for you and are there to help with whatever the situation.\nAny member of staff (incl bar staff) can be spoken to at any time\, they are all connected via walkie talkie to security and the door.\nNever feel embarrassed about asking and talking to them they are there for you.\nTake care of one and other and always reach out if needed.\n*Please note RA tickets does not guarantee entry. You have to comply to The House and Renate’s rules and door policy. \n**NO REFUNDS FOR NO COSTUME * \nhttps://www.facebook.com/events/1516854199141216/
URL:https://clockworkbanana.com/event/house-of-lunacy-birthday-best-of/
LOCATION:Renate\, Alt-Stralau 70\,\, Berlin\, 10245\, Germany
CATEGORIES:Party
ATTACH;FMTTYPE=image/jpeg:https://clockworkbanana.com/wp-content/uploads/2023/11/396002770_346902981185206_2434340550949943451_n.jpg
ORGANIZER;CN="Lunacy Berlin":MAILTO:noreply@facebookmail.com
END:VEVENT
BEGIN:VEVENT
DTSTART;TZID=Europe/Berlin:20231207T235500
DTEND;TZID=Europe/Berlin:20231208T025500
DTSTAMP:20260419T203048
CREATED:20231129T031055Z
LAST-MODIFIED:20231129T031355Z
UID:9272-1701993300-1702004100@clockworkbanana.com
SUMMARY:Expeditions
DESCRIPTION:̸/ LINEUP\nAntonio De Angelis\nAny Mello\nMELATRONIX (Elad Magdasi & Mathias Weber)\nDJ Zurückbleiben Bitte\nSuperlover \n▆ EN ▆ \n▂▃▅▆ About the Expeditions ▆▅▃▂\nWhile most Techno parties follow one specific interpretation of the genre throughout an entire night\, the Expeditions was founded in order to showcase several interpretations of Techno\, and to curate those in an order that indicates clear musical development. From the lighter to the darker\, from the softer to harder – the Expeditions is a journey into the heart of Techno. \n▂▃▅▆ What to expect ▆▅▃▂\nA Power Deck with several\, well curated interpretations of pure Techno music.\nA Comfort Deck that provides a contrast program\, loaded with finest House music: classic Chicago House\, Soulful and New York Garage.\nOn the Friday editions: a magical artistic program and a hidden 3rd floor in the garden. \n▂▃▅▆ Dress and behavior code ▆▅▃▂\nThe Expeditions doesn’t have an obligatory dress code\, but we do encourage you to be creative when dressing up for the party.\nThe Expeditions\, and :// about blank have a strict no-photo policy.\nThe Expeditions\, and :// about blank in general\, are a safe space for any ethnicity\, gender or sexual orientation. Any sign of racism\, sexism or homophobia will not be tolerated.\nIn addition\, you are to respect the personal space of any fellow dancer.In case you feel that you have been treated wrongly\, or that your space has been violated\, please notify our staff at the entrance. \nhttps://www.facebook.com/events/920453182792697/
URL:https://clockworkbanana.com/event/expeditions-3/
LOCATION:://about party\, Markgrafendamm 24c\, Berlin\, 10245\, Germany
CATEGORIES:Party,Techno
ATTACH;FMTTYPE=image/jpeg:https://clockworkbanana.com/wp-content/uploads/2023/11/403717402_747924030696389_342804756785295224_n.jpg
ORGANIZER;CN="Expeditions":MAILTO:noreply@facebookmail.com
END:VEVENT
BEGIN:VEVENT
DTSTART;TZID=Europe/Berlin:20231208T160000
DTEND;TZID=Europe/Berlin:20231210T203000
DTSTAMP:20260419T203048
CREATED:20231129T161905Z
LAST-MODIFIED:20231129T162250Z
UID:9285-1702051200-1702240200@clockworkbanana.com
SUMMARY:Axes and Beers: Gorilla on tap at Woodcutter Berlin
DESCRIPTION:We invite you to share a couple of super fun days with us at our friends in the heart of Berlin: Woodcutter\, axes and beers\, just by Alexander Platz. \nWe will be waiting for you with our freshest beers on tap the whole weekend so you don’t have an excuse to miss this amazing event(s)! Friday 8th\, Saturday 9th and Sunday 10th from 4 pm till closing (8-30 or 9pm). \nWe’ll also have some great homemade empanadas by our friend @choriman_berlin\nAbout Woodcutter: \nWhere the art of Axe Throwing meets the vibrant energy of the German capital. With our 12 Axe Throwing lanes\, get ready for a unique experience in the heart of Berlin. Take on the challenge\, compete with your friends\, and create unforgettable memories in our entertainment oasis in Berlin.\nDon’t forget to book with them to make sure there is space in the axes throwing tournament for you!\nYes\, there will be beer prices!!\nSee you! \nwww.woodcutter.world/en/axethrowing-berlin\nwww.gorillacerveceriaberlin.com \nhttps://www.facebook.com/events/6141476105955785/
URL:https://clockworkbanana.com/event/axes-and-beers-gorilla-on-tap-at-woodcutter-berlin/
LOCATION:Woodcutter_Berlin
ATTACH;FMTTYPE=image/jpeg:https://clockworkbanana.com/wp-content/uploads/2023/11/405854469_768563748620367_6573490325799355465_n.jpg
ORGANIZER;CN="Gorilla Cervecer%C3%ADa Berlin":MAILTO:noreply@facebookmail.com
END:VEVENT
BEGIN:VEVENT
DTSTART;TZID=Europe/Berlin:20231208T190000
DTEND;TZID=Europe/Berlin:20231208T230000
DTSTAMP:20260419T203048
CREATED:20231204T200052Z
LAST-MODIFIED:20231204T200052Z
UID:9315-1702062000-1702076400@clockworkbanana.com
SUMMARY:Cosmic Comedy Club Berlin : Showcase
DESCRIPTION:Cosmic Comedy Club Berlin : Showcase\nFriday 8th December 2023 \nThis show is in English. \nJoin us for Cosmic Comedy Club Berlin at our brand new venue and as always every show with Free Vegan and Vegetarian Pizza & Shots \nHosted by:\nDharmander Singh (UK) & Neil Numb (SCOT) \n★★★★★ THE ACTS ★★★★★ \nOscar Collazos (US)\nCarmen Chraim (LEB)\nOleg Denisov (RUS)\nMalinda Perera (S.L)\nAccordian Ryan (US) \n★★★★★ OPENING TIMES ★★★★★ \nPre-Drinks : 7pm – 9pm\nPizza: 8.15pm\nMain Show : 9pm – 11pm\n2for1 on selected drinks 7pm – 8pm \n★★★★★ HOT SAUCE ★★★★★ \nWe are the only comedy club in the world that has hot sauce shop\, get your hands on some of the best hot sauces in Europe and beyond. https://bit.ly/cosmichotsauce \n★★★★★ TICKETS ★★★★★ \nThe tickets price includes 7% VAT\nhttps://comedyclubberlin.com/events/ \n★★★★★ THE VENUE ★★★★★ \nKookaburra Comedy Club\nSchönhauser Allee 184\, 10119 Berlin\nhttps://bit.ly/3vOs1hH \n★★★★★ COMMUNITY ★★★★★ \nPlease join our Comedy Telegram group to communicate with other nice people going to comedy events in Berlin: http://bit.ly/berlinsocialchat
URL:https://clockworkbanana.com/event/cosmic-comedy-club-berlin-showcase-108/
LOCATION:Cosmic Comedy Club Berlin\, Schönhauser Allee 184\, Berlin\, 10119\, Germany
CATEGORIES:Comedy
ATTACH;FMTTYPE=image/jpeg:https://clockworkbanana.com/wp-content/uploads/2023/12/Friday-8th-December-2023.jpg
END:VEVENT
BEGIN:VEVENT
DTSTART;TZID=Europe/Berlin:20231208T210000
DTEND;TZID=Europe/Berlin:20231209T000000
DTSTAMP:20260419T203048
CREATED:20231120T124037Z
LAST-MODIFIED:20231120T124231Z
UID:9000-1702069200-1702080000@clockworkbanana.com
SUMMARY:Drunk at Your Wedding + Rosa Hoelger
DESCRIPTION:Doors 19:00 / Start 21:00 / Donation\nDrunk at Your Wedding\n(Electric Folk/Indie Rock)\nDRUNK AT YOUR WEDDING is the project of Berlin-based singer/songwriter Nina Töllner. \nShe likes noisy indie rock but also traditional folk and has a penchant for gloomy stories and a dry sense of humour. \nDaYW songs take unexpected turns\, oscillate between fragile and loud and combine catchy tunes with minor modes. \nNovember 2023 sees the release of the 3rd DaYW album\, “Ghost Gear”.\nhttps://drunkatyourwedding.bandcamp.com/ \nRosa Hoelger\n(Songwriter / Alternative)\nDo It Yourself\, rare & raw\, there.\nThe german singer-songwriter ROSA HOELGER sings with an incredibly free voice between punk\, tenderness and folk about pubescent dolls and gas stations on instagram.\nhttps://rosahoelger.bandcamp.com/album/breathe-under-water\nDJ – Set\nTBC\nhttps://www.facebook.com/events/3631753150389446/
URL:https://clockworkbanana.com/event/drunk-at-your-wedding-rosa-hoelger/
LOCATION:Madame Claude Berlin
CATEGORIES:Live Music
ATTACH;FMTTYPE=image/jpeg:https://clockworkbanana.com/wp-content/uploads/2023/11/404430542_682089850682649_6514339728867944711_n.jpg
ORGANIZER;CN="Madame Claude Berlin":MAILTO:noreply@facebookmail.com
END:VEVENT
END:VCALENDAR