BEGIN:VCALENDAR
VERSION:2.0
PRODID:-//Clockwork Banana - ECPv6.15.20//NONSGML v1.0//EN
CALSCALE:GREGORIAN
METHOD:PUBLISH
X-WR-CALNAME:Clockwork Banana
X-ORIGINAL-URL:https://clockworkbanana.com
X-WR-CALDESC:Events for Clockwork Banana
REFRESH-INTERVAL;VALUE=DURATION:PT1H
X-Robots-Tag:noindex
X-PUBLISHED-TTL:PT1H
BEGIN:VTIMEZONE
TZID:Europe/Berlin
BEGIN:DAYLIGHT
TZOFFSETFROM:+0100
TZOFFSETTO:+0200
TZNAME:CEST
DTSTART:20220327T010000
END:DAYLIGHT
BEGIN:STANDARD
TZOFFSETFROM:+0200
TZOFFSETTO:+0100
TZNAME:CET
DTSTART:20221030T010000
END:STANDARD
BEGIN:DAYLIGHT
TZOFFSETFROM:+0100
TZOFFSETTO:+0200
TZNAME:CEST
DTSTART:20230326T010000
END:DAYLIGHT
BEGIN:STANDARD
TZOFFSETFROM:+0200
TZOFFSETTO:+0100
TZNAME:CET
DTSTART:20231029T010000
END:STANDARD
BEGIN:DAYLIGHT
TZOFFSETFROM:+0100
TZOFFSETTO:+0200
TZNAME:CEST
DTSTART:20240331T010000
END:DAYLIGHT
BEGIN:STANDARD
TZOFFSETFROM:+0200
TZOFFSETTO:+0100
TZNAME:CET
DTSTART:20241027T010000
END:STANDARD
BEGIN:DAYLIGHT
TZOFFSETFROM:+0100
TZOFFSETTO:+0200
TZNAME:CEST
DTSTART:20250330T010000
END:DAYLIGHT
BEGIN:STANDARD
TZOFFSETFROM:+0200
TZOFFSETTO:+0100
TZNAME:CET
DTSTART:20251026T010000
END:STANDARD
END:VTIMEZONE
BEGIN:VEVENT
DTSTART;TZID=Europe/Berlin:20231120T080000
DTEND;TZID=Europe/Berlin:20240112T210000
DTSTAMP:20260419T191123
CREATED:20231120T143741Z
LAST-MODIFIED:20231120T143904Z
UID:9070-1700467200-1705093200@clockworkbanana.com
SUMMARY:Entries now open for the Berlin New Stand-Up Award
DESCRIPTION:Welcome to the Berlin New Stand-Up Award\, now in its 4th year!\n\nIt’s that time of the year again! Berlin New Stand-Up Award 2024\, here we come! You know the drill\, newbies apply\, fight for your life and hope it’s you that ends up with 1000€ to spend on weed and other comedian hobbies of yours. May the games begin! \n\n\n\nSignup here: https://forms.gle/WXwWDsLPJNsH4PiM9\n\n\nMore info: www.berlinnewstandupaward.com
URL:https://clockworkbanana.com/event/9070/
CATEGORIES:Comedy
ATTACH;FMTTYPE=image/jpeg:https://clockworkbanana.com/wp-content/uploads/2023/11/WhatsApp-Image-2023-11-20-at-01.18.12_0e09c68c.jpg
END:VEVENT
BEGIN:VEVENT
DTSTART;TZID=Europe/Berlin:20231123T160000
DTEND;TZID=Europe/Berlin:20231223T220000
DTSTAMP:20260419T191123
CREATED:20231119T194935Z
LAST-MODIFIED:20231119T201226Z
UID:8880-1700755200-1703368800@clockworkbanana.com
SUMMARY:🔥 HEISSA HOLZMARKT 🔥 Wintermarkt an der Spree!
DESCRIPTION:🔥 HEISSA WOOD MARKET WINTER MARKET 🔥\nAt the wood market from 23.NOV to 23.DEC\nFrom November 23rd it’s time again: Heissa Holzmarkt! From the holy bimbo to St. Joseph. The somewhat different winter market on the banks of the Spree returns 👀\nWith a great program for the little ones and mulled wine & culture for the grown-ups. Every Thursday to Sunday\, our market square is transformed into the city’s coziest and weirdest winter universe.\n▶︎ THURSDAY & FRIDAY we invite you to eat and drink from 4 pm. With all kinds of delicacies from selected market stalls\, homemade Holzmarkt mulled wine and a retro carousel from 1961. Naturally\, everything is cozy and warm by the fire barrel.\n▶︎ SATURDAY & SUNDAY there is a cultural program on top. The Heissa Holzmarkt is for everyone! Bring grandma\, grandpa and the rascals!\nAnd of course there will be glittering knick-knacks from hand-picked traders anyway. So there’s no shortage of original gifts this year!\n🔥 PROGRAM HIGHLIGHTS 🔥\n▶︎ FOR THE KIDS:\nConcert with Mr. Jan\, children’s readings in the fairytale hut\, baking in the Backpfeife\,\nmagic show\, indoor bouncy castle\, 3D printer recycling workshop\,\ntoy flea market/swap market\, flea circus.\n▶︎ FOR THE ADULTS:\nDrag shows by Duct Tape\, Brazilian Samba Takeover by Maloca\, music and performances every weekend!\n🔥 WINTER MARKET INFO 🔥\n▶︎ When?\nFrom November 23 to December 23\nhttps://www.facebook.com/events/344575811293936/?event_time_id=344575857960598
URL:https://clockworkbanana.com/event/%f0%9f%94%a5-heissa-holzmarkt-%f0%9f%94%a5-wintermarkt-an-der-spree/
LOCATION:Holzmarkt25\, Holzmarktstr. 25\, Berlin\, 10243\, Germany
CATEGORIES:Festival,Market
ATTACH;FMTTYPE=image/jpeg:https://clockworkbanana.com/wp-content/uploads/2023/11/394735964_734284728744280_7901975008234833159_n.jpg
ORGANIZER;CN="Holzmarkt25":MAILTO:noreply@facebookmail.com
END:VEVENT
BEGIN:VEVENT
DTSTART;TZID=Europe/Berlin:20231212T170000
DTEND;TZID=Europe/Berlin:20231217T220000
DTSTAMP:20260419T191123
CREATED:20231120T010749Z
LAST-MODIFIED:20231120T011704Z
UID:8942-1702400400-1702850400@clockworkbanana.com
SUMMARY:Korean Fried Chicken Week
DESCRIPTION:During the Korean War US marines introduced fried chicken to Korea. All week we are serving traditional Korean fried chicken\, as well as our US/Korean fusion take on fried chicken. All dishes are available vegan/vegetarian.\nTRADITIONAL KOREAN PLATE €16\nFried chicken in sweet-spicy gochujang sauce\, with rice and kimchi (vegan optional)\nUS/KOREAN PLATE €16\nCrispy fried chicken\, kimchi mac and cheese\, Korean slaw (vegan/veggie optional)\nKOREAN CHICKEN BURGER €10\nKorean fried chicken thigh with gochujang sauce\, mayo\, kimchi and lettuce (vegan optional)\nUS/KOREAN CHICKEN BURGER €10\nCrispy fried chicken thigh with Korean slaw\, mayo\, pickles and lettuce (vegan optional)\nSIDES\nFried chicken in sweet-spicy gochujang sauce €8 (vegan optional)\nCrispy fried chicken €7 (vegan optional)\nDubu-ganjeong – sweet-spicy crispy tofu €6\nKimchi mac and cheese €6\nRice €4\nKorean slaw €3\nKimchi €4\nhttps://www.facebook.com/events/257804926824556/
URL:https://clockworkbanana.com/event/korean-fried-chicken-week-3/
LOCATION:Weserstraße 168\, 12045 Berlin\, Deutschland
CATEGORIES:Food
ATTACH;FMTTYPE=image/jpeg:https://clockworkbanana.com/wp-content/uploads/2023/11/395196841_817761840357448_22999840988253457_n.jpg
ORGANIZER;CN="Crazy Bastrd Kitchen":MAILTO:noreply@facebookmail.com
END:VEVENT
BEGIN:VEVENT
DTSTART;TZID=Europe/Berlin:20231215T190000
DTEND;TZID=Europe/Berlin:20231215T220000
DTSTAMP:20260419T191123
CREATED:20231211T095035Z
LAST-MODIFIED:20231211T095528Z
UID:9347-1702666800-1702677600@clockworkbanana.com
SUMMARY:LARRY BANG BANG ★ ALIEN QUARTETT (all but science) ★ DJ VICIOUS VRONI
DESCRIPTION:LARRY BANG BANG ★ ALIEN QUARTETT ★ DJ VICOUS VRONI\nThis event will take place in the Salon Rouge of kitkatclub \, secret entrance through Ohmstrasse 11\, follow the red lanterns.\nDOORS/BAR: 19h / SHOWS: 20h\nENTRANCE/DONATIONS: Sliding Scale FROM 10e TO 25e\, your call\nhttp://larrybangbang.com/Musicpage.html\nhttps://on.soundcloud.com/DGctY \n* Resident Advisor event link -> https://ra.co/events/1818091 *\nhttps://www.facebook.com/events/1461159261409130/
URL:https://clockworkbanana.com/event/larry-bang-bang-%e2%98%85-alien-quartett-all-but-science-%e2%98%85-dj-vicious-vroni/
LOCATION:SALON ROUGE @ KitKatClub Berlin
CATEGORIES:Live Music
ATTACH;FMTTYPE=image/jpeg:https://clockworkbanana.com/wp-content/uploads/2023/12/405692803_1065020867988834_4996691215591871361_n.jpg
ORGANIZER;CN="LARRY BANG BANG":MAILTO:noreply@facebookmail.com
END:VEVENT
BEGIN:VEVENT
DTSTART;TZID=Europe/Berlin:20231215T190000
DTEND;TZID=Europe/Berlin:20231215T230000
DTSTAMP:20260419T191123
CREATED:20231211T175137Z
LAST-MODIFIED:20231211T175137Z
UID:9360-1702666800-1702681200@clockworkbanana.com
SUMMARY:Cosmic Comedy Club Berlin : Showcase
DESCRIPTION:Cosmic Comedy Club Berlin : Showcase\nFriday 15th December 2023 \nThis show is in English. \nJoin us for Cosmic Comedy Club Berlin at our brand new venue and as always every show with Free Vegan and Vegetarian Pizza & Shots \nHosted by:\nDharmander Singh (UK) & Neil Numb (SCOT) \n★★★★★ THE ACTS ★★★★★ \nDrew Portnoy (US)\nSandy Jones (UK)\nFitz Gessler (NZ)\nShannon Brooke (AUS)\nAlvin Liu (CHN) \n★★★★★ OPENING TIMES ★★★★★ \nPre-Drinks : 7pm – 9pm\nPizza: 8.15pm\nMain Show : 9pm – 11pm\n2for1 on selected drinks 7pm – 8pm \n★★★★★ HOT SAUCE ★★★★★ \nWe are the only comedy club in the world that has hot sauce shop\, get your hands on some of the best hot sauces in Europe and beyond. https://bit.ly/cosmichotsauce \n★★★★★ TICKETS ★★★★★ \nThe tickets price includes 7% VAT\nhttps://comedyclubberlin.com/events/ \n★★★★★ THE VENUE ★★★★★ \nKookaburra Comedy Club\nSchönhauser Allee 184\, 10119 Berlin\nhttps://bit.ly/3vOs1hH \n★★★★★ COMMUNITY ★★★★★ \nPlease join our Comedy Telegram group to communicate with other nice people going to comedy events in Berlin: http://bit.ly/berlinsocialchat
URL:https://clockworkbanana.com/event/cosmic-comedy-club-berlin-showcase-110/
LOCATION:Cosmic Comedy Club Berlin\, Schönhauser Allee 184\, Berlin\, 10119\, Germany
CATEGORIES:Comedy
ATTACH;FMTTYPE=image/jpeg:https://clockworkbanana.com/wp-content/uploads/2023/12/Friday-15th-December-2023.jpg
END:VEVENT
BEGIN:VEVENT
DTSTART;TZID=Europe/Berlin:20231215T200000
DTEND;TZID=Europe/Berlin:20231215T230000
DTSTAMP:20260419T191123
CREATED:20231122T225411Z
LAST-MODIFIED:20231122T230312Z
UID:9223-1702670400-1702681200@clockworkbanana.com
SUMMARY:CARMEN CHRAIM - SOLO SHOW - Berlin
DESCRIPTION:Join Lebanese comedian Carmen Chraim for an hour of class\, sass and jokes about her multiple identities\, her life as an Arab in Germany and most importantly\, her outrageously weird adventures in Europe! \nThis is a vibrant interactive stand-up comedy show that will make you feel good about yourself and your life. If you ever thought “I bet my life is more messed up than anyone else’s”\, then come to this show – Carmen gladly accepts the challenge to prove you wrong!\nAbout Carmen: \nBorn and raised in Lebanon\, she wins over the crowds with her high energy presence\, rapid-fire anecdotes and love for sarcasm. Carmen has been performing comedy for almost 10 years in 4 different languages. She has produced many successful shows in Berlin\, has toured in several European countries and opened for international comedians such as: Todd Barry\, Judah Friedlander\, Andy Haynes … \nShe is now part of a female comedy collective called Queen Bees Comedy. You can follow her high pitched voice to see where she’s performing next or also follow her on instagram \nEvent is brought to you in collaboration with Queen Bees Comedy and Comedy In English Berlin\nPhoto Credit: Ingmar Budach & Severine Lenglet \nDoors open at 20h00\nShow starts at 20h30 \nhttps://www.facebook.com/events/2082957392051467/
URL:https://clockworkbanana.com/event/carmen-chraim-solo-show-berlin/
LOCATION:Kleinod
CATEGORIES:Comedy
ATTACH;FMTTYPE=image/jpeg:https://clockworkbanana.com/wp-content/uploads/2023/11/404452421_686493836791523_2251978312089656965_n.jpg
ORGANIZER;CN="Carmen Chraim":MAILTO:noreply@facebookmail.com
END:VEVENT
BEGIN:VEVENT
DTSTART;TZID=Europe/Berlin:20231215T220000
DTEND;TZID=Europe/Berlin:20231216T010000
DTSTAMP:20260419T191123
CREATED:20231121T001409Z
LAST-MODIFIED:20231121T001620Z
UID:9161-1702677600-1702688400@clockworkbanana.com
SUMMARY:Closing
DESCRIPTION:tba\nhttps://www.facebook.com/events/286718180421792/
URL:https://clockworkbanana.com/event/closing/
LOCATION:Mensch Meier
ATTACH;FMTTYPE=image/jpeg:https://clockworkbanana.com/wp-content/uploads/2023/11/403880093_736173625209271_6009414785697225052_n.jpg
ORGANIZER;CN="Mensch Meier":MAILTO:noreply@facebookmail.com
END:VEVENT
END:VCALENDAR