BEGIN:VCALENDAR
VERSION:2.0
PRODID:-//Clockwork Banana - ECPv6.15.20//NONSGML v1.0//EN
CALSCALE:GREGORIAN
METHOD:PUBLISH
X-ORIGINAL-URL:https://clockworkbanana.com
X-WR-CALDESC:Events for Clockwork Banana
REFRESH-INTERVAL;VALUE=DURATION:PT1H
X-Robots-Tag:noindex
X-PUBLISHED-TTL:PT1H
BEGIN:VTIMEZONE
TZID:Europe/Berlin
BEGIN:DAYLIGHT
TZOFFSETFROM:+0100
TZOFFSETTO:+0200
TZNAME:CEST
DTSTART:20230326T010000
END:DAYLIGHT
BEGIN:STANDARD
TZOFFSETFROM:+0200
TZOFFSETTO:+0100
TZNAME:CET
DTSTART:20231029T010000
END:STANDARD
BEGIN:DAYLIGHT
TZOFFSETFROM:+0100
TZOFFSETTO:+0200
TZNAME:CEST
DTSTART:20240331T010000
END:DAYLIGHT
BEGIN:STANDARD
TZOFFSETFROM:+0200
TZOFFSETTO:+0100
TZNAME:CET
DTSTART:20241027T010000
END:STANDARD
BEGIN:DAYLIGHT
TZOFFSETFROM:+0100
TZOFFSETTO:+0200
TZNAME:CEST
DTSTART:20250330T010000
END:DAYLIGHT
BEGIN:STANDARD
TZOFFSETFROM:+0200
TZOFFSETTO:+0100
TZNAME:CET
DTSTART:20251026T010000
END:STANDARD
END:VTIMEZONE
BEGIN:VEVENT
DTSTART;TZID=Europe/Berlin:20240116T170000
DTEND;TZID=Europe/Berlin:20240121T220000
DTSTAMP:20260419T220815
CREATED:20240117T143433Z
LAST-MODIFIED:20240117T143818Z
UID:9524-1705424400-1705874400@clockworkbanana.com
SUMMARY:Manchester Curry Mile (Proper Curry Week)
DESCRIPTION:Classic British-Indian specialities from chicken tikka masala and lamb vindaloo\, to onion bhajis and papadams with mango chutney. \nMenu:\nTHALI (mixed platters)\nVegan – Pumpkin tikka masala\, plantain\, zucchini and cashew korma\, onion bhaji\, papadum\, mango chutney\, basmati rice €19.5 (v)(gf)(contains nuts)\nClassic – Chicken tikka masala\, lamb vindaloo\, onion bhaji\, papadum\, mango chutney\, basmati rice €21 (gf) \nCURRY\nserved with rice and papadum:\nChicken Tikka Masala – The UK’s favourite curry €15 (medium)(gf)\nPumpkin Tikka Masala – Vegan version of the UK’s favourite curry €14 (medium) (v)(gf)\nPlantain\, Zucchini and Cashew Korma – Vegan coconut and cashew nut sauce with fried plantain and zucchini €15 (medium)(v)(gf)(contains nuts)\nLamb Vindaloo – Lamb shoulder in spicy curry sauce €17.5 (hot)(gf) \nExtras\nOnion bhaji with mango chutney €5\n3 papadum with mango chutney €4\nMango chutney €2\nFried flatbread €4.5\nExtra rice €4 \nhttps://www.facebook.com/events/688570943082963/
URL:https://clockworkbanana.com/event/manchester-curry-mile-proper-curry-week-3/
LOCATION:Weserstraße 168\, 12045 Berlin\, Deutschland
CATEGORIES:Food
ATTACH;FMTTYPE=image/jpeg:https://clockworkbanana.com/wp-content/uploads/2024/01/414860079_862588182541480_5252271682667919344_n.jpg
ORGANIZER;CN="Crazy Bastrd Kitchen":MAILTO:noreply@facebookmail.com
END:VEVENT
END:VCALENDAR