BEGIN:VCALENDAR
VERSION:2.0
PRODID:-//Clockwork Banana - ECPv6.15.20//NONSGML v1.0//EN
CALSCALE:GREGORIAN
METHOD:PUBLISH
X-ORIGINAL-URL:https://clockworkbanana.com
X-WR-CALDESC:Events for Clockwork Banana
REFRESH-INTERVAL;VALUE=DURATION:PT1H
X-Robots-Tag:noindex
X-PUBLISHED-TTL:PT1H
BEGIN:VTIMEZONE
TZID:Europe/Berlin
BEGIN:DAYLIGHT
TZOFFSETFROM:+0100
TZOFFSETTO:+0200
TZNAME:CEST
DTSTART:20230326T010000
END:DAYLIGHT
BEGIN:STANDARD
TZOFFSETFROM:+0200
TZOFFSETTO:+0100
TZNAME:CET
DTSTART:20231029T010000
END:STANDARD
BEGIN:DAYLIGHT
TZOFFSETFROM:+0100
TZOFFSETTO:+0200
TZNAME:CEST
DTSTART:20240331T010000
END:DAYLIGHT
BEGIN:STANDARD
TZOFFSETFROM:+0200
TZOFFSETTO:+0100
TZNAME:CET
DTSTART:20241027T010000
END:STANDARD
BEGIN:DAYLIGHT
TZOFFSETFROM:+0100
TZOFFSETTO:+0200
TZNAME:CEST
DTSTART:20250330T010000
END:DAYLIGHT
BEGIN:STANDARD
TZOFFSETFROM:+0200
TZOFFSETTO:+0100
TZNAME:CET
DTSTART:20251026T010000
END:STANDARD
END:VTIMEZONE
BEGIN:VEVENT
DTSTART;TZID=Europe/Berlin:20240118T200000
DTEND;TZID=Europe/Berlin:20240124T200000
DTSTAMP:20260420T010120
CREATED:20240117T142302Z
LAST-MODIFIED:20240117T142557Z
UID:9504-1705608000-1706126400@clockworkbanana.com
SUMMARY:Neu im Kino: POOR THINGS von Yorgos Lanthimos *OmU* | Kino Intimes Berlin
DESCRIPTION:Ab 18. Januar im #KinoIntimes: POOR THINGS mit Emma Stone\, Mark Ruffalo\, Willem Dafoe. Fantasy-Groteske von Yargos Lanthimos.\nGolden Globes 2024: Bester Film (Comedy/Musical) & Beste Hauptdarstellerin (Comedy/Musical) – Emma Stone. Goldener Löwe Filmfestspiele von Venedig 2023. \n// English language with German subtitles // \nThe incredible tale and fantastical evolution of Bella Baxter\, a young woman brought back to life by the brilliant and unorthodox scientist Dr. Godwin Baxter. Under Baxter’s protection\, Bella is eager to learn. Hungry for the worldliness she is lacking\, Bella runs off with Duncan Wedderburn\, a slick and debauched lawyer\, on a whirlwind adventure across the continents.\nSHOWS & TICKETS \nwww.kino-intimes.de/tickets\nhttps://www.facebook.com/events/1027566971656304/
URL:https://clockworkbanana.com/event/neu-im-kino-poor-things-von-yorgos-lanthimos-omu-kino-intimes-berlin/
LOCATION:Kino Intimes
CATEGORIES:Film
ATTACH;FMTTYPE=image/jpeg:https://clockworkbanana.com/wp-content/uploads/2024/01/416919704_694792602786060_7024426784923611353_n.jpg
ORGANIZER;CN="Kino Intimes":MAILTO:noreply@facebookmail.com
END:VEVENT
BEGIN:VEVENT
DTSTART;TZID=Europe/Berlin:20240118T200000
DTEND;TZID=Europe/Berlin:20240124T223000
DTSTAMP:20260420T010120
CREATED:20231214T183510Z
LAST-MODIFIED:20231214T183833Z
UID:9387-1705608000-1706135400@clockworkbanana.com
SUMMARY:17th British Shorts Film Festival
DESCRIPTION:British Shorts Film Festival\, Berlin is once more back in 2024 to present the most exciting\, funniest\, strangest and most thrilling new short films from the home of dirty weather – Drama\, comedy\, thriller\, animation\, experimentals\, docs\, horror\, science fiction and music videos straight from the UK and Ireland. Short film screenings\, live music\, a free film workshop plus 48-hour film challenge\, talks\, an exhibition\, a retrospective screening (“Weekender – Memories of Acid House & 90s Rave Scenes“ and SO MUCH MORE! \nVenues: Sputnik Kino\, City Kino Wedding\, Acudkino\, Kino Intimes\, Klick Kino\, Gretchen! \nProgramme & Tickets in early January on www.britishshorts.de \n++++++++++ \nFilm still: Wild Summon (Karni & Saul)\nhttps://www.facebook.com/events/7059848690789505/
URL:https://clockworkbanana.com/event/17th-british-shorts-film-festival/
LOCATION:SPUTNIK KINO (Höfe am Südstern) Berlin Kreuzberg
ATTACH;FMTTYPE=image/jpeg:https://clockworkbanana.com/wp-content/uploads/2023/12/410326545_856772559787357_5896778054395168597_n.jpg
ORGANIZER;CN="British Shorts Film Festival%2C Berlin":MAILTO:noreply@facebookmail.com
END:VEVENT
BEGIN:VEVENT
DTSTART;TZID=Europe/Berlin:20240123T170000
DTEND;TZID=Europe/Berlin:20240128T220000
DTSTAMP:20260420T010120
CREATED:20240117T144009Z
LAST-MODIFIED:20240117T144245Z
UID:9531-1706029200-1706479200@clockworkbanana.com
SUMMARY:SCOTTISH CHIP SHOP WEEK at CBK
DESCRIPTION:Fish & Chips\, Haggis Pie Supper\, Pizza Crunch\, Deep Fried Mars Bars. Ya canny beat a Scottish chippy! \nMains (upgrade to curry cheese chips +€2):\nFish & Chips €18.5\nBeer-battered cod fillet\,\nwith mushy peas and tartare sauce\, and chips with salt and malt vinegar.\nVish & Chips (v) €15\nBeer-battered banana blossom\nwith mushy peas and tartare sauce\, and chips with salt and malt vinegar.\nHaggis Pie Supper €17\nBeer-battered haggis pie\, broon sauce\, mushy peas and chips with salt and malt vinegar.\nVegan Haggis Pie Supper €17\nBeer-battered vegan haggis pie\, broon sauce\, mushy peas and chips with salt and malt vinegar.\nPizza Crunch & Chips €16\nBeer-battered pizza\, broon sauce\, mushy peas and chips with salt and malt vinegar. \nSIDES & EXTRAS:\nCurry Cheese Chips (vo) €8\nSalt & Vinegar Chips (v) €6\nBattered Haggis Pie (vo) €9\nBeer-battered cod €10\nBeer-battered banana blossom (v) €8\nPizza Crunch (deep fried pizza slice) €8\nMushy Peas portion €3\nTartare Sauce €2.5\nBroon Sauce €2.5\nCurry Sauce €2.5\nDeep fried mars bar €4\nPineapple fritter €3 \nhttps://www.facebook.com/events/902596927945659/
URL:https://clockworkbanana.com/event/scottish-chip-shop-week-at-cbk-3/
CATEGORIES:Food
ATTACH;FMTTYPE=image/jpeg:https://clockworkbanana.com/wp-content/uploads/2024/01/414406285_862590765874555_3665416679813614931_n-1.jpg
ORGANIZER;CN="Crazy Bastrd Kitchen":MAILTO:noreply@facebookmail.com
END:VEVENT
BEGIN:VEVENT
DTSTART;TZID=Europe/Berlin:20240123T200000
DTEND;TZID=Europe/Berlin:20240123T230000
DTSTAMP:20260420T010120
CREATED:20231214T180437Z
LAST-MODIFIED:20231214T180856Z
UID:9375-1706040000-1706050800@clockworkbanana.com
SUMMARY:British Shorts presents: Weekender – Memories of Acid House & 90s Rave Scenes (Retrospective)
DESCRIPTION:This year’s British Shorts Film Festival Retrospective “Weekender – Memories of Acid House & 90s Rave Scenes” brings together music films\, documentaries and video clips that show the origins of the Acid House and rave scenes in the UK in the late 1980s and 1990s. While showcasing immersive depictions of the music and the associated lifestyles\, it also focuses on social aspects such as the moral panic created by the tabloid press and the illegalisation of raves by the conservative government\, which even went so far as to ban the public performance of music containing “repetitive beats” with the Criminal Justice Act of 1994. \nThe programme depicts various developments\, including the free festivals of the Freetekno movement and events by queer party collectives that consciously distanced themselves from the increasing commercialisation of house and techno music\, and forges a bridge to the influences that these warehouse raves of the 90s have had on contemporary pop culture.\nTo create a fitting environment for this topic\, the screening will take place at Gretchen\, one of our favourite clubs in Berlin. \nProgramme:\nFlowered Up – Weekender (1992) (Music Video)\, D: WIZ\, 19:19\nWorld in Action: A Trip Round Acid House (1988) (Documentary)\, Granada Television\, 26:05\nOrbital – The Box (1996) (Music Video)\, D: Jes Benstock\, Luke Losey\, 5:00\nTechno Babes (1996) (Documentary)\, P: Toral Dixit\, 9:57\nRave (1997) (Documentary)\, D: Torstein Grude\, 11:48\nChase and Status – Blind Faith (2010) (Music Video)\, D: Daniel Wolfe\, 9:14\nBicep – Glue (2017) (Music Video)\, D: Joe Wilson\, 4:45\nDetails and tickets: https://www.britishshorts.de/programme?id=1824083578214770022\nFilm still: Tilda Swinton in Orbital – The Box \nhttps://www.facebook.com/events/2323054364553009/
URL:https://clockworkbanana.com/event/british-shorts-presents-weekender-memories-of-acid-house-90s-rave-scenes-retrospective/
LOCATION:Club GRETCHEN\, Obentrautstr. 19-21\, Berlin\, Kreuzberg\, 10963
CATEGORIES:Festival,Film
ATTACH;FMTTYPE=image/jpeg:https://clockworkbanana.com/wp-content/uploads/2023/12/411185441_858078706323409_7523769381646575307_n.jpg
ORGANIZER;CN="British Shorts Film Festival%2C Berlin":MAILTO:noreply@facebookmail.com
END:VEVENT
END:VCALENDAR