BEGIN:VCALENDAR
VERSION:2.0
PRODID:-//Clockwork Banana - ECPv6.15.20//NONSGML v1.0//EN
CALSCALE:GREGORIAN
METHOD:PUBLISH
X-WR-CALNAME:Clockwork Banana
X-ORIGINAL-URL:https://clockworkbanana.com
X-WR-CALDESC:Events for Clockwork Banana
REFRESH-INTERVAL;VALUE=DURATION:PT1H
X-Robots-Tag:noindex
X-PUBLISHED-TTL:PT1H
BEGIN:VTIMEZONE
TZID:Europe/Berlin
BEGIN:DAYLIGHT
TZOFFSETFROM:+0100
TZOFFSETTO:+0200
TZNAME:CEST
DTSTART:20230326T010000
END:DAYLIGHT
BEGIN:STANDARD
TZOFFSETFROM:+0200
TZOFFSETTO:+0100
TZNAME:CET
DTSTART:20231029T010000
END:STANDARD
BEGIN:DAYLIGHT
TZOFFSETFROM:+0100
TZOFFSETTO:+0200
TZNAME:CEST
DTSTART:20240331T010000
END:DAYLIGHT
BEGIN:STANDARD
TZOFFSETFROM:+0200
TZOFFSETTO:+0100
TZNAME:CET
DTSTART:20241027T010000
END:STANDARD
BEGIN:DAYLIGHT
TZOFFSETFROM:+0100
TZOFFSETTO:+0200
TZNAME:CEST
DTSTART:20250330T010000
END:DAYLIGHT
BEGIN:STANDARD
TZOFFSETFROM:+0200
TZOFFSETTO:+0100
TZNAME:CET
DTSTART:20251026T010000
END:STANDARD
END:VTIMEZONE
BEGIN:VEVENT
DTSTART;TZID=Europe/Berlin:20240126T180000
DTEND;TZID=Europe/Berlin:20240204T190000
DTSTAMP:20260419T220718
CREATED:20240124T110823Z
LAST-MODIFIED:20240124T111450Z
UID:9576-1706292000-1707073200@clockworkbanana.com
SUMMARY:MOTHERHOOD II / Shifting Realities
DESCRIPTION:Stella Bach\, Julia Bugram\, Die 4 Grazien\, Katya Dimova\, Ines Doleschal\, Sibylle Gieselmann\, Rachel Kohn\, Susanne Kompast\, Claudia Kragulj\, Sarah Iris Mang\, Barbara Philipp\, Anna Rafetseder\, Katharina Reich\, Agnes Rossa\, Christiane Spatt\, Martina Tritthart\, Linde Waber\, Sula Zimmerberger\, Dorothée Zombronner \nIntAkt – Internationale Aktionsgemeinschaft bildender Künstlerinnen in Kooperation mit dem HilbertRaum und der Retramp Gallery\nVernissage: Freitag\, 26.01.2024\, 18:00 – 22:00 Uhr\nmit Lesung „Mutter kocht Suppe“ von Lena Kothgasser-Haider\, 19:00 Uhr\, Retramp Gallery\, Reuterstr. 62\, 12047 Berlin \nKünstlerinnenführung: Samstag\, 27.01.2024\, 15:00 – 17:00 Uhr\, Treffpunkt im HilbertRaum\nFinissage: Sonntag\, 04.02.2024\, 14:00 – 19:00 Uhr\nmit Performance „ \nHow I Apply My Products“ von Tanja Ritterbex\, 17:00 Uhr\, HilbertRaum\nDauer: 26.01.2024 – 04.02.2024\nOnline-Konferenz: Samstag\, 10.02.2024\, 12:00 – 15:00 Uhr\, \nAnmeldungen für die Online-Konferenz an motherhoodzwei@gmail.com\nkuratiert von: Hannah van Ginkel\nMotherhood Team: Stella Bach\, Hannah van Ginkel\, Barbara Philipp\, Agnes Rossa\, Verity Oberg\, Dorothée Zombronner \nThe exhibition “Motherhood II / Shifting Realities” is the second in a series of exhibitions about motherhood and being a woman. The aim of the exhibition is to question and deconstruct myths surrounding male and female attributions. The project is organized and curated by IntAkt – International female visual artists ( Internationale Aktionsgemeinschaft bildender Künstlerinnen)\, Vienna – in collaboration with HilbertRaum and Retramp Gallery. The latter are two project spaces for contemporary art in Berlin Neukölln. The current exhibition is an essential extension of the previous exhibition “Motherhood I / Concepts of Motherhood”\, which was also realized by HilbertRaum member Hannah van Ginkel in close cooperation and with the support of the Motherhood team. \nIn “Motherhood II / Shifting Realities”\, the focus is on intergenerational and historical themes relating to motherhood. Furthermore\, socially highly relevant perspectives such as queer feminist and socio-political positions are shown to direct a more intersectional view of the topic. The exhibition also draws attention to social structures that make it difficult for artists – both mothers and non-mothers – to make a name for themselves on the art market.\nParallel to the exhibition\, the Motherhood Team will be showing works by international female artists in public spaces on billboards in cooperation with “Procreate Project”. Procreate Project is a growing archive of international artists who are mothers/parents. The posters will be shown as a large poster twice in the city\, the locations are Manitiusstraße and Fuldastraße (Manitiusstraße 13 and Fuldastraße 53\, 12047 Neukölln\, Berlin). On display: 22.1.2024 – 4.2.2024. https://archive.procreateproject.com/archive/ \nOn Saturday\, December 10\, 2024\, at 12:00 noon (GMT +1)\, an international online conference of IntAkt will take place with various other networks on the topic of motherhood. Participants include Dyana Gravina from “Procreate Project” (London)\, Marcia Breuer from “Mehr Mütter für die Kunst” (Hamburg)\, Ruchika Wason Singh (India) “A.M.M.A.A.” (is the first platform for mother artists in Asia Yllyang Montenegro and Len-Len from “the O Home” (Philippines)\, as well as Ines Doleschal and Rachel Kohn from “Fair Share” (Berlin). The aim is future collaboration and the visualization and promotion of the flow of information on the topic of motherhood in contemporary art. In spring\, the second IntAkt Motherhood online conference will invite curators\, collectives and platforms.\nRegistrations for the online conference should be sent to \nmotherhoodzwei@gmail.com\nText Agnes Rossa\nhttps://www.facebook.com/events/347524464763959/
URL:https://clockworkbanana.com/event/motherhood-ii-shifting-realities/
LOCATION:Reuterstr. 31\n12047 Berlin\, Germany
CATEGORIES:Art
ATTACH;FMTTYPE=image/jpeg:https://clockworkbanana.com/wp-content/uploads/2024/01/417424904_864297935701259_7432095509641585119_n.jpg
ORGANIZER;CN="HilbertRaum":MAILTO:noreply@facebookmail.com
END:VEVENT
BEGIN:VEVENT
DTSTART;TZID=Europe/Berlin:20240130T170000
DTEND;TZID=Europe/Berlin:20240204T220000
DTSTAMP:20260419T220718
CREATED:20240201T104401Z
LAST-MODIFIED:20240201T105549Z
UID:9716-1706634000-1707084000@clockworkbanana.com
SUMMARY:Kentucky Fried Week
DESCRIPTION:Four fried chicken dishes also available vegan! Vegan optional = vo \nFRIED CHICKEN PLATE €18\nFried chicken thigh\, leg and wing\, with mashed potatoes and gravy or mac and cheese. Served with coleslaw \nVEGAN/VEGETARIAN FRIED CHICKEN PLATE (vo) €17\nVegan fried chicken fillets with mashed potatoes and gravy or mac and cheese. Served with coleslaw \nFRIED CHICKEN SANDWICH €13\nFried chicken thigh\, in a brioche bun with coleslaw\, pickles and mayo \nVEGAN FRIED CHICKEN SANDWICH €11\nVegan fried chicken fillet\, in a brioche bun with coleslaw\, pickles and mayo \nEXTRAS\nMac n Cheese €7 (vo)\nMashed potatoes and gravy €7 (vo)\nColeslaw €4 (vo)\nFried Chicken Wing €4\nFried Chicken Leg €4\nFried Chicken Thigh €8\nFried Vegan Chicken €5 \nhttps://www.facebook.com/events/316830247991379/
URL:https://clockworkbanana.com/event/kentucky-fried-week-4/
LOCATION:Weserstraße 168\, 12045 Berlin\, Deutschland
CATEGORIES:Food
ATTACH;FMTTYPE=image/jpeg:https://clockworkbanana.com/wp-content/uploads/2024/02/414860250_862608095872822_7747888728169225754_n-1.jpg
ORGANIZER;CN="Crazy Bastrd Kitchen":MAILTO:noreply@facebookmail.com
END:VEVENT
BEGIN:VEVENT
DTSTART;TZID=Europe/Berlin:20240201T190000
DTEND;TZID=Europe/Berlin:20240201T230000
DTSTAMP:20260419T220718
CREATED:20240129T151410Z
LAST-MODIFIED:20240129T182409Z
UID:9602-1706814000-1706828400@clockworkbanana.com
SUMMARY:Cosmic Comedy Club Berlin: Open Mic
DESCRIPTION:Cosmic Comedy Club Berlin: Open Mic\nThursday 1st February 2024 \nThis show is in English. \nJoin us for Cosmic Comedy Club Berlin at our absolutely stunning venue in Mitte and as always every show with Free Vegan and Vegetarian Pizza & Shots \nHosted by:\nDharmander Singh (UK) & Neil Numb (SCOT) \n★★★★★ THE ACTS ★★★★★ \nBig thanks to all the sign ups. Our Cosmic Comedy Berlin 1st Feb makers of the funny words will be Andrew Ritchie\, Stephen Blaubach\, Ster Voorpijl\, \, Prateek Jajoo\, Prateek Jajoohari Mari and Satvik Shukla. Satvik Shuklarmander SingDharmander SinghComedNeil Numb Comedy \n★★★★★ OPENING TIMES ★★★★★ \nPre-Drinks : 7pm – 9pm\nPizza: 8.15pm\nMain Show : 9pm – 11pm\n2for1 on selected drinks 7pm – 8pm \n★★★★★ HOT SAUCE ★★★★★ \nWe are the only comedy club in the world that has a hot sauce shop\, get your hands on some of the best hot sauces in Europe and beyond. https://bit.ly/cosmichotsauce \n★★★★★ TICKETS ★★★★★ \nThe tickets price includes 7% VAT\nhttps://comedyclubberlin.com/events/ \n★★★★★ THE VENUE ★★★★★ \nKookaburra Comedy Club\nSchönhauser Allee 184\, 10119 Berlin\nhttps://bit.ly/3vOs1hH \n★★★★★ COMMUNITY ★★★★★ \nPlease join our Comedy Telegram group to communicate with other nice people going to comedy events in Berlin: http://bit.ly/berlinsocialchat
URL:https://clockworkbanana.com/event/cosmic-comedy-club-berlin-open-mic-61/
LOCATION:Cosmic Comedy Club Berlin\, Schönhauser Allee 184\, Berlin\, 10119\, Germany
CATEGORIES:Comedy
ATTACH;FMTTYPE=image/jpeg:https://clockworkbanana.com/wp-content/uploads/2024/01/Thursday-1st-February-2024.jpg
END:VEVENT
BEGIN:VEVENT
DTSTART;TZID=Europe/Berlin:20240201T193000
DTEND;TZID=Europe/Berlin:20240201T223000
DTSTAMP:20260419T220718
CREATED:20240201T121757Z
LAST-MODIFIED:20240201T122426Z
UID:9768-1706815800-1706826600@clockworkbanana.com
SUMMARY:Episode B(lues Brothers:) Putting the Uke Boogie back together
DESCRIPTION:Uke Boogie is Berlin’s open stage for ukuleles and all other instruments that aren’t guitars*.\nCome along\, watch\, listen\, perform\, come without intending to perform\, then do it anyway\, or however you like. \nPerformers can play 2-3 songs depending on how many sign-ups that night.\nAfter a long pause\, Uke Boogie is back\, and since we are at the letter B\, we are celebrating the return with no lesser musical friends than the Blues Brothers 😀 \nSo look for your bowler hats and sunglasses\, and please note that\nstarting from this episode\, one of the new hosts and organizers @Grandmouse Flausch will donate a price for the best costume\nAnd our very wonderful host of many beautiful episodes @Robert Charles Wimpory is organizing an electrical keyboard for your convenience. \nShould you feel the need for even more convenience and cant manage to carry your Ukulele around all day or something\, @Grandmouse Flausch will be happy to lend you hers.\nAlso\, you can make a reservation for a song\, if you intend to play a specific song\, feel free to write it in the discussion section of this event\, and you will be the first to perform this song during the evening. Should someone else have the same idea then\, they can still play the song\, but then they are the copycat 😀 \nShow starts at 8:00pm sharp! So please be welcome to arrive a little earlier 😉\nSign up for performing begins at 8pm\, come early to ensure you get a spot! Performances will end at around 11pm so space is limited! \nLocation: Zum Böhmischen Dorf\, Sanderstrasse 11 – close U Bahn Schönleinstrasse (U8) or if you don’t mind walking a bit but you hate changing trains\, U Bahn Hermannplatz or Kottbusser Tor also work \nFREE ENTRY – however if you’d like to contribute some dimes simply purchase some raffle tickets (1€ per ticket or super special offer: 6 tix for 5€) – You can win fabulous prizes including a brand new ukulele! \nThe Ukulele is kindly sponsored by @Leleland Ukulele Shop\, it is THE place to go if you are looking to buy a Ukulele\, Guitarlele or Banjolele\, with 100s of beautiful instruments that you will rarely ever find in other music shops \nSome simple rules to make sure the show runs smoothly:\nRule no.0: No guitars!*\nRule no.1: R.E.S.P.E.C.T. – Respect the performer\, respect the audience\, respect the bartenders\, respect all living beings who are there.\nRule no.2: Have fun! \nUke Boogie is a safe place where racism\, sexism\, homophobia\, xenophobia\, all those nasty things have no place. \n*Why no guitars? – Most open stages are dominated by guitars so Uke Boogie is a place for all the other instruments to shine! \nhttps://www.facebook.com/events/300985129112304/
URL:https://clockworkbanana.com/event/episode-blues-brothers-putting-the-uke-boogie-back-together/
LOCATION:Zum böhmischen Dorf\, Sanderstraße 11\, Berlin\, Neukölln\, 12047\, Germany
CATEGORIES:Live Music
ATTACH;FMTTYPE=image/jpeg:https://clockworkbanana.com/wp-content/uploads/2024/02/417694974_7353719101338685_6073746725420215970_n.jpg
ORGANIZER;CN="Grandmouse Flausch":MAILTO:noreply@facebookmail.com
END:VEVENT
END:VCALENDAR