BEGIN:VCALENDAR
VERSION:2.0
PRODID:-//Clockwork Banana - ECPv6.15.20//NONSGML v1.0//EN
CALSCALE:GREGORIAN
METHOD:PUBLISH
X-WR-CALNAME:Clockwork Banana
X-ORIGINAL-URL:https://clockworkbanana.com
X-WR-CALDESC:Events for Clockwork Banana
REFRESH-INTERVAL;VALUE=DURATION:PT1H
X-Robots-Tag:noindex
X-PUBLISHED-TTL:PT1H
BEGIN:VTIMEZONE
TZID:Europe/Berlin
BEGIN:DAYLIGHT
TZOFFSETFROM:+0100
TZOFFSETTO:+0200
TZNAME:CEST
DTSTART:20230326T010000
END:DAYLIGHT
BEGIN:STANDARD
TZOFFSETFROM:+0200
TZOFFSETTO:+0100
TZNAME:CET
DTSTART:20231029T010000
END:STANDARD
BEGIN:DAYLIGHT
TZOFFSETFROM:+0100
TZOFFSETTO:+0200
TZNAME:CEST
DTSTART:20240331T010000
END:DAYLIGHT
BEGIN:STANDARD
TZOFFSETFROM:+0200
TZOFFSETTO:+0100
TZNAME:CET
DTSTART:20241027T010000
END:STANDARD
BEGIN:DAYLIGHT
TZOFFSETFROM:+0100
TZOFFSETTO:+0200
TZNAME:CEST
DTSTART:20250330T010000
END:DAYLIGHT
BEGIN:STANDARD
TZOFFSETFROM:+0200
TZOFFSETTO:+0100
TZNAME:CET
DTSTART:20251026T010000
END:STANDARD
END:VTIMEZONE
BEGIN:VEVENT
DTSTART;TZID=Europe/Berlin:20240206T170000
DTEND;TZID=Europe/Berlin:20240211T220000
DTSTAMP:20260419T233700
CREATED:20240201T105848Z
LAST-MODIFIED:20240201T112646Z
UID:9723-1707238800-1707688800@clockworkbanana.com
SUMMARY:Korean Fried Chicken Week
DESCRIPTION:All week we are serving traditional Korean fried chicken\, as well as our US/Korean fusion take on fried chicken. All dishes are available vegan/vegetarian. \nTRADITIONAL KOREAN PLATE €16 (vegan €15)\nFried chicken in sweet-spicy gochujang sauce\, with rice and kimchi (vegan optional) \nUS/KOREAN PLATE €16 (vegan €15)\nCrispy fried chicken\, kimchi mac and cheese\, Korean slaw (vegan/veggie optional) \nKOREAN CHICKEN BURGER €11 (vegan €10)\nKorean fried chicken thigh with gochujang sauce\, mayo\, kimchi and lettuce (vegan optional) \nUS/KOREAN CHICKEN BURGER €11 (vegan €10)\nCrispy fried chicken thigh with Korean slaw\, mayo\, pickles and lettuce (vegan optional) \nSIDES\nFried chicken in sweet-spicy gochujang sauce €9 (vegan optional)\nCrispy fried chicken €8\nVegan fried chicken €7\nDubu-ganjeong – sweet-spicy crispy tofu €7\nKimchi mac and cheese €6\nRice €4\nKorean slaw €3\nKimchi €4\nhttps://www.facebook.com/events/894786572115485/
URL:https://clockworkbanana.com/event/korean-fried-chicken-week-4/
LOCATION:Weserstraße 168\, 12045 Berlin\, Deutschland
CATEGORIES:Food
ATTACH;FMTTYPE=image/jpeg:https://clockworkbanana.com/wp-content/uploads/2024/02/419911457_875274487939516_7143724552750782065_n-1.jpg
ORGANIZER;CN="Crazy Bastrd Kitchen":MAILTO:noreply@facebookmail.com
END:VEVENT
BEGIN:VEVENT
DTSTART;TZID=Europe/Berlin:20240207T180000
DTEND;TZID=Europe/Berlin:20240211T234500
DTSTAMP:20260419T233700
CREATED:20240131T214851Z
LAST-MODIFIED:20240131T222959Z
UID:9685-1707328800-1707695100@clockworkbanana.com
SUMMARY:2024 Final Girls Berlin Film Festival
DESCRIPTION:Final Girls Film Festival returns for 2024\, darker and more daring than ever. Delve into the twisted world of “Where the Devil Roams” (Dirs. Zelda Adams\, Toby Poser\, and John Adams)\, where carnival horror meets fear of parental loss. Be the first in Germany to experience the psychological depths of Olivia West Lloyd’s “Somewhere Quiet\,” a psychological thriller that weaves a tapestry of vivid nightmares and fragmented relationships. “Our Father\, the Devil” (Dir. Ellie Foumbi) also makes its Berlin debut\, offering a stirring narrative on trauma and the journey to redemption. \nMore feature highlights include “My Animal” by Jacqueline Castel\, a gripping story of a young woman confronting a family curse and her innermost yearnings\, and “Tiger Stripes\,” Amanda Nell Eu’s Malaysian Malay-language directorial debut that ventures into the realm of body horror. And don’t miss “T Blockers\,” a unique blend of queer horror and heart from Australia that combines elements of grotesque horror with an uplifting coming-of-age story\, flipping a middle finger towards the bigots of the world. \nOur curated themed blocks of short films will plunge you into realms of digital dystopias\, horror hags\, the absurd and surreal\, family horror\, and even haunted vaginas (no\, really). Beyond screenings\, come to the Queer for Fear book launch and immerse yourself in our panels and workshops that delve into vital discussions on trans representation and disability in modern horror.\nhttps://www.facebook.com/events/1085594539418954/
URL:https://clockworkbanana.com/event/2024-final-girls-berlin-film-festival/
LOCATION:City Kino Wedding
CATEGORIES:Festival,Film
ATTACH;FMTTYPE=image/jpeg:https://clockworkbanana.com/wp-content/uploads/2024/01/415117440_860119182570734_4572612788904577360_n.jpg
ORGANIZER;CN="Final Girls Berlin Film Festival":MAILTO:noreply@facebookmail.com
END:VEVENT
BEGIN:VEVENT
DTSTART;TZID=Europe/Berlin:20240208T190000
DTEND;TZID=Europe/Berlin:20240208T230000
DTSTAMP:20260419T233700
CREATED:20240129T171142Z
LAST-MODIFIED:20240129T171142Z
UID:9607-1707418800-1707433200@clockworkbanana.com
SUMMARY:Cosmic Comedy Club Berlin: Open Mic
DESCRIPTION:Cosmic Comedy Club Berlin: Open Mic\nThursday 8th February 2024 \nThis show is in English. \nJoin us for Cosmic Comedy Club Berlin at our absolutely stunning venue in Mitte and as always every show with Free Vegan and Vegetarian Pizza & Shots \nHosted by:\nDharmander Singh (UK) & Neil Numb (SCOT) \n★★★★★ THE ACTS ★★★★★ \nThanks to all the sign ups. Our Feb 8th Cosmic Comedy Berlin Laugh Monkeys will be Dion Owen\, Mari Krõõt Volar\, Philip Weih\, Will Thorne\, Liisa Evastina \, Šarūnas Girdauskas and Emin Afandi. Hosted by Dharmander Singh and Neil Numb Comedy \n★★★★★ OPENING TIMES ★★★★★ \nPre-Drinks : 7pm – 9pm\nPizza: 8.15pm\nMain Show : 9pm – 11pm\n2for1 on selected drinks 7pm – 8pm \n★★★★★ HOT SAUCE ★★★★★ \nWe are the only comedy club in the world that has a hot sauce shop\, get your hands on some of the best hot sauces in Europe and beyond. https://bit.ly/cosmichotsauce \n★★★★★ TICKETS ★★★★★ \nThe tickets price includes 7% VAT\nhttps://comedyclubberlin.com/events/ \n★★★★★ THE VENUE ★★★★★ \nKookaburra Comedy Club\nSchönhauser Allee 184\, 10119 Berlin\nhttps://bit.ly/3vOs1hH \n★★★★★ COMMUNITY ★★★★★ \nPlease join our Comedy Telegram group to communicate with other nice people going to comedy events in Berlin: http://bit.ly/berlinsocialchat
URL:https://clockworkbanana.com/event/cosmic-comedy-club-berlin-open-mic-62/
LOCATION:Cosmic Comedy Club Berlin\, Schönhauser Allee 184\, Berlin\, 10119\, Germany
CATEGORIES:Comedy
ATTACH;FMTTYPE=image/jpeg:https://clockworkbanana.com/wp-content/uploads/2024/01/Thursday-8th-February-2024.jpg
END:VEVENT
BEGIN:VEVENT
DTSTART;TZID=Europe/Berlin:20240208T200000
DTEND;TZID=Europe/Berlin:20240208T230000
DTSTAMP:20260419T233700
CREATED:20231121T125550Z
LAST-MODIFIED:20231121T125822Z
UID:9195-1707422400-1707433200@clockworkbanana.com
SUMMARY:BLINDBOY: THE TOPOGRAPHIA HIBERNICA LIVE TOUR
DESCRIPTION:Blindboy: The Topographia Hibernica Live Tour\nExperience The Blindboy Podcast LIVE with polymath\, author\, screenwriter\, songwriter\, musician\, producer and academic Blindboy to mark to release of his highly anticipated book\, Topographia Hibernica. \nDescribed as a “cultural phenomenon” by The New York Times; The Blindboy podcast is an award-winning\, storytelling podcast in the Irish tradition of the Seanchaí which seamlessly intertwines history\, fiction\, cultural critique and politics into a relaxing form the creator calls “The podcast hug”.\nDrawing upon his knowledge and chronic curiosity to democratise topics such as art\, psychology\, politics\, science and music\, for these LIVE and exclusive events\, Blindboy will offer the audience a unique and humorous insight into issues which are perceived to be complex. \nThe Blindboy Podcast is the creative summation of Mr Boatclubs experience\, exceeding 60 million global listeners. From Toronto\, to London\, to Sydney to Galway\, Blindboy’s live podcasts are consistently sold-out affairs where he captivates his audiences in a quietened intimate atmosphere. But\, like Blindboy\, these events are truly unique. \nDrawing from his years of live performance experience\, Blindboy will read from his much-anticipated new book Topographia Hibernica; a visionary new short story collection that unravels the knotted threads of humanity\, nature and colonisation. \nWith a surprise special guest at every show\, these meditative evenings will seek to replicate a private conversation in a public space through the language of theatre. In equal parts spontaneously endearing and refreshingly engaging\, undoubtably there will be something for everyone to enjoy. \nDo not miss it! \nVenue: Babylon\, Rosa Luxemburg Platz 30\, 10365 Berlin\nDate: 08.02.24\nStart: 20:00 sharp\nTickets: 35€ + Booking fee\nPromoter: @mad_giant__promo\nhttps://www.facebook.com/events/842088577475291/
URL:https://clockworkbanana.com/event/blindboy-the-topographia-hibernica-live-tour/
LOCATION:BABYLON
CATEGORIES:Comedy,Hip Hop
ATTACH;FMTTYPE=image/jpeg:https://clockworkbanana.com/wp-content/uploads/2023/11/382685354_707800204723738_5363892804748869903_n.jpg
ORGANIZER;CN="Mobile Kino":MAILTO:noreply@facebookmail.com
END:VEVENT
END:VCALENDAR