BEGIN:VCALENDAR
VERSION:2.0
PRODID:-//Clockwork Banana - ECPv6.15.20//NONSGML v1.0//EN
CALSCALE:GREGORIAN
METHOD:PUBLISH
X-WR-CALNAME:Clockwork Banana
X-ORIGINAL-URL:https://clockworkbanana.com
X-WR-CALDESC:Events for Clockwork Banana
REFRESH-INTERVAL;VALUE=DURATION:PT1H
X-Robots-Tag:noindex
X-PUBLISHED-TTL:PT1H
BEGIN:VTIMEZONE
TZID:Europe/Berlin
BEGIN:DAYLIGHT
TZOFFSETFROM:+0100
TZOFFSETTO:+0200
TZNAME:CEST
DTSTART:20230326T010000
END:DAYLIGHT
BEGIN:STANDARD
TZOFFSETFROM:+0200
TZOFFSETTO:+0100
TZNAME:CET
DTSTART:20231029T010000
END:STANDARD
BEGIN:DAYLIGHT
TZOFFSETFROM:+0100
TZOFFSETTO:+0200
TZNAME:CEST
DTSTART:20240331T010000
END:DAYLIGHT
BEGIN:STANDARD
TZOFFSETFROM:+0200
TZOFFSETTO:+0100
TZNAME:CET
DTSTART:20241027T010000
END:STANDARD
BEGIN:DAYLIGHT
TZOFFSETFROM:+0100
TZOFFSETTO:+0200
TZNAME:CEST
DTSTART:20250330T010000
END:DAYLIGHT
BEGIN:STANDARD
TZOFFSETFROM:+0200
TZOFFSETTO:+0100
TZNAME:CET
DTSTART:20251026T010000
END:STANDARD
END:VTIMEZONE
BEGIN:VEVENT
DTSTART;TZID=Europe/Berlin:20240213T170000
DTEND;TZID=Europe/Berlin:20240218T220000
DTSTAMP:20260419T233813
CREATED:20240201T113104Z
LAST-MODIFIED:20240201T113407Z
UID:9730-1707843600-1708293600@clockworkbanana.com
SUMMARY:Proper Fish & Chips Week
DESCRIPTION:The Crazy Bastard Chip Shop is open for business again.\nWeserstr. 168\, 12045 Berlin\nFish or Vish: You decide! Whether traditional or vegan\, we’re serving up the British favourite with salt and malt vinegar\, mushy peas and homemade tartare sauce. \nMenu:\nFish & Chips €17\nBeer-battered cod fillet\nwith mushy peas\, tartare sauce and buttered bread\nScampi & Chips €15\nSeven panko-breaded prawns\nwith mushy peas\, CBS seafood remoulade and buttered bread\nVish & Chips €15 (vegan)\nBeer-battered heart of palm\nwith mushy peas\, tartare sauce and vegan buttered bread\nBroccoli Wings & Chips €15 (vegan)\nBreaded broccoli florets with mushy peas\, tartare sauce and vegan buttered bread \nExtras\nSeven Scampi €9\nBeer-battered cod filet €10\nBroccoli wings €7\nBeer-battered banana bossom €7 (v)\nSalt and vinegar chips €5 (v)\nButtered bread €1 (vo)\nDeep-fried Mars €4\nPineapple fritters €4 (v) \nhttps://www.facebook.com/events/747684870576571/
URL:https://clockworkbanana.com/event/proper-fish-chips-week/
CATEGORIES:Food
ATTACH;FMTTYPE=image/jpeg:https://clockworkbanana.com/wp-content/uploads/2024/02/420191800_875297244603907_3147596385263667328_n-1.jpg
ORGANIZER;CN="Crazy Bastrd Kitchen":MAILTO:noreply@facebookmail.com
END:VEVENT
BEGIN:VEVENT
DTSTART;TZID=Europe/Berlin:20240216T190000
DTEND;TZID=Europe/Berlin:20240216T230000
DTSTAMP:20260419T233813
CREATED:20240215T235630Z
LAST-MODIFIED:20240215T235630Z
UID:9930-1708110000-1708124400@clockworkbanana.com
SUMMARY:Cosmic Comedy Club Berlin : Showcase
DESCRIPTION:Cosmic Comedy Club Berlin : Showcase\nFriday 16th February 2024 \nThis show is in English. \nJoin us for Cosmic Comedy Club Berlin at our absolutely stunning venue in the heart of Mitte and as always every show with Free Vegan and Vegetarian Pizza & Shots \nHosted by:\nDharmander Singh (UK) & Neil Numb (SCOT) \n★★★★★ THE ACTS ★★★★★ \nDavid Adams (AUS)\nTerry Norman (IRL)\nZana Fe Jzic (US)\nMauricio Singleton (US) \n★★★★★ OPENING TIMES ★★★★★ \nPre-Drinks: 7pm – 9pm\nPizza: 8.15pm\nMain Show : 9pm – 11pm\n2for1 on selected drinks 7pm – 8pm \n★★★★★ HOT SAUCE ★★★★★ \nGet your hands on some of the best hot sauces in Europe and beyond at the Club. https://bit.ly/cosmichotsauce \n★★★★★ TICKETS ★★★★★ \nThe tickets price includes 7% VAT\nhttps://comedyclubberlin.com/events/ \n★★★★★ THE VENUE ★★★★★ \nKookaburra Comedy Club\nSchönhauser Allee 184\, 10119 Berlin\nhttps://bit.ly/3vOs1hH \n★★★★★ COMMUNITY ★★★★★ \nPlease join our Comedy Telegram group to communicate with other nice people going to comedy events in Berlin: http://bit.ly/berlinsocialchat
URL:https://clockworkbanana.com/event/cosmic-comedy-club-berlin-showcase-124/
LOCATION:Cosmic Comedy Club Berlin\, Schönhauser Allee 184\, Berlin\, 10119\, Germany
CATEGORIES:Comedy
ATTACH;FMTTYPE=image/jpeg:https://clockworkbanana.com/wp-content/uploads/2024/02/Friday-16th-February-2024.jpg
END:VEVENT
BEGIN:VEVENT
DTSTART;TZID=Europe/Berlin:20240216T230000
DTEND;TZID=Europe/Berlin:20240217T020000
DTSTAMP:20260419T233813
CREATED:20240201T130517Z
LAST-MODIFIED:20240201T130945Z
UID:9820-1708124400-1708135200@clockworkbanana.com
SUMMARY:Watergate Nacht: Âme LIVE\, Trikk\, Biesmans\, Miura\, SKALA\, Dj Norma
DESCRIPTION:Get your tickets here: https://ra.co/events/1850299 \nLINEUP:\nÂme LIVE\nTrikk\nBiesmans\nMiura\nSKALA\nDj Norma\nhttps://www.facebook.com/events/941750160655015/
URL:https://clockworkbanana.com/event/watergate-nacht-ame-live-trikk-biesmans-miura-skala-dj-norma/
LOCATION:Watergate Club
CATEGORIES:Party,Techno
ATTACH;FMTTYPE=image/jpeg:https://clockworkbanana.com/wp-content/uploads/2024/02/422971458_789682006536096_312062467450744437_n.jpg
ORGANIZER;CN="Watergate Club":MAILTO:noreply@facebookmail.com
END:VEVENT
END:VCALENDAR