BEGIN:VCALENDAR
VERSION:2.0
PRODID:-//Clockwork Banana - ECPv6.15.20//NONSGML v1.0//EN
CALSCALE:GREGORIAN
METHOD:PUBLISH
X-WR-CALNAME:Clockwork Banana
X-ORIGINAL-URL:https://clockworkbanana.com
X-WR-CALDESC:Events for Clockwork Banana
REFRESH-INTERVAL;VALUE=DURATION:PT1H
X-Robots-Tag:noindex
X-PUBLISHED-TTL:PT1H
BEGIN:VTIMEZONE
TZID:Europe/Berlin
BEGIN:DAYLIGHT
TZOFFSETFROM:+0100
TZOFFSETTO:+0200
TZNAME:CEST
DTSTART:20230326T010000
END:DAYLIGHT
BEGIN:STANDARD
TZOFFSETFROM:+0200
TZOFFSETTO:+0100
TZNAME:CET
DTSTART:20231029T010000
END:STANDARD
BEGIN:DAYLIGHT
TZOFFSETFROM:+0100
TZOFFSETTO:+0200
TZNAME:CEST
DTSTART:20240331T010000
END:DAYLIGHT
BEGIN:STANDARD
TZOFFSETFROM:+0200
TZOFFSETTO:+0100
TZNAME:CET
DTSTART:20241027T010000
END:STANDARD
BEGIN:DAYLIGHT
TZOFFSETFROM:+0100
TZOFFSETTO:+0200
TZNAME:CEST
DTSTART:20250330T010000
END:DAYLIGHT
BEGIN:STANDARD
TZOFFSETFROM:+0200
TZOFFSETTO:+0100
TZNAME:CET
DTSTART:20251026T010000
END:STANDARD
END:VTIMEZONE
BEGIN:VEVENT
DTSTART;TZID=Europe/Berlin:20240220T170000
DTEND;TZID=Europe/Berlin:20240225T220000
DTSTAMP:20260419T233813
CREATED:20240201T113748Z
LAST-MODIFIED:20240201T114215Z
UID:9736-1708448400-1708898400@clockworkbanana.com
SUMMARY:JAPANESE WEEK
DESCRIPTION:Crazy Bastard Kitchen presents a new menu of Japanese cuisine \nvo – vegan optional\ng – contains gluten\ns – contains soy\nse – contains sesame \nOkonomiyaki (seafood) €13 (g\, s)\nPancake with cabbage and prawns\, topped with bonito flakes\, Japanese mayo and okonomiyaki sauce \nOkonomiyaki (vegan) €11 (g\, s)\nPancake with cabbage\, tofu and oyster mushrooms\, topped with Japanese mayo and okonomiyaki sauce \nKaraage chicken €9 (vo\, g\, s)\nFried chicken or vegan chicken with Japanese mayo and cabbage \nTofu steak €8 (s\, se)\nFried tofu in sweet umami sauce\, with Japanese mayo and cabbage \nYasai – Itame €8 (s\, se)\nAubergine-green pepper stir fry in miso sauce\, with Japanese mayo and cabbage €7 \nSunomono €4.5 (s\, se)\nMarinated cucumber salad\nRice €4 \nhttps://www.facebook.com/events/3548401345374253/
URL:https://clockworkbanana.com/event/japanese-week-5/
LOCATION:Crazy Bastrd Kitchen
CATEGORIES:Food
ATTACH;FMTTYPE=image/jpeg:https://clockworkbanana.com/wp-content/uploads/2024/02/419853054_875298591270439_6790235249931652766_n-1.jpg
ORGANIZER;CN="Crazy Bastrd Kitchen":MAILTO:noreply@facebookmail.com
END:VEVENT
BEGIN:VEVENT
DTSTART;TZID=Europe/Berlin:20240223T190000
DTEND;TZID=Europe/Berlin:20240223T230000
DTSTAMP:20260419T233813
CREATED:20240216T221541Z
LAST-MODIFIED:20240216T221541Z
UID:9940-1708714800-1708729200@clockworkbanana.com
SUMMARY:Cosmic Comedy Club Berlin : Showcase
DESCRIPTION:Cosmic Comedy Club Berlin : Showcase\nFriday 23rd February 2024 \nThis show is in English. \nJoin us for Cosmic Comedy Club Berlin at our absolutely stunning venue in the heart of Mitte and as always every show with Free Vegan and Vegetarian Pizza & Shots \nHosted by:\nDharmander Singh (UK) & Neil Numb (SCOT) \n★★★★★ THE ACTS ★★★★★ \nTodd Stuchiner (US)\nKatnip Presents (POL)\nBruno Mazzini (PER)\nArnav Rao (IND) \n★★★★★ OPENING TIMES ★★★★★ \nPre-Drinks: 7pm – 9pm\nPizza: 8.15pm\nMain Show : 9pm – 11pm\n2for1 on selected drinks 7pm – 8pm \n★★★★★ HOT SAUCE ★★★★★ \nGet your hands on some of the best hot sauces in Europe and beyond at the Club. https://bit.ly/cosmichotsauce \n★★★★★ TICKETS ★★★★★ \nThe tickets price includes 7% VAT\nhttps://comedyclubberlin.com/events/ \n★★★★★ THE VENUE ★★★★★ \nKookaburra Comedy Club\nSchönhauser Allee 184\, 10119 Berlin\nhttps://bit.ly/3vOs1hH \n★★★★★ COMMUNITY ★★★★★ \nPlease join our Comedy Telegram group to communicate with other nice people going to comedy events in Berlin: http://bit.ly/berlinsocialchat
URL:https://clockworkbanana.com/event/cosmic-comedy-club-berlin-showcase-126/
LOCATION:Cosmic Comedy Club Berlin\, Schönhauser Allee 184\, Berlin\, 10119\, Germany
CATEGORIES:Comedy
ATTACH;FMTTYPE=image/jpeg:https://clockworkbanana.com/wp-content/uploads/2024/02/Friday-23rd-February-2024-BIG.jpg
END:VEVENT
END:VCALENDAR