BEGIN:VCALENDAR
VERSION:2.0
PRODID:-//Clockwork Banana - ECPv6.15.20//NONSGML v1.0//EN
CALSCALE:GREGORIAN
METHOD:PUBLISH
X-ORIGINAL-URL:https://clockworkbanana.com
X-WR-CALDESC:Events for Clockwork Banana
REFRESH-INTERVAL;VALUE=DURATION:PT1H
X-Robots-Tag:noindex
X-PUBLISHED-TTL:PT1H
BEGIN:VTIMEZONE
TZID:Europe/Berlin
BEGIN:DAYLIGHT
TZOFFSETFROM:+0100
TZOFFSETTO:+0200
TZNAME:CEST
DTSTART:20230326T010000
END:DAYLIGHT
BEGIN:STANDARD
TZOFFSETFROM:+0200
TZOFFSETTO:+0100
TZNAME:CET
DTSTART:20231029T010000
END:STANDARD
BEGIN:DAYLIGHT
TZOFFSETFROM:+0100
TZOFFSETTO:+0200
TZNAME:CEST
DTSTART:20240331T010000
END:DAYLIGHT
BEGIN:STANDARD
TZOFFSETFROM:+0200
TZOFFSETTO:+0100
TZNAME:CET
DTSTART:20241027T010000
END:STANDARD
BEGIN:DAYLIGHT
TZOFFSETFROM:+0100
TZOFFSETTO:+0200
TZNAME:CEST
DTSTART:20250330T010000
END:DAYLIGHT
BEGIN:STANDARD
TZOFFSETFROM:+0200
TZOFFSETTO:+0100
TZNAME:CET
DTSTART:20251026T010000
END:STANDARD
END:VTIMEZONE
BEGIN:VEVENT
DTSTART;TZID=Europe/Berlin:20240227T170000
DTEND;TZID=Europe/Berlin:20240303T220000
DTSTAMP:20260419T233829
CREATED:20240201T114617Z
LAST-MODIFIED:20240201T115029Z
UID:9743-1709053200-1709503200@clockworkbanana.com
SUMMARY:Levantine Mezze Week
DESCRIPTION:Small dishes to mix and share\, including specialities from Jordan\, Lebanon\, Palestine and Syria. Chef Nidal leads this menu\, drawing on his many years of experience with Levantine cuisine. \nMenu to be confirmed.\nThe following dishes are being considered.\nMeats:\n– Lebanese lamb skewer\n– Palestinian roasted chicken \nVegan:\n– Herby Syrian falafel\n– Palestinian style roasted vegan chicken \nFlatbread with dips:\n– Sumaghiyyeh\n– Hummus\n– Baba ghanoush\n– Muhammarra \nSides and salads:\n– Tabbouleh\n– Mulukhiyah\n– Fattoush\n– Lebanese Pilaf Rice \nhttps://www.facebook.com/events/388076653713647/
URL:https://clockworkbanana.com/event/levantine-mezze-week/
LOCATION:Weserstraße 168\, 12045 Berlin\, Deutschland
CATEGORIES:Food
ATTACH;FMTTYPE=image/jpeg:https://clockworkbanana.com/wp-content/uploads/2024/02/420191577_875451084588523_5644461249420291806_n.jpg
ORGANIZER;CN="Crazy Bastrd Kitchen":MAILTO:noreply@facebookmail.com
END:VEVENT
BEGIN:VEVENT
DTSTART;TZID=Europe/Berlin:20240229T190000
DTEND;TZID=Europe/Berlin:20240229T230000
DTSTAMP:20260419T233829
CREATED:20240222T192256Z
LAST-MODIFIED:20240222T192256Z
UID:9963-1709233200-1709247600@clockworkbanana.com
SUMMARY:Cosmic Comedy Club Berlin: Open Mic
DESCRIPTION:Cosmic Comedy Club Berlin: Open Mic\nThursday 29th February 2024 \nThis show is in English. \nJoin us for Cosmic Comedy Club Berlin at our absolutely stunning venue in Mitte and as always every show with Free Vegan and Vegetarian Pizza & Shots \nHosted by:\nDharmander Singh (UK) & Neil Numb (SCOT) \n★★★★★ THE ACTS ★★★★★ \nThank you to all the sign ups. Our 29th Feb Cosmic Comedy Berlin Leap Year Funny Frogs will be Anita Waltho\, Christopher May\, Dilara Ekinci\, Keyur Pandya\, Devansh Sharma\, Andrei Palchyk and Ludwig Benecke. hosted by Dharmander Singh and Neil Numb Comedy \n★★★★★ OPENING TIMES ★★★★★ \nPre-Drinks : 7pm – 9pm\nPizza: 8.15pm\nMain Show : 9pm – 11pm\n2for1 on selected drinks 7pm – 8pm \n★★★★★ HOT SAUCE ★★★★★ \nWe are the only comedy club in the world that has a hot sauce shop\, get your hands on some of the best hot sauces in Europe and beyond. https://bit.ly/cosmichotsauce \n★★★★★ TICKETS ★★★★★ \nThe tickets price includes 7% VAT\nhttps://comedyclubberlin.com/events/ \n★★★★★ THE VENUE ★★★★★ \nKookaburra Comedy Club\nSchönhauser Allee 184\, 10119 Berlin\nhttps://bit.ly/3vOs1hH \n★★★★★ COMMUNITY ★★★★★ \nPlease join our Comedy Telegram group to communicate with other nice people going to comedy events in Berlin: http://bit.ly/berlinsocialchat
URL:https://clockworkbanana.com/event/cosmic-comedy-club-berlin-open-mic-64/
LOCATION:Cosmic Comedy Club Berlin\, Schönhauser Allee 184\, Berlin\, 10119\, Germany
CATEGORIES:Comedy
ATTACH;FMTTYPE=image/jpeg:https://clockworkbanana.com/wp-content/uploads/2024/02/Thursday-29th-February-2024.jpg
END:VEVENT
BEGIN:VEVENT
DTSTART;TZID=Europe/Berlin:20240229T193000
DTEND;TZID=Europe/Berlin:20240229T223000
DTSTAMP:20260419T233829
CREATED:20231129T031004Z
LAST-MODIFIED:20231129T031641Z
UID:9268-1709235000-1709245800@clockworkbanana.com
SUMMARY:The NeverEnding Story
DESCRIPTION:The NeverEnding Story\nUSA\, 1984\, D: Wolfgang Petersen with Noah Hathaway\, Barret Oliver\, Tami Stronach\, 92 min\, OmU\nDMP Cinema and BABYLON invite you to experience the iconic 80s fantasy classic\nTHE NEVERENDING STORY for its 40th anniversary on Babylon’s giant screen\, completely digitally remastered – don’t miss this super special ONE NIGHT ONLY showing!\nA troubled boy dives into a wondrous fantasy world through the pages of a mysterious book. \nhttps://www.facebook.com/events/1291595221583851/
URL:https://clockworkbanana.com/event/the-neverending-story/
LOCATION:BABYLON
CATEGORIES:Film
ATTACH;FMTTYPE=image/jpeg:https://clockworkbanana.com/wp-content/uploads/2023/11/405518784_723150049844047_6223856783739014380_n.jpg
ORGANIZER;CN="BABYLON":MAILTO:noreply@facebookmail.com
END:VEVENT
END:VCALENDAR