BEGIN:VCALENDAR
VERSION:2.0
PRODID:-//Clockwork Banana - ECPv6.15.20//NONSGML v1.0//EN
CALSCALE:GREGORIAN
METHOD:PUBLISH
X-WR-CALNAME:Clockwork Banana
X-ORIGINAL-URL:https://clockworkbanana.com
X-WR-CALDESC:Events for Clockwork Banana
REFRESH-INTERVAL;VALUE=DURATION:PT1H
X-Robots-Tag:noindex
X-PUBLISHED-TTL:PT1H
BEGIN:VTIMEZONE
TZID:Europe/Berlin
BEGIN:DAYLIGHT
TZOFFSETFROM:+0100
TZOFFSETTO:+0200
TZNAME:CEST
DTSTART:20230326T010000
END:DAYLIGHT
BEGIN:STANDARD
TZOFFSETFROM:+0200
TZOFFSETTO:+0100
TZNAME:CET
DTSTART:20231029T010000
END:STANDARD
BEGIN:DAYLIGHT
TZOFFSETFROM:+0100
TZOFFSETTO:+0200
TZNAME:CEST
DTSTART:20240331T010000
END:DAYLIGHT
BEGIN:STANDARD
TZOFFSETFROM:+0200
TZOFFSETTO:+0100
TZNAME:CET
DTSTART:20241027T010000
END:STANDARD
BEGIN:DAYLIGHT
TZOFFSETFROM:+0100
TZOFFSETTO:+0200
TZNAME:CEST
DTSTART:20250330T010000
END:DAYLIGHT
BEGIN:STANDARD
TZOFFSETFROM:+0200
TZOFFSETTO:+0100
TZNAME:CET
DTSTART:20251026T010000
END:STANDARD
END:VTIMEZONE
BEGIN:VEVENT
DTSTART;TZID=Europe/Berlin:20240227T170000
DTEND;TZID=Europe/Berlin:20240303T220000
DTSTAMP:20260419T233833
CREATED:20240201T114617Z
LAST-MODIFIED:20240201T115029Z
UID:9743-1709053200-1709503200@clockworkbanana.com
SUMMARY:Levantine Mezze Week
DESCRIPTION:Small dishes to mix and share\, including specialities from Jordan\, Lebanon\, Palestine and Syria. Chef Nidal leads this menu\, drawing on his many years of experience with Levantine cuisine. \nMenu to be confirmed.\nThe following dishes are being considered.\nMeats:\n– Lebanese lamb skewer\n– Palestinian roasted chicken \nVegan:\n– Herby Syrian falafel\n– Palestinian style roasted vegan chicken \nFlatbread with dips:\n– Sumaghiyyeh\n– Hummus\n– Baba ghanoush\n– Muhammarra \nSides and salads:\n– Tabbouleh\n– Mulukhiyah\n– Fattoush\n– Lebanese Pilaf Rice \nhttps://www.facebook.com/events/388076653713647/
URL:https://clockworkbanana.com/event/levantine-mezze-week/
LOCATION:Weserstraße 168\, 12045 Berlin\, Deutschland
CATEGORIES:Food
ATTACH;FMTTYPE=image/jpeg:https://clockworkbanana.com/wp-content/uploads/2024/02/420191577_875451084588523_5644461249420291806_n.jpg
ORGANIZER;CN="Crazy Bastrd Kitchen":MAILTO:noreply@facebookmail.com
END:VEVENT
BEGIN:VEVENT
DTSTART;TZID=Europe/Berlin:20240301T150000
DTEND;TZID=Europe/Berlin:20240301T220000
DTSTAMP:20260419T233833
CREATED:20240117T141336Z
LAST-MODIFIED:20240117T145131Z
UID:9487-1709305200-1709330400@clockworkbanana.com
SUMMARY:GesundBrewing - Craft Beer Festival
DESCRIPTION:🍻 Save the Date for GesundBrewing Craft Beer Festival! 🍻\nJoin us for a weekend of hoppy delights at GesundBrewing\, the ultimate celebration of craft beer! \n🎉\n📅 Date: March 1 & 2\, 2024 (Friday and Saturday)\n🕒 Time: 15:00 – 22:00 Daily\n📍 Location: The Castle – Invalidenstr. 129\, 10115 Berlin\n🌦️ Indoor and Outdoor Delights! \nGet ready to embark on a beer-tasting journey featuring an incredible selection of craft brews from both local and international breweries. Immerse yourself in the rich flavors\, aromas\, and craftsmanship that make each sip a unique experience. \n🍺 Highlights:\n✨ Wide Variety of Craft Beers Breweries\n✨ Indoor and Outdoor\n✨ Homemade Pizza\n✨ Lots of Entertainment\n🔔 Stay tuned for the BIG REVEAL! We’ll be announcing the stellar lineup of breweries soon. \n🎟️ Admission:\nFree Entrance (Pay for beverages and food only)\nGather your beer-loving friends\, mark your calendars\, and prepare your taste buds for an unforgettable weekend at GesundBrewing Craft Beer Festival. Cheers to good times and great beers! 🍻 \n#GesundBrewing #CraftBeerFestival #BeerLoversUnite #SaveTheDate\nhttps://www.facebook.com/events/349613034364283/?event_time_id=349613044364282
URL:https://clockworkbanana.com/event/gesundbrewing-craft-beer-festival/
LOCATION:The Castle Berlin Mitte
ATTACH;FMTTYPE=image/jpeg:https://clockworkbanana.com/wp-content/uploads/2024/01/419462970_681581520794534_496335764967795698_n.jpg
ORGANIZER;CN="GesundBrewing - Craft Beer Brewers Festival":MAILTO:noreply@facebookmail.com
END:VEVENT
BEGIN:VEVENT
DTSTART;TZID=Europe/Berlin:20240301T190000
DTEND;TZID=Europe/Berlin:20240301T230000
DTSTAMP:20260419T233833
CREATED:20240223T155925Z
LAST-MODIFIED:20240223T155925Z
UID:9970-1709319600-1709334000@clockworkbanana.com
SUMMARY:Cosmic Comedy Club Berlin : Showcase
DESCRIPTION:Cosmic Comedy Club Berlin : Showcase\nFriday 1st March 2024 \nThis show is in English. \nJoin us for Cosmic Comedy Club Berlin at our absolutely stunning venue in the heart of Mitte and as always every show with Free Vegan and Vegetarian Pizza & Shots \nHosted by:\nDharmander Singh (UK) & Neil Numb (SCOT) \n★★★★★ THE ACTS ★★★★★ \nTamer Kattan (US)\nFitz Gessler (N.Z)\nEmin Afandi (AZ)\nSepideh Haghverdi (IRN) \n★★★★★ OPENING TIMES ★★★★★ \nPre-Drinks: 7pm – 9pm\nPizza: 8.15pm\nMain Show : 9pm – 11pm\n2for1 on selected drinks 7pm – 8pm \n★★★★★ HOT SAUCE ★★★★★ \nGet your hands on some of the best hot sauces in Europe and beyond at the Club. https://bit.ly/cosmichotsauce \n★★★★★ TICKETS ★★★★★ \nThe tickets price includes 7% VAT\nhttps://comedyclubberlin.com/events/ \n★★★★★ THE VENUE ★★★★★ \nKookaburra Comedy Club\nSchönhauser Allee 184\, 10119 Berlin\nhttps://bit.ly/3vOs1hH \n★★★★★ COMMUNITY ★★★★★ \nPlease join our Comedy Telegram group to communicate with other nice people going to comedy events in Berlin: http://bit.ly/berlinsocialchat
URL:https://clockworkbanana.com/event/cosmic-comedy-club-berlin-showcase-128/
LOCATION:Cosmic Comedy Club Berlin\, Schönhauser Allee 184\, Berlin\, 10119\, Germany
CATEGORIES:Comedy
ATTACH;FMTTYPE=image/jpeg:https://clockworkbanana.com/wp-content/uploads/2024/02/Friday-1st-March-2024.jpg
END:VEVENT
END:VCALENDAR