BEGIN:VCALENDAR
VERSION:2.0
PRODID:-//Clockwork Banana - ECPv6.15.20//NONSGML v1.0//EN
CALSCALE:GREGORIAN
METHOD:PUBLISH
X-ORIGINAL-URL:https://clockworkbanana.com
X-WR-CALDESC:Events for Clockwork Banana
REFRESH-INTERVAL;VALUE=DURATION:PT1H
X-Robots-Tag:noindex
X-PUBLISHED-TTL:PT1H
BEGIN:VTIMEZONE
TZID:Europe/Berlin
BEGIN:DAYLIGHT
TZOFFSETFROM:+0100
TZOFFSETTO:+0200
TZNAME:CEST
DTSTART:20230326T010000
END:DAYLIGHT
BEGIN:STANDARD
TZOFFSETFROM:+0200
TZOFFSETTO:+0100
TZNAME:CET
DTSTART:20231029T010000
END:STANDARD
BEGIN:DAYLIGHT
TZOFFSETFROM:+0100
TZOFFSETTO:+0200
TZNAME:CEST
DTSTART:20240331T010000
END:DAYLIGHT
BEGIN:STANDARD
TZOFFSETFROM:+0200
TZOFFSETTO:+0100
TZNAME:CET
DTSTART:20241027T010000
END:STANDARD
BEGIN:DAYLIGHT
TZOFFSETFROM:+0100
TZOFFSETTO:+0200
TZNAME:CEST
DTSTART:20250330T010000
END:DAYLIGHT
BEGIN:STANDARD
TZOFFSETFROM:+0200
TZOFFSETTO:+0100
TZNAME:CET
DTSTART:20251026T010000
END:STANDARD
END:VTIMEZONE
BEGIN:VEVENT
DTSTART;TZID=Europe/Berlin:20240305T170000
DTEND;TZID=Europe/Berlin:20240310T220000
DTSTAMP:20260420T043110
CREATED:20240201T115234Z
LAST-MODIFIED:20240201T120621Z
UID:9751-1709658000-1710108000@clockworkbanana.com
SUMMARY:Kentucky Fried Week
DESCRIPTION:Four fried chicken dishes also available vegan! Vegan optional = vo \nFRIED CHICKEN PLATE €18.5\nFried chicken thigh\, leg and wing\, with mashed potatoes and gravy or mac and cheese. Served with coleslaw \nVEGAN/VEGETARIAN FRIED CHICKEN PLATE (vo) €17\nVegan fried chicken fillets with mashed potatoes and gravy or mac and cheese. Served with coleslaw \nFRIED CHICKEN SANDWICH €12.5\nFried chicken thigh\, in a brioche bun with coleslaw\, pickles and mayo \nVEGAN FRIED CHICKEN SANDWICH €11.5\nVegan fried chicken fillet\, in a brioche bun with coleslaw\, pickles and mayo \nEXTRAS\nMac n Cheese €7 (vo)\nMashed potatoes and gravy €7 (vo)\nColeslaw €4 (vo)\nFried Chicken Wing €3\nFried Chicken Leg €4\nFried Chicken Thigh €7.5\nFried Vegan Chicken €5 \nhttps://www.facebook.com/events/348981384587480/
URL:https://clockworkbanana.com/event/kentucky-fried-week-5/
LOCATION:Weserstraße 168\, 12045 Berlin\, Deutschland
CATEGORIES:Food
ATTACH;FMTTYPE=image/jpeg:https://clockworkbanana.com/wp-content/uploads/2024/02/420459779_875306511269647_2642368508643947394_n-2.jpg
ORGANIZER;CN="Crazy Bastrd Kitchen":MAILTO:noreply@facebookmail.com
END:VEVENT
END:VCALENDAR