BEGIN:VCALENDAR
VERSION:2.0
PRODID:-//Clockwork Banana - ECPv6.15.20//NONSGML v1.0//EN
CALSCALE:GREGORIAN
METHOD:PUBLISH
X-ORIGINAL-URL:https://clockworkbanana.com
X-WR-CALDESC:Events for Clockwork Banana
REFRESH-INTERVAL;VALUE=DURATION:PT1H
X-Robots-Tag:noindex
X-PUBLISHED-TTL:PT1H
BEGIN:VTIMEZONE
TZID:Europe/Berlin
BEGIN:DAYLIGHT
TZOFFSETFROM:+0100
TZOFFSETTO:+0200
TZNAME:CEST
DTSTART:20230326T010000
END:DAYLIGHT
BEGIN:STANDARD
TZOFFSETFROM:+0200
TZOFFSETTO:+0100
TZNAME:CET
DTSTART:20231029T010000
END:STANDARD
BEGIN:DAYLIGHT
TZOFFSETFROM:+0100
TZOFFSETTO:+0200
TZNAME:CEST
DTSTART:20240331T010000
END:DAYLIGHT
BEGIN:STANDARD
TZOFFSETFROM:+0200
TZOFFSETTO:+0100
TZNAME:CET
DTSTART:20241027T010000
END:STANDARD
BEGIN:DAYLIGHT
TZOFFSETFROM:+0100
TZOFFSETTO:+0200
TZNAME:CEST
DTSTART:20250330T010000
END:DAYLIGHT
BEGIN:STANDARD
TZOFFSETFROM:+0200
TZOFFSETTO:+0100
TZNAME:CET
DTSTART:20251026T010000
END:STANDARD
END:VTIMEZONE
BEGIN:VEVENT
DTSTART;TZID=Europe/Berlin:20240326T170000
DTEND;TZID=Europe/Berlin:20240331T220000
DTSTAMP:20260420T042348
CREATED:20240321T012912Z
LAST-MODIFIED:20240321T013038Z
UID:10191-1711472400-1711922400@clockworkbanana.com
SUMMARY:Korean Fried Chicken Week
DESCRIPTION:All week we are serving traditional Korean fried chicken\, as well as our US/Korean fusion take on fried chicken. All dishes are available vegan/vegetarian.\nTRADITIONAL KOREAN PLATE €16 (vegan €15)\nFried chicken in sweet-spicy gochujang sauce\, with rice and kimchi (vegan optional)\nUS/KOREAN PLATE €16 (vegan €15)\nCrispy fried chicken\, kimchi mac and cheese\, Korean slaw (vegan/veggie optional)\nKOREAN CHICKEN BURGER €11 (vegan €10)\nKorean fried chicken thigh with gochujang sauce\, mayo\, kimchi and lettuce (vegan optional)\nUS/KOREAN CHICKEN BURGER €11 (vegan €10)\nCrispy fried chicken thigh with Korean slaw\, mayo\, pickles and lettuce (vegan optional)\nSIDES\nFried chicken in sweet-spicy gochujang sauce €9 (vegan optional)\nCrispy fried chicken €8\nVegan fried chicken €7\nDubu-ganjeong – sweet-spicy crispy tofu €7\nKimchi mac and cheese €6\nRice €4\nKorean slaw €3\nKimchi €4\nhttps://www.facebook.com/events/762266765963654/
URL:https://clockworkbanana.com/event/korean-fried-chicken-week-5/
LOCATION:Weserstraße 168\, 12045 Berlin\, Deutschland
CATEGORIES:Food
ATTACH;FMTTYPE=image/jpeg:https://clockworkbanana.com/wp-content/uploads/2024/02/419911457_875274487939516_7143724552750782065_n-1.jpg
ORGANIZER;CN="Crazy Bastrd Kitchen":MAILTO:noreply@facebookmail.com
END:VEVENT
BEGIN:VEVENT
DTSTART;TZID=Europe/Berlin:20240328T123000
DTEND;TZID=Europe/Berlin:20240330T200000
DTSTAMP:20260420T042348
CREATED:20240321T005848Z
LAST-MODIFIED:20240321T010652Z
UID:10153-1711629000-1711828800@clockworkbanana.com
SUMMARY:SUPERSOFT: VINTAGE POP UP SHOP BERLIN
DESCRIPTION:pop up // vintage shop\nSAVE THE DATE: 28.03-30.03.2024\,\nThursday-Friday 12:30-20:00\nSaturday 11:00-16:00\nLooking for a unique new look? Here’s your chance to find a gem across our wide offer of avant-garde items. A carefully curated selection of vintage coats\, shirts\, accessories and more will be available for purchase at SUPERSOFT (Lübecker Straße 49). Come visit us and pick out your new favorite statement piece from our selected collection of different clothing and accessories styles: 90s\, 2000s\, y2k\, vintage\, streetwear\, designer archive\, cyber. At our Vintage Pop Up you will find extraordinary items from the latest trends to timeless classics🪩🪩🪩\nDon’t wait and join us at SUPERSOFT to pick out your new outfit to stand out from the rest!\ntax-free\nhttps://www.instagram.com/p/C4vcZb4sk3B/?igsh=bjQ0M3h4bTk0N3Vn\nhttps://www.facebook.com/events/1133610377640535/
URL:https://clockworkbanana.com/event/supersoft-vintage-pop-up-shop-berlin/
LOCATION:Lübecker Straße 49 \, 10559 Berlin\, Germany
CATEGORIES:Market
ATTACH;FMTTYPE=image/jpeg:https://clockworkbanana.com/wp-content/uploads/2024/03/431485556_122133895124150236_7421132173688910255_n.jpg
ORGANIZER;CN="%EA%9C%B1%E1%B4%9C%E1%B4%98%E1%B4%87%CA%80%EA%9C%B1%E1%B4%8F%EA%9C%B0%E1%B4%9B":MAILTO:noreply@facebookmail.com
END:VEVENT
BEGIN:VEVENT
DTSTART;TZID=Europe/Berlin:20240328T160000
DTEND;TZID=Europe/Berlin:20240328T190000
DTSTAMP:20260420T042348
CREATED:20240208T143003Z
LAST-MODIFIED:20240208T143233Z
UID:9884-1711641600-1711652400@clockworkbanana.com
SUMMARY:House of Lunacy - Flora Fauna Funghi
DESCRIPTION:After a dark and cold winter we will be embracing the sensual power of Spring! \nAs we begin to see life bloom around us and we are reminded of our deep symbioses within the world we exist. We are exploring this new theme celebrating our profound connections with nature and ourselves we want to explore the world of animals\, flowers and funghi. \nWe can’t wait to transform the Luniverse into a garden of lust\, a menagerie of delicious spectacles and a network of incredible souls coming together to create a space that is truly magic.\nWe can’t wait to see what you do with this new theme and the creations you manifest! \n✵ DRESS CODE ✵\nOur world is only reachable in costume and your costume is the fuel to this madness.\nWe have a strict dress code that all attendees must follow – creative creatures\, mystical beasts\, winged creations\, floral dreams\, blossoming beauties\, mushrooms and mycelium. Flamboyant\, fantastical and divine creations exploring this theme.\nInspiration in link below. \nNo effort no entry.\nENTRY : \nWe are a LGBTQ+ space and we do not tolerate any forms of discrimination or Homophobia.\nHouse of Lunacy has a strict dress code and door policy. Each event is created with a creative theme in mind for guests to explore with their clothes\, costumes and bodies. This is not negotiable and we expect all who jump into this world to join in. This is to enhance everyone’s experience and to truly create a new adventurous world of love and freedom. \n✵HOUSE RULES✵\nUnfortunately nobody can ever guarantee a space is 100% safe\, but we are striving for perfection.\nNo means no. Yes can become No. Listen and respect boundaries.\nNever take what doesn’t want to be taken and don’t give what is not wanted. \nConsent is not negotiable.\nWe take this very seriously. \nWe DO NOT tolerate any form of discrimination\, Racism\, homophobia\, anti trans or hate speech.\nRespect. Respect. Respect. \nAnyone who is found to be disobeying these rules\, you will be leaving immediately and dealt with accordingly. \nWe will have our care team and Awareness team walking around The House at all times. A hand-picked selection of caring and loving souls and party veterans who know how to look out for you and are there to help with whatever the situation. \nAny member of staff (incl bar staff) can be spoken to at any time\, they are all connected via walkie talkie to security and the door. \nNever feel embarrassed about asking and talking to them; they are there for you.\nTake care of one and other and always reach out if needed.\n*Please note RA tickets does not guarantee entry. You have to comply to The House and Renate’s rules and door policy. NO REFUNDS FOR NO COSTUMES\nhttps://www.facebook.com/events/408480054968050/
URL:https://clockworkbanana.com/event/house-of-lunacy-flora-fauna-funghi/
LOCATION:Renate\, Alt-Stralau 70\,\, Berlin\, 10245\, Germany
CATEGORIES:LGBTQ+,Party,Techno
ATTACH;FMTTYPE=image/jpeg:https://clockworkbanana.com/wp-content/uploads/2024/02/425834760_402959438912893_5907630488430260729_n.jpg
ORGANIZER;CN="Lunacy Berlin":MAILTO:noreply@facebookmail.com
END:VEVENT
BEGIN:VEVENT
DTSTART;TZID=Europe/Berlin:20240328T180000
DTEND;TZID=Europe/Berlin:20240402T190000
DTSTAMP:20260420T042348
CREATED:20240320T230044Z
LAST-MODIFIED:20240320T230423Z
UID:10095-1711648800-1712084400@clockworkbanana.com
SUMMARY:D!VE & Patrick Ireland 3000 // Recovering Catholics: An Exhibition at Retramp Gallery
DESCRIPTION:Opening Night: Thursday\, March 28th\, 18:00 – 22:00�\nRegular Hours: Friday\, March 29th – Tuesday\, April 2nd\, 14:00 – 19:00� \nEaster Monday Special Performance: April 1st\, “Pissed-Off Pop” by Von Liz at 20:00\nJoin us in celebrating the Easter weekend with Patrick Ireland 3000 and D!VE at Retramp Gallery in Neukölln. These two Irish-born artists are excited to present their latest works in a show titled “Recovering Catholics”. \nD!VE brings his street art practice and printmaking know-how to the gallery\, unveiling intricate stencils of statues disassembled in zero gravity. Meanwhile\, Patrick Ireland 3000 continues to push the boundaries of relief printing with his large-scale\, hand-printed colour woodblock pieces\, exploring his relationship with Christian imagery. \nAs part of the exhibition\, Retramp Gallery is thrilled to announce a truly unique artwork they have commissioned—a “style swap” limited edition screen print. This print combines Ireland 3000’s woodblock reinterpretations of religious iconography with D!VE’s intricate stencils inspired by classical statues and street art\, creating a must-have collector’s item. Each print is hand-pulled\, signed\, numbered\, and embossed by the artists.\nDon’t miss the special performance by “Von Liz” on Monday\, April 1st\, at 20:00\, featuring his unique brand of Irish-infused “pissed-off pop”. It promises to be an unforgettable event! \nhttps://www.diveartworks.com/\nhttps://www.patrickireland3000.com/\nhttps://www.instagram.com/diveartworks/\nhttps://www.instagram.com/patrickireland_3000/\nhttps://www.instagram.com/officialvonliz/?hl=en\nhttps://www.facebook.com/events/3415044351975459/
URL:https://clockworkbanana.com/event/dve-patrick-ireland-3000-recovering-catholics-an-exhibition-at-retramp-gallery/
LOCATION:ReTramp
CATEGORIES:Art
ATTACH;FMTTYPE=image/jpeg:https://clockworkbanana.com/wp-content/uploads/2024/03/425289893_1109353000480286_4771593207387807722_n.jpg
ORGANIZER;CN="D.VE":MAILTO:noreply@facebookmail.com
END:VEVENT
BEGIN:VEVENT
DTSTART;TZID=Europe/Berlin:20240328T190000
DTEND;TZID=Europe/Berlin:20240328T230000
DTSTAMP:20260420T042348
CREATED:20240320T225214Z
LAST-MODIFIED:20240320T225214Z
UID:10086-1711652400-1711666800@clockworkbanana.com
SUMMARY:Cosmic Comedy Club Berlin: Open Mic
DESCRIPTION:Cosmic Comedy Club Berlin: Open Mic\nThursday 28th March 2024 \nThis show is in English. \nJoin us for Cosmic Comedy Club Berlin at our absolutely stunning venue in Mitte and as always every show with Free Vegan and Vegetarian Pizza & Shots \nHosted by:\nDharmander Singh (UK) & Neil Numb (SCOT) \n★★★★★ THE ACTS ★★★★★ \nThank you to all the sign ups . Our Cosmic Comedy Berlin \,28th March bringers of the Cosmic Comedy Chaos will be Simon O’Keefe\, Siavash Alaghmandan Motlagh\, Gaurav Santosh\, Christina Themeli\, Sepideh Kv\, Ster Voorpijl and Sofia May. Hosted by Dharmander Singh and Neil Numb Comedy \n★★★★★ OPENING TIMES ★★★★★ \nPre-Drinks : 7pm – 9pm\nPizza: 8.15pm\nMain Show : 9pm – 11pm\n2for1 on selected drinks 7pm – 8pm \n★★★★★ HOT SAUCE ★★★★★ \nWe are the only comedy club in the world that has a hot sauce shop\, get your hands on some of the best hot sauces in Europe and beyond. https://bit.ly/cosmichotsauce \n★★★★★ TICKETS ★★★★★ \nThe tickets price includes 7% VAT\nhttps://comedyclubberlin.com/events/ \n★★★★★ THE VENUE ★★★★★ \nKookaburra Comedy Club\nSchönhauser Allee 184\, 10119 Berlin\nhttps://bit.ly/3vOs1hH \n★★★★★ COMMUNITY ★★★★★ \nPlease join our Comedy Telegram group to communicate with other nice people going to comedy events in Berlin: http://bit.ly/berlinsocialchat
URL:https://clockworkbanana.com/event/cosmic-comedy-club-berlin-open-mic-68/
LOCATION:Cosmic Comedy Berlin
CATEGORIES:Comedy
ATTACH;FMTTYPE=image/jpeg:https://clockworkbanana.com/wp-content/uploads/2024/03/Thursday-28th-March-2024.jpg
END:VEVENT
BEGIN:VEVENT
DTSTART;TZID=Europe/Berlin:20240328T193000
DTEND;TZID=Europe/Berlin:20240328T223000
DTSTAMP:20260420T042348
CREATED:20240322T000159Z
LAST-MODIFIED:20240322T000633Z
UID:10354-1711654200-1711665000@clockworkbanana.com
SUMMARY:LET´S MISBEHAVE! - a silly night with Jack Woodhead & Marta Karta
DESCRIPTION:🌹 Dear ladies\, dear gentlemen and of course everyone in between: 🌹 it’s time to MISBEHAVE!!!\nMarta Karta and Jack Woodhead invite you to an evening filled with selected songs about cheekiness\, nonsense and\, thank goodness\, for lost love. You can be sure\, after this you´ll have many new earworms! 😛\nThe evening will be opened by one and only Jack Woodhead\, whom you probably already know as the former emcee of Bohéme Sauvage and as the emcee of Wintergarten\, Berliner Festspiele\, Volksbuehne Berlin\, and GOP Variete \, just to name a few!\nJack Woodhead – a provocatively hearty bird of paradise with a satirical bite. – (WAZ)\nYour host\, Marta Karta\, is looking forward to introducing you to her brand new cabaret band: “LET’S MISBEHAVE!”\n!! Attention !!! – This evening is the first public performance of this frivolous and rediculously silly ensemble\, which is otherwise exclusively to be enjoyed at Bohéme Sauvage. An absolutely rare opportunity to enjoy dance and nonsense together.\nThe setting for this exciting evening is the beautiful Ballhaus Wedding. One more reason not to miss this lovely event 😉\n✨✨✨✨✨\nLine-up:\n20:30 – JACK WOODHEAD (Piano & Geschichten)\n21:00 – Swing Tanzeinführung mit Dizzy Ella\n21:30 – LET´s MISBEHAVE (Cabaret Band)\n22:30 – DJ DIZZY ELLA\nBand:\nMarta Karta (Gesang)\nGregor Graciano (Piano)\nLumineiro Salve (Drums & Waschboard)\nDizzy Ella (Kontrabass)\nFlorent Mannant (Saxophone)\nRoberto Vicchio (Trompete)\n✨✨✨✨✨\nTICKETS\nsind bereits im Vorverkauf\, greifen Sie zu!\nhttps://www.ballhauswedding.de/details-registrierung/let-s-misbehave-konzert\nEinlass: 19:30h\nShowbeginn: 20:30h\n✨✨✨✨✨ \nhttps://www.facebook.com/events/823771746246214/
URL:https://clockworkbanana.com/event/lets-misbehave-a-silly-night-with-jack-woodhead-marta-karta/
CATEGORIES:Bar,Burlesque,Cabaret
ATTACH;FMTTYPE=image/jpeg:https://clockworkbanana.com/wp-content/uploads/2024/03/432460236_10228317300830971_3355688543621494259_n.jpg
ORGANIZER;CN="Marta Karta":MAILTO:noreply@facebookmail.com
END:VEVENT
BEGIN:VEVENT
DTSTART;TZID=Europe/Berlin:20240328T200000
DTEND;TZID=Europe/Berlin:20240328T230000
DTSTAMP:20260420T042348
CREATED:20240324T164215Z
LAST-MODIFIED:20240324T164802Z
UID:10638-1711656000-1711666800@clockworkbanana.com
SUMMARY:DISSIDENTS LVII at PAS
DESCRIPTION:DISSIDENTS LVII\n1.\nPeter Balhal\, drums\nLuís\, piano\nLorena Izquierdo\, voice action\n2.\nBenjamin Flesser\, electronics\n3.\nEdith Steyer\, saxo\nMiriam Leo\, piano\nEntrance in the courtyard\, Aufgang II\, 1OG\nDoors 20:00\, music a bit later\nhttps://www.facebook.com/events/1458182815081511/
URL:https://clockworkbanana.com/event/dissidents-lvii-at-pas/
LOCATION:PAS
CATEGORIES:Bar,Live Music
ATTACH;FMTTYPE=image/jpeg:https://clockworkbanana.com/wp-content/uploads/2024/03/433599368_921612396480380_5343655877196897011_n.jpg
ORGANIZER;CN="PAS":MAILTO:noreply@facebookmail.com
END:VEVENT
BEGIN:VEVENT
DTSTART;TZID=Europe/Berlin:20240328T210000
DTEND;TZID=Europe/Berlin:20240329T030000
DTSTAMP:20260420T042348
CREATED:20240322T003115Z
LAST-MODIFIED:20240322T003928Z
UID:10384-1711659600-1711681200@clockworkbanana.com
SUMMARY:THE REBIRTHDAY PARTY: Exberliner is becoming The Berliner
DESCRIPTION:THE REBIRTHDAY PARTY\nExberliner is becoming The Berliner\nThursday March 28\, 21:00\, Bi Nuu \nAin’t no party like a rebirthday party! After 21 years\, Exberliner is taking on a new name. Our magazine is finally becoming a Berliner. Well\, not A Berliner: THE Berliner.\nTo celebrate the occasion\, we’ve joined forces with the House of Color collective to put together a lineup of verified party starters and hype merchants. From the House of Color stable we have Ben Olayinka\, Christa Belle and ZE:NA\, and representing the magazine we have DJ Einkaufswagen and Jonny Tiernan. \nCome dance the name away.\nBonus: every ticket comes with a copy of the new issue of The Berliner\nhttps://www.facebook.com/events/1434682387142021/
URL:https://clockworkbanana.com/event/the-rebirthday-party-exberliner-is-becoming-the-berliner/
LOCATION:Bi Nuu
ATTACH;FMTTYPE=image/jpeg:https://clockworkbanana.com/wp-content/uploads/2024/03/433622666_1158569368836533_1679923939495897758_n.jpg
ORGANIZER;CN="Exberliner":MAILTO:noreply@facebookmail.com
END:VEVENT
BEGIN:VEVENT
DTSTART;TZID=Europe/Berlin:20240328T213000
DTEND;TZID=Europe/Berlin:20240329T003000
DTSTAMP:20260420T042348
CREATED:20240320T230654Z
LAST-MODIFIED:20240320T231303Z
UID:10105-1711661400-1711672200@clockworkbanana.com
SUMMARY:xXETEXx meets BERLIN INVASION
DESCRIPTION:xXETEXx & Berlin Invasion have teamed up to bring you an awesome mix of Darkprog\, Tek\, Psy and Drum’n’Bass!\n■ AYJO on dnb / aka Josephine Wedekind\nxXETEXx\n\n■ Crystal Distortion live\nSpiral Tribe 23\nhttps://soundcloud.com/lab51rat\n■ Fnta live\nBerlin Invasion\n\n■ Groove Daniel\nBerlin Invasion\n\n■ Herrmann Stöhr aka DJoanna\nxXETEXx\, Digital Diamonds\n\n■ Kliment\nZenon Records\n\n■ Konik Polny\nBerlin Invasion\n\n■ MEiK\nGaggalacka\, Banyan Records\n\n■ Raoul\nOcculta Records\, Blue Hour Sounds\n\n■ Radioactive Cake\nIndependent\n\n■ Sofi Lucius\nProject 33\n\n■ V Cyantifik\nBerlin Invasion\n\n𝗙𝗔𝗦𝗧 𝗘𝗡𝗧𝗥𝗔𝗡𝗖𝗘\n✎ Leave your big bags at home or at a public locker.\n✎ All bags will be checked for safety reasons\, so let’s make it super quick for security by packing light!\n✎ Don’t bring liquids!\n✎ If you can\, chuck a sticker on your phone camera before you come to save time.\n✎ Arrive as early as possible! We will make sure doors are widely open!\n✎ We will also make sure that there is a member of the xXETEXx or Berlin Invasion at the door to ensure a smooth entrance! 😊\n𝗔𝗪𝗔𝗥𝗘𝗡𝗘𝗦𝗦\nWe also want you all to know that we consider awareness to be a vital aspect to party culture\, and together with ://about blank we are working hard to ensure everyone feels safe and that consent is practiced both on and off the dancefloor. If you witness or experience any inappropriate behaviour\, please report it immediately to the bar or club staff. Ask for the organiser of the party and we will act directly. We will also notify the awareness team who will be on hand to support. You alone have the right to determine what is OK for you – and what is not!\n_______________________________\n// NO PHOTOS // NO VIDEOS // NO HOMOPHOBIA // NO SEXISM // NO RACISM // NO ANTIMESITISM // NO ABLEISM // NO QUEERPHOBIA // NO TRANSPHOBIA // NO BODY SHAMING // NO “UNWANTED TOUCHING” // NO ASSHOLEISM AT ALL 🙂\nhttps://www.facebook.com/events/770513304409762/
URL:https://clockworkbanana.com/event/xxetexx-meets-berlin-invasion/
LOCATION:about blank
CATEGORIES:Techno
ATTACH;FMTTYPE=image/jpeg:https://clockworkbanana.com/wp-content/uploads/2024/03/417549546_886924359893513_3488205283285140321_n.jpg
ORGANIZER;CN="xXETEXx":MAILTO:noreply@facebookmail.com
END:VEVENT
END:VCALENDAR