BEGIN:VCALENDAR
VERSION:2.0
PRODID:-//Clockwork Banana - ECPv6.15.20//NONSGML v1.0//EN
CALSCALE:GREGORIAN
METHOD:PUBLISH
X-ORIGINAL-URL:https://clockworkbanana.com
X-WR-CALDESC:Events for Clockwork Banana
REFRESH-INTERVAL;VALUE=DURATION:PT1H
X-Robots-Tag:noindex
X-PUBLISHED-TTL:PT1H
BEGIN:VTIMEZONE
TZID:Europe/Berlin
BEGIN:DAYLIGHT
TZOFFSETFROM:+0100
TZOFFSETTO:+0200
TZNAME:CEST
DTSTART:20230326T010000
END:DAYLIGHT
BEGIN:STANDARD
TZOFFSETFROM:+0200
TZOFFSETTO:+0100
TZNAME:CET
DTSTART:20231029T010000
END:STANDARD
BEGIN:DAYLIGHT
TZOFFSETFROM:+0100
TZOFFSETTO:+0200
TZNAME:CEST
DTSTART:20240331T010000
END:DAYLIGHT
BEGIN:STANDARD
TZOFFSETFROM:+0200
TZOFFSETTO:+0100
TZNAME:CET
DTSTART:20241027T010000
END:STANDARD
BEGIN:DAYLIGHT
TZOFFSETFROM:+0100
TZOFFSETTO:+0200
TZNAME:CEST
DTSTART:20250330T010000
END:DAYLIGHT
BEGIN:STANDARD
TZOFFSETFROM:+0200
TZOFFSETTO:+0100
TZNAME:CET
DTSTART:20251026T010000
END:STANDARD
END:VTIMEZONE
BEGIN:VEVENT
DTSTART;TZID=Europe/Berlin:20240326T170000
DTEND;TZID=Europe/Berlin:20240331T220000
DTSTAMP:20260420T060840
CREATED:20240321T012912Z
LAST-MODIFIED:20240321T013038Z
UID:10191-1711472400-1711922400@clockworkbanana.com
SUMMARY:Korean Fried Chicken Week
DESCRIPTION:All week we are serving traditional Korean fried chicken\, as well as our US/Korean fusion take on fried chicken. All dishes are available vegan/vegetarian.\nTRADITIONAL KOREAN PLATE €16 (vegan €15)\nFried chicken in sweet-spicy gochujang sauce\, with rice and kimchi (vegan optional)\nUS/KOREAN PLATE €16 (vegan €15)\nCrispy fried chicken\, kimchi mac and cheese\, Korean slaw (vegan/veggie optional)\nKOREAN CHICKEN BURGER €11 (vegan €10)\nKorean fried chicken thigh with gochujang sauce\, mayo\, kimchi and lettuce (vegan optional)\nUS/KOREAN CHICKEN BURGER €11 (vegan €10)\nCrispy fried chicken thigh with Korean slaw\, mayo\, pickles and lettuce (vegan optional)\nSIDES\nFried chicken in sweet-spicy gochujang sauce €9 (vegan optional)\nCrispy fried chicken €8\nVegan fried chicken €7\nDubu-ganjeong – sweet-spicy crispy tofu €7\nKimchi mac and cheese €6\nRice €4\nKorean slaw €3\nKimchi €4\nhttps://www.facebook.com/events/762266765963654/
URL:https://clockworkbanana.com/event/korean-fried-chicken-week-5/
LOCATION:Weserstraße 168\, 12045 Berlin\, Deutschland
CATEGORIES:Food
ATTACH;FMTTYPE=image/jpeg:https://clockworkbanana.com/wp-content/uploads/2024/02/419911457_875274487939516_7143724552750782065_n-1.jpg
ORGANIZER;CN="Crazy Bastrd Kitchen":MAILTO:noreply@facebookmail.com
END:VEVENT
BEGIN:VEVENT
DTSTART;TZID=Europe/Berlin:20240328T123000
DTEND;TZID=Europe/Berlin:20240330T200000
DTSTAMP:20260420T060840
CREATED:20240321T005848Z
LAST-MODIFIED:20240321T010652Z
UID:10153-1711629000-1711828800@clockworkbanana.com
SUMMARY:SUPERSOFT: VINTAGE POP UP SHOP BERLIN
DESCRIPTION:pop up // vintage shop\nSAVE THE DATE: 28.03-30.03.2024\,\nThursday-Friday 12:30-20:00\nSaturday 11:00-16:00\nLooking for a unique new look? Here’s your chance to find a gem across our wide offer of avant-garde items. A carefully curated selection of vintage coats\, shirts\, accessories and more will be available for purchase at SUPERSOFT (Lübecker Straße 49). Come visit us and pick out your new favorite statement piece from our selected collection of different clothing and accessories styles: 90s\, 2000s\, y2k\, vintage\, streetwear\, designer archive\, cyber. At our Vintage Pop Up you will find extraordinary items from the latest trends to timeless classics🪩🪩🪩\nDon’t wait and join us at SUPERSOFT to pick out your new outfit to stand out from the rest!\ntax-free\nhttps://www.instagram.com/p/C4vcZb4sk3B/?igsh=bjQ0M3h4bTk0N3Vn\nhttps://www.facebook.com/events/1133610377640535/
URL:https://clockworkbanana.com/event/supersoft-vintage-pop-up-shop-berlin/
LOCATION:Lübecker Straße 49 \, 10559 Berlin\, Germany
CATEGORIES:Market
ATTACH;FMTTYPE=image/jpeg:https://clockworkbanana.com/wp-content/uploads/2024/03/431485556_122133895124150236_7421132173688910255_n.jpg
ORGANIZER;CN="%EA%9C%B1%E1%B4%9C%E1%B4%98%E1%B4%87%CA%80%EA%9C%B1%E1%B4%8F%EA%9C%B0%E1%B4%9B":MAILTO:noreply@facebookmail.com
END:VEVENT
BEGIN:VEVENT
DTSTART;TZID=Europe/Berlin:20240328T180000
DTEND;TZID=Europe/Berlin:20240402T190000
DTSTAMP:20260420T060840
CREATED:20240320T230044Z
LAST-MODIFIED:20240320T230423Z
UID:10095-1711648800-1712084400@clockworkbanana.com
SUMMARY:D!VE & Patrick Ireland 3000 // Recovering Catholics: An Exhibition at Retramp Gallery
DESCRIPTION:Opening Night: Thursday\, March 28th\, 18:00 – 22:00�\nRegular Hours: Friday\, March 29th – Tuesday\, April 2nd\, 14:00 – 19:00� \nEaster Monday Special Performance: April 1st\, “Pissed-Off Pop” by Von Liz at 20:00\nJoin us in celebrating the Easter weekend with Patrick Ireland 3000 and D!VE at Retramp Gallery in Neukölln. These two Irish-born artists are excited to present their latest works in a show titled “Recovering Catholics”. \nD!VE brings his street art practice and printmaking know-how to the gallery\, unveiling intricate stencils of statues disassembled in zero gravity. Meanwhile\, Patrick Ireland 3000 continues to push the boundaries of relief printing with his large-scale\, hand-printed colour woodblock pieces\, exploring his relationship with Christian imagery. \nAs part of the exhibition\, Retramp Gallery is thrilled to announce a truly unique artwork they have commissioned—a “style swap” limited edition screen print. This print combines Ireland 3000’s woodblock reinterpretations of religious iconography with D!VE’s intricate stencils inspired by classical statues and street art\, creating a must-have collector’s item. Each print is hand-pulled\, signed\, numbered\, and embossed by the artists.\nDon’t miss the special performance by “Von Liz” on Monday\, April 1st\, at 20:00\, featuring his unique brand of Irish-infused “pissed-off pop”. It promises to be an unforgettable event! \nhttps://www.diveartworks.com/\nhttps://www.patrickireland3000.com/\nhttps://www.instagram.com/diveartworks/\nhttps://www.instagram.com/patrickireland_3000/\nhttps://www.instagram.com/officialvonliz/?hl=en\nhttps://www.facebook.com/events/3415044351975459/
URL:https://clockworkbanana.com/event/dve-patrick-ireland-3000-recovering-catholics-an-exhibition-at-retramp-gallery/
LOCATION:ReTramp
CATEGORIES:Art
ATTACH;FMTTYPE=image/jpeg:https://clockworkbanana.com/wp-content/uploads/2024/03/425289893_1109353000480286_4771593207387807722_n.jpg
ORGANIZER;CN="D.VE":MAILTO:noreply@facebookmail.com
END:VEVENT
BEGIN:VEVENT
DTSTART;TZID=Europe/Berlin:20240329T235500
DTEND;TZID=Europe/Berlin:20240330T025500
DTSTAMP:20260420T060840
CREATED:20240321T020631Z
LAST-MODIFIED:20240321T020942Z
UID:10236-1711756500-1711767300@clockworkbanana.com
SUMMARY:Expeditions
DESCRIPTION:▆ Itinerary\nAlexander Kowalski (LIVE)\nAny Mello\nBloody Mary\nDimi Angelis\nEdit-Select\nEva Crystaltips\nSEIUN\nThe Checkup\nUnmarried Woman \n▆ About the Expeditions\nThe Expeditions series was founded in spring 2018 with a clear vision of breaking out of the monotony that defines most pure Techno nights in Berlin. The concept is to create a clear musical distinction between the different parts of the night\, while remaining loyal to the classical and traditional aspects of Techno: from Detroit groove to hypnotic and atmospheric storytelling. We emphasize energy and progression. We strive to create a clear beginning and a decisive end. We believe in Techno as a journey\, designed for the dance floor\, rather than for podcasts. Following this principle\, we curate the second floor with classic\, warm\, chord-led interpretations of House music\, that serve as a perfect contrast to the main floor program. Occasionally\, you might even find a third floor hidden in the vast garden of :// about blank. Explore\, that’s what the Expeditions is about. \n▆ What to expect\n⦿ A Power Deck with well curated interpretations of pure Techno music. No minimalism\, no sophisticated preaching.\n⦿ A Comfort Deck with a contrasting program\, curated with the finest House music: classic Chicago House\, Soulful and New York Garage\, and Berlin contemporary touches.\n⦿ DJs at eye level\, musically educated audience and Berlin underground at its best. \n▆ FAQ\n⦿ Is there a dress-code? – No\, the Expeditions doesn’t have a dress code\, but we do encourage you to be creative when choosing an outfit for the party.\, and to leave your everyday behind.\n⦿ Is taking photos inside the club allowed?\n– No. The Expeditions\, and :// about blank have a strict no-photo policy. We also strongly encourage you to check in your phone at the cloakroom and lose the feeling of time. This is\, however\, not mandatory.⦿ Is the Expeditions a safe space for minority groups?\n– The Expeditions\, and :// about blank in general\, are a safe space for any ethnicity\, gender or sexual orientation. Any sign of racism\, sexism\, antisemitism\, or homophobia will not be tolerated. In addition\, you are requested to familiarize yourself with the principles of consent\, and to respect the personal space of any fellow guest. In case you feel that you have been treated wrongly\, or that your space has been violated\, please notify our staff at the entrance immediately. \nhttps://www.facebook.com/events/3505920703004486/
URL:https://clockworkbanana.com/event/expeditions-5/
LOCATION:://about party\, Markgrafendamm 24c\, Berlin\, 10245\, Germany
CATEGORIES:Bar,Techno
ATTACH;FMTTYPE=image/jpeg:https://clockworkbanana.com/wp-content/uploads/2024/03/429977680_806426458179479_1225876957957395809_n.jpg
ORGANIZER;CN="Expeditions":MAILTO:noreply@facebookmail.com
END:VEVENT
BEGIN:VEVENT
DTSTART;TZID=Europe/Berlin:20240330T190000
DTEND;TZID=Europe/Berlin:20240330T230000
DTSTAMP:20260420T060840
CREATED:20240328T102340Z
LAST-MODIFIED:20240328T102340Z
UID:10728-1711825200-1711839600@clockworkbanana.com
SUMMARY:Cosmic Comedy Club Berlin : Showcase
DESCRIPTION:Cosmic Comedy Club Berlin : Showcase\nSaturday 30th March 2024 \nThis show is in English. \nJoin us for Cosmic Comedy Club Berlin at our absolutely stunning venue in the heart of Mitte and as always every show with Free Vegan and Vegetarian Pizza & Shots \nHosted by:\nDharmander Singh (UK) & Neil Numb (SCOT) \n★★★★★ THE ACTS ★★★★★ \nSimon O’Keefe (IRL)\nBruno Mazzini (PER)\nMaya Upchurch (POL)\nNya Yea (US) \n★★★★★ OPENING TIMES ★★★★★ \nPre-Drinks: 7pm – 9pm\nPizza: 8.15pm\nMain Show : 9pm – 11pm\n2for1 on selected drinks 7pm – 8pm \n★★★★★ HOT SAUCE ★★★★★ \nGet your hands on some of the best hot sauces in Europe and beyond at the Club. https://bit.ly/cosmichotsauce \n★★★★★ TICKETS ★★★★★ \nThe tickets price includes 7% VAT\nhttps://comedyclubberlin.com/events/ \n★★★★★ THE VENUE ★★★★★ \nKookaburra Comedy Club\nSchönhauser Allee 184\, 10119 Berlin\nhttps://bit.ly/3vOs1hH \n★★★★★ COMMUNITY ★★★★★ \nPlease join our Comedy Telegram group to communicate with other nice people going to comedy events in Berlin: http://bit.ly/berlinsocialchat
URL:https://clockworkbanana.com/event/cosmic-comedy-club-berlin-showcase-137/
LOCATION:Cosmic Comedy Club Berlin\, Schönhauser Allee 184\, Berlin\, 10119\, Germany
CATEGORIES:Comedy
ATTACH;FMTTYPE=image/jpeg:https://clockworkbanana.com/wp-content/uploads/2024/03/Saturday-30th-March-2024-Compressed.jpg
END:VEVENT
BEGIN:VEVENT
DTSTART;TZID=Europe/Berlin:20240330T200000
DTEND;TZID=Europe/Berlin:20240330T230000
DTSTAMP:20260420T060840
CREATED:20240322T212754Z
LAST-MODIFIED:20240322T225847Z
UID:10423-1711828800-1711839600@clockworkbanana.com
SUMMARY:Cole Pulice + Bride
DESCRIPTION:silent green präsentiert // silent green presents\n•\nCole Pulice (they/them) ist ein*e elektroakustische*r Saxophonist*in\, Improvisator*in und Komponist*in aus Oakland\, Kalifornien. Coles Arbeit verbindet Saxophon und Bläsersynthesizer mit Live-Signalverarbeitung zu einem zutiefst zeitgenössischen Sound\, der die surrealistischen Klangräume zwischen akustischen und digitalen Welten öffnet und spielerisch zwischen Improvisation\, moderner Komposition und Experiment driftet\, um Themen wie Gender\, Emotionen und Technologie\, Erinnerungsformen und Zeitempfinden zu erforschen.\nSupport: Bride\n•\n//\n•\nCole Pulice (they/them) is an electroacoustic saxophonist\, improviser\, and composer based in Oakland\, California. Cole’s work blends saxophone and wind synth with live signal processing for a deeply contemporary sound that opens up the surrealist sonic spaces between acoustic and digital worlds\, playfully drifting between improvisation\, modern composition\, and experimentalism to explore themes of gender\, emotion and technology\, modes of memory\, and sensations of time.\nSupport: Bride\n•\n•\nSamstag // Saturday\, 30.3.\nsilent green Kuppelhalle\nDoors // Einlass: 19:00\nStart: 20:00\nTickets: https://www.eventbrite.de/e/cole-pulice-tickets-776995774277\nhttps://www.facebook.com/events/774183704527048/
URL:https://clockworkbanana.com/event/cole-pulice-bride/
LOCATION:Gerichtstraße 35\n13347 Berlin\, Germany
CATEGORIES:Bar,Live Music
ATTACH;FMTTYPE=image/jpeg:https://clockworkbanana.com/wp-content/uploads/2024/03/420119928_693015012948605_8347429190530324142_n.jpg
ORGANIZER;CN="silent green":MAILTO:noreply@facebookmail.com
END:VEVENT
BEGIN:VEVENT
DTSTART;TZID=Europe/Berlin:20240330T200000
DTEND;TZID=Europe/Berlin:20240331T000000
DTSTAMP:20260420T060840
CREATED:20240321T215804Z
LAST-MODIFIED:20240321T220204Z
UID:10325-1711828800-1711843200@clockworkbanana.com
SUMMARY:That's What She Said - Female Comedy Night
DESCRIPTION:That’s What She Said is a monthly celebration of all wild\, feisty\, funny female comics!\nJoin us for a fierce evening of English stand-up comedy every last Saturday of the month. Together\, we can change the world – one laugh at a time!\nEvery month a different exciting handpicked line-up of the funniest and most opinionated females of Berlin awaits you. Listen to their (mis)adventures in life\, love and the U-Bahn and get inspired to have your own!\nDoors open: 7:30 Show starts: 8:00 sharp (!)\nTicket pre-sale: 16 EUR online Tickets on the door: 18 EUR\nThis comedy show is produced by the fabulous Queen Bees Comedy collective consisting of Anja Woot\, Carmen Chraim and Kat Nip.\nhttps://www.facebook.com/events/1508576133270780/?event_time_id=1540475610080832
URL:https://clockworkbanana.com/event/thats-what-she-said-female-comedy-night-3/
LOCATION:Kohlenquelle Kopenhagener
CATEGORIES:Comedy
ATTACH;FMTTYPE=image/jpeg:https://clockworkbanana.com/wp-content/uploads/2024/03/414964551_866580745473173_8295255891668431448_n.jpg
ORGANIZER;CN="Eventbrite":MAILTO:noreply@facebookmail.com
END:VEVENT
END:VCALENDAR