BEGIN:VCALENDAR
VERSION:2.0
PRODID:-//Clockwork Banana - ECPv6.15.20//NONSGML v1.0//EN
CALSCALE:GREGORIAN
METHOD:PUBLISH
X-ORIGINAL-URL:https://clockworkbanana.com
X-WR-CALDESC:Events for Clockwork Banana
REFRESH-INTERVAL;VALUE=DURATION:PT1H
X-Robots-Tag:noindex
X-PUBLISHED-TTL:PT1H
BEGIN:VTIMEZONE
TZID:Europe/Berlin
BEGIN:DAYLIGHT
TZOFFSETFROM:+0100
TZOFFSETTO:+0200
TZNAME:CEST
DTSTART:20230326T010000
END:DAYLIGHT
BEGIN:STANDARD
TZOFFSETFROM:+0200
TZOFFSETTO:+0100
TZNAME:CET
DTSTART:20231029T010000
END:STANDARD
BEGIN:DAYLIGHT
TZOFFSETFROM:+0100
TZOFFSETTO:+0200
TZNAME:CEST
DTSTART:20240331T010000
END:DAYLIGHT
BEGIN:STANDARD
TZOFFSETFROM:+0200
TZOFFSETTO:+0100
TZNAME:CET
DTSTART:20241027T010000
END:STANDARD
BEGIN:DAYLIGHT
TZOFFSETFROM:+0100
TZOFFSETTO:+0200
TZNAME:CEST
DTSTART:20250330T010000
END:DAYLIGHT
BEGIN:STANDARD
TZOFFSETFROM:+0200
TZOFFSETTO:+0100
TZNAME:CET
DTSTART:20251026T010000
END:STANDARD
END:VTIMEZONE
BEGIN:VEVENT
DTSTART;TZID=Europe/Berlin:20240731T170000
DTEND;TZID=Europe/Berlin:20240804T220000
DTSTAMP:20260419T210428
CREATED:20240618T130825Z
LAST-MODIFIED:20240618T131647Z
UID:11521-1722445200-1722808800@clockworkbanana.com
SUMMARY:Irish Chip Shop Week
DESCRIPTION:Ye lucky feckers\, its the Irish Chip Shop Week! Nothing beats a few creamy pints and a big dirty feed from the chipper.\nMenu in progress and subject to change.\nFISH & CHIPS €17 (upgrade to garlic or curry cheese chips €3)\nBeer battered hake with chips and mushy peas\nVISH & CHIPS €15 (upgrade to garlic or curry cheese chips €3)\nBeer battered palm hearts with chips and mushy peas\nSPICE BAG (vo) €15\nIreland’s favourite dish: chips with fried chicken OR vegan chicken\, chili oil\, grilled peppers and onions\, curry sauce dip\nTACO CHIPS (vo) €10\nChips covered in beef OR vegan mince\, chipotle mayo and cheese\nEXTRAS\nCurry cheese chips €7 (vo)\nGarlic cheese chips €7 (vo)\nSpicy chicken tenders €7 (vo)\nSalt & vinegar chips (v) €4\nCurry sauce dip (v) €2\nGarlic sauce dip (v) €2\nDeep-fried Mars €4\nhttps://www.facebook.com/events/782745490302547/
URL:https://clockworkbanana.com/event/irish-chip-shop-week-2/
LOCATION:Weserstraße 168\, 12045 Berlin\, Deutschland
ATTACH;FMTTYPE=image/jpeg:https://clockworkbanana.com/wp-content/uploads/2024/06/447564141_975668074566823_1850092651891143223_n.jpg
ORGANIZER;CN="Crazy Bastrd Kitchen":MAILTO:noreply@facebookmail.com
END:VEVENT
BEGIN:VEVENT
DTSTART;TZID=Europe/Berlin:20240802T170000
DTEND;TZID=Europe/Berlin:20240802T220000
DTSTAMP:20260419T210428
CREATED:20240722T055955Z
LAST-MODIFIED:20240722T060346Z
UID:12069-1722618000-1722636000@clockworkbanana.com
SUMMARY:Doomsday Graphics Vernissage
DESCRIPTION:Vernissage of Doomsday Graphics art prints exhibition.\nhttps://www.instagram.com/doomsday_graphics\nhttps://doomsdaygraphics.bigcartel.com/ \n„Doomsday Graphics is my brainchild\, pseudonym\, and tool to explore the realm of dark surrealism by allowing it to merge\, reflect\, and relate to the reality I live in. It started as my attempt to stay sane in the midst of the wars and crises that ruled my country of origin during the last decade of the 20th century. Not as an escape from that reality\, but more as a way to process it. Far away from galleries and official cultural institutions of that time\, which focused on promoting art and culture acceptable to the party in power and their nationalistic warmongering ideas\, I began publishing my illustrations in xeroxed publications and fanzines circulating in the underground DIY music scene of the 90s. Since then\, my work has been strongly influenced by DIY ethics\, relying on my own resources\, networking with like-minded people\, and collaborating in the production and presentation of our work. Most of the prints presented in this exhibition were silk-screen printed in my home studio in Neukölln\, Berlin\, over the last four years. Most of the images in these prints also originate from the same period. They are echoes\, distorted mirrors of a reality not so different from the one that inspired me in the last decade of the 20th century\, processed from a somewhat safer distance\, though. \nI would like to take this opportunity to express my gratitude to the Nowhereland Tattoo studio for inviting me and sharing their space for this exhibition. Likewise\, I’m truly thankful to all of you who support my work in any way.“ \nWith live performance by\nSOMNIA VERA\nhttps://somniavera.bandcamp.com/\nhttps://soundcloud.com/somniavera \nSomnia Vera is the solo experimental project of Berlin-based Athens-born artist also known as Nekrobot. Based on repetition\, the mixture of synthesizer noise and drone textures with hypnotic beats and sound collage techniques explores the concept of dreams and nightmares and their interferance with perceptions of reality. \nhttps://www.facebook.com/events/993180045871490/
URL:https://clockworkbanana.com/event/doomsday-graphics-vernissage-2/
LOCATION:Nowhereland Tattoo Studio
CATEGORIES:Art,Bar
ATTACH;FMTTYPE=image/jpeg:https://clockworkbanana.com/wp-content/uploads/2024/07/449621129_7875560232520280_4500373581467391891_n.jpg
ORGANIZER;CN="Nesa Vuk":MAILTO:noreply@facebookmail.com
END:VEVENT
BEGIN:VEVENT
DTSTART;TZID=Europe/Berlin:20240802T190000
DTEND;TZID=Europe/Berlin:20240802T230000
DTSTAMP:20260419T210428
CREATED:20240729T132833Z
LAST-MODIFIED:20240729T132833Z
UID:12176-1722625200-1722639600@clockworkbanana.com
SUMMARY:Cosmic Comedy Club Berlin : Showcase  Friday 2nd August 2024
DESCRIPTION:Cosmic Comedy Club Berlin : Showcase \nFriday 2nd August 2024 \nThis show is in English. \nJoin us for Cosmic Comedy Club Berlin at our absolutely stunning venue in the heart of Mitte and as always every show with Free Vegan and Vegetarian Pizza & Shots \nHosted by:\nDharmander Singh (UK) & Neil Numb (SCOT) \n★★★★★ THE ACTS ★★★★★ \nTamer Kattan (US)Tyrone Stallone (US)Simon O Keefe (IRL)Shannon Brooke (AUS) \n★★★★★ OPENING TIMES ★★★★★ \nPre-Drinks: 7pm – 9pm\nPizza: 8.15pm\nMain Show : 9pm – 11pm\n2for1 on selected drinks 7pm – 8pm \n★★★★★ HOT SAUCE ★★★★★ \nGet your hands on some of the best hot sauces in Europe and beyond at the Club. https://bit.ly/cosmichotsauce \n★★★★★ TICKETS ★★★★★ \nThe tickets price includes 7% VAT\nhttps://comedyclubberlin.com/events/ \n★★★★★ THE VENUE ★★★★★ \nKookaburra Comedy Club\nSchönhauser Allee 184\, 10119 Berlin\nhttps://bit.ly/3vOs1hH \n★★★★★ COMMUNITY ★★★★★ \nPlease join our Comedy Telegram group to communicate with other nice people going to comedy events in Berlin: http://bit.ly/berlinsocialchat
URL:https://clockworkbanana.com/event/cosmic-comedy-club-berlin-showcase-friday-2nd-august-2024/
LOCATION:Cosmic Comedy Club Berlin\, Schönhauser Allee 184\, Berlin\, 10119\, Germany
CATEGORIES:Comedy
ATTACH;FMTTYPE=image/jpeg:https://clockworkbanana.com/wp-content/uploads/2024/07/Friday-2nd-August-2024.jpg
END:VEVENT
BEGIN:VEVENT
DTSTART;TZID=Europe/Berlin:20240802T210000
DTEND;TZID=Europe/Berlin:20240803T000000
DTSTAMP:20260419T210428
CREATED:20240721T102227Z
LAST-MODIFIED:20240721T122001Z
UID:11997-1722632400-1722643200@clockworkbanana.com
SUMMARY:British Shorts Summer Edition at Freiluftkino Insel at Atelier Gardens
DESCRIPTION:On Friday\, 2nd August – for one night only – British Shorts Film Festival will be guest at the new designed Atelier Gardens on the former studio campus of Berliner Union Film Ateliers. (In the 1920\, the legendary UFA studios shot classics like The Golem in these studios.) Next to Tempelhofer Feld\, British Shorts will present a festival screening featuring a selection of ten short films from the UK and Ireland under the open Berlin sky. For you\, we’ll bring comedy\, drama\, animation\, thriller\, experimental\, documentary and music videos from the home of bad weather directly to sunny Berlin! The screening is part of the British Shorts Summer Edition\, presenting highlights from the January festival edition 2023\, outdoors and indoors in Berlin.\nProgramme details soon on www.britishshorts.de\nTickets: https://www.freiluftkino-insel.de/garden/en/details?film=7253610011160819894\nFilms will be screened as original version in English.\n++++++++++\nBritish Shorts British Shorts Summer Edition\, 2.–4.8.2024 in Berlin\nFreiluftkino Friedrichshain\, Freiluftkino Insel at Atelier Gardens\, Sputnik Kino am Südstern\nDetails: www.britishshorts.de\nPhoto: Torsten Elger\, August 2022\nhttps://elgerart.de/\nhttps://www.facebook.com/events/482091294318060/
URL:https://clockworkbanana.com/event/british-shorts-summer-edition-at-freiluftkino-insel-at-atelier-gardens-2/
LOCATION:Freiluftkino Insel in den Atelier Gardens
ATTACH;FMTTYPE=image/jpeg:https://clockworkbanana.com/wp-content/uploads/2024/07/449824577_10231618969037943_3238127355098790601_n.jpg
ORGANIZER;CN="British Shorts Film Festival%2C Berlin":MAILTO:noreply@facebookmail.com
END:VEVENT
END:VCALENDAR