BEGIN:VCALENDAR
VERSION:2.0
PRODID:-//Clockwork Banana - ECPv6.15.20//NONSGML v1.0//EN
CALSCALE:GREGORIAN
METHOD:PUBLISH
X-WR-CALNAME:Clockwork Banana
X-ORIGINAL-URL:https://clockworkbanana.com
X-WR-CALDESC:Events for Clockwork Banana
REFRESH-INTERVAL;VALUE=DURATION:PT1H
X-Robots-Tag:noindex
X-PUBLISHED-TTL:PT1H
BEGIN:VTIMEZONE
TZID:Europe/Berlin
BEGIN:DAYLIGHT
TZOFFSETFROM:+0100
TZOFFSETTO:+0200
TZNAME:CEST
DTSTART:20230326T010000
END:DAYLIGHT
BEGIN:STANDARD
TZOFFSETFROM:+0200
TZOFFSETTO:+0100
TZNAME:CET
DTSTART:20231029T010000
END:STANDARD
BEGIN:DAYLIGHT
TZOFFSETFROM:+0100
TZOFFSETTO:+0200
TZNAME:CEST
DTSTART:20240331T010000
END:DAYLIGHT
BEGIN:STANDARD
TZOFFSETFROM:+0200
TZOFFSETTO:+0100
TZNAME:CET
DTSTART:20241027T010000
END:STANDARD
BEGIN:DAYLIGHT
TZOFFSETFROM:+0100
TZOFFSETTO:+0200
TZNAME:CEST
DTSTART:20250330T010000
END:DAYLIGHT
BEGIN:STANDARD
TZOFFSETFROM:+0200
TZOFFSETTO:+0100
TZNAME:CET
DTSTART:20251026T010000
END:STANDARD
END:VTIMEZONE
BEGIN:VEVENT
DTSTART;TZID=Europe/Berlin:20240807T170000
DTEND;TZID=Europe/Berlin:20240811T220000
DTSTAMP:20260419T193628
CREATED:20240618T131221Z
LAST-MODIFIED:20240808T074033Z
UID:11528-1723050000-1723413600@clockworkbanana.com
SUMMARY:Irish Chip Shop Week
DESCRIPTION:Ye lucky feckers\, its the Irish Chip Shop Week! Nothing beats a few creamy pints and a big dirty feed from the chipper.\nMenu in progress and subject to change.\n\nFISH & CHIPS €17 (upgrade to garlic or curry cheese chips €3)Beer battered hake with chips and mushy peas\nVISH & CHIPS €15 (upgrade to garlic or curry cheese chips €3)Beer battered palm hearts with chips and mushy peas\n\nSPICE BAG (vo) €15Ireland’s favourite dish: chips with fried chicken OR vegan chicken\, chili oil\, grilled peppers and onions\, curry sauce dip\n\nTACO CHIPS (vo) €10Chips covered in beef OR vegan mince\, chipotle mayo and cheese\n\nEXTRASCurry cheese chips €7 (vo)Garlic cheese chips €7 (vo)Spicy chicken tenders €7 (vo)Salt & vinegar chips (v) €4Curry sauce dip (v) €2Garlic sauce dip (v) €2Deep-fried Mars €4\n 
URL:https://clockworkbanana.com/event/levantine-week/
LOCATION:Weserstraße 168\, 12045 Berlin\, Deutschland
CATEGORIES:Food
ATTACH;FMTTYPE=image/jpeg:https://clockworkbanana.com/wp-content/uploads/2024/06/447564141_975668074566823_1850092651891143223_n-1-66666.jpg
ORGANIZER;CN="Crazy Bastrd Kitchen":MAILTO:noreply@facebookmail.com
END:VEVENT
BEGIN:VEVENT
DTSTART;TZID=Europe/Berlin:20240808T190000
DTEND;TZID=Europe/Berlin:20240808T230000
DTSTAMP:20260419T193628
CREATED:20240806T071718Z
LAST-MODIFIED:20240806T071718Z
UID:12206-1723143600-1723158000@clockworkbanana.com
SUMMARY:Cosmic Comedy Club Berlin: Open Mic / Thursday 8th August 2024
DESCRIPTION:Cosmic Comedy Club Berlin: Open Mic \nThursday 8th August 2024 \nThis show is in English. \nJoin us for Cosmic Comedy Club Berlin at our absolutely stunning venue in Mitte in a former old bank building\, and as always every show with Free Vegan and Vegetarian Pizza & Shots \nHosted by:\nDharmander Singh (UK) & Neil Numb (SCOT) \n★★★★★ THE ACTS ★★★★★ \nThank you to all the sign ups . Our Cosmic Comedy Berlin 8th August Comedy Beeeeeeeeeyatches will be Oren Birnberg\, Marlies Christina Endres Castillo\, Max Elias\, Karl Pinzon Bustillo\, Ana Paula Miranda\, Shreyash Prasad and Samuele Toselli. Hosted by@Dharmander Singh and Neil Numb Comedy \n★★★★★ OPENING TIMES ★★★★★ \nPre-Drinks : 7pm – 9pm\nPizza: 8.15pm\nMain Show : 9pm – 11pm\n2for1 on selected drinks 7pm – 8pm \n★★★★★ HOT SAUCE ★★★★★ \nWe are the only comedy club in the world that has a hot sauce shop\, get your hands on some of the best hot sauces in Europe and beyond. https://bit.ly/cosmichotsauce \n★★★★★ TICKETS ★★★★★ \nThe tickets price includes 7% VAT\nhttps://comedyclubberlin.com/events/ \n★★★★★ THE VENUE ★★★★★ \nKookaburra Comedy Club\nSchönhauser Allee 184\, 10119 Berlin\nhttps://bit.ly/3vOs1hH \n★★★★★ COMMUNITY ★★★★★ \nPlease join our Comedy Telegram group to communicate with other nice people going to comedy events in Berlin: http://bit.ly/berlinsocialchat
URL:https://clockworkbanana.com/event/cosmic-comedy-club-berlin-open-mic-thursday-8th-august-2024/
LOCATION:Cosmic Comedy Club Berlin\, Schönhauser Allee 184\, Berlin\, 10119\, Germany
CATEGORIES:Comedy
ATTACH;FMTTYPE=image/jpeg:https://clockworkbanana.com/wp-content/uploads/2024/08/Thursday-8th-August-2024.jpg
END:VEVENT
END:VCALENDAR