BEGIN:VCALENDAR
VERSION:2.0
PRODID:-//Clockwork Banana - ECPv6.15.20//NONSGML v1.0//EN
CALSCALE:GREGORIAN
METHOD:PUBLISH
X-ORIGINAL-URL:https://clockworkbanana.com
X-WR-CALDESC:Events for Clockwork Banana
REFRESH-INTERVAL;VALUE=DURATION:PT1H
X-Robots-Tag:noindex
X-PUBLISHED-TTL:PT1H
BEGIN:VTIMEZONE
TZID:Europe/Berlin
BEGIN:DAYLIGHT
TZOFFSETFROM:+0100
TZOFFSETTO:+0200
TZNAME:CEST
DTSTART:20230326T010000
END:DAYLIGHT
BEGIN:STANDARD
TZOFFSETFROM:+0200
TZOFFSETTO:+0100
TZNAME:CET
DTSTART:20231029T010000
END:STANDARD
BEGIN:DAYLIGHT
TZOFFSETFROM:+0100
TZOFFSETTO:+0200
TZNAME:CEST
DTSTART:20240331T010000
END:DAYLIGHT
BEGIN:STANDARD
TZOFFSETFROM:+0200
TZOFFSETTO:+0100
TZNAME:CET
DTSTART:20241027T010000
END:STANDARD
BEGIN:DAYLIGHT
TZOFFSETFROM:+0100
TZOFFSETTO:+0200
TZNAME:CEST
DTSTART:20250330T010000
END:DAYLIGHT
BEGIN:STANDARD
TZOFFSETFROM:+0200
TZOFFSETTO:+0100
TZNAME:CET
DTSTART:20251026T010000
END:STANDARD
END:VTIMEZONE
BEGIN:VEVENT
DTSTART;TZID=Europe/Berlin:20240816T220000
DTEND;TZID=Europe/Berlin:20240817T010000
DTSTAMP:20260419T210429
CREATED:20240723T081135Z
LAST-MODIFIED:20240723T081543Z
UID:12090-1723845600-1723856400@clockworkbanana.com
SUMMARY:Komet @ Ritter Butzke
DESCRIPTION:16.08.2024 – ab 22:00 Uhr\nLine up:\nw/\nKomet\nsin:port\nRahel\nTickets: https://tickets.ritterbutzke.com/16082024-Komet/\nhttps://www.facebook.com/events/1267814177531252/
URL:https://clockworkbanana.com/event/komet-ritter-butzke/
LOCATION:Ritterstrasse 26\, 10969 Berlin\, Germany
CATEGORIES:clubbing,Techno
ATTACH;FMTTYPE=image/jpeg:https://clockworkbanana.com/wp-content/uploads/2024/07/451677518_896994185799876_1335094673874914963_n.jpg
ORGANIZER;CN="Ritter Butzke":MAILTO:noreply@facebookmail.com
END:VEVENT
END:VCALENDAR