BEGIN:VCALENDAR
VERSION:2.0
PRODID:-//Clockwork Banana - ECPv6.15.20//NONSGML v1.0//EN
CALSCALE:GREGORIAN
METHOD:PUBLISH
X-ORIGINAL-URL:https://clockworkbanana.com
X-WR-CALDESC:Events for Clockwork Banana
REFRESH-INTERVAL;VALUE=DURATION:PT1H
X-Robots-Tag:noindex
X-PUBLISHED-TTL:PT1H
BEGIN:VTIMEZONE
TZID:Europe/Berlin
BEGIN:DAYLIGHT
TZOFFSETFROM:+0100
TZOFFSETTO:+0200
TZNAME:CEST
DTSTART:20230326T010000
END:DAYLIGHT
BEGIN:STANDARD
TZOFFSETFROM:+0200
TZOFFSETTO:+0100
TZNAME:CET
DTSTART:20231029T010000
END:STANDARD
BEGIN:DAYLIGHT
TZOFFSETFROM:+0100
TZOFFSETTO:+0200
TZNAME:CEST
DTSTART:20240331T010000
END:DAYLIGHT
BEGIN:STANDARD
TZOFFSETFROM:+0200
TZOFFSETTO:+0100
TZNAME:CET
DTSTART:20241027T010000
END:STANDARD
BEGIN:DAYLIGHT
TZOFFSETFROM:+0100
TZOFFSETTO:+0200
TZNAME:CEST
DTSTART:20250330T010000
END:DAYLIGHT
BEGIN:STANDARD
TZOFFSETFROM:+0200
TZOFFSETTO:+0100
TZNAME:CET
DTSTART:20251026T010000
END:STANDARD
END:VTIMEZONE
BEGIN:VEVENT
DTSTART;TZID=Europe/Berlin:20240918T190000
DTEND;TZID=Europe/Berlin:20240918T230000
DTSTAMP:20260419T180830
CREATED:20240916T154814Z
LAST-MODIFIED:20240916T154814Z
UID:12883-1726686000-1726700400@clockworkbanana.com
SUMMARY:Nik Coppin & Devin Gray Live at Cosmic Comedy
DESCRIPTION:Nik Coppin & Devin Gray Live at Cosmic Comedy \nWednesday 18th September 2024 \nDoors 7pm – Showtime 8pm \n★★★★★ Nik Coppin ★★★★★ \nBritish stand-up comedian Nik Coppin has performed all over the world and developed an international following. \nBorn and bred in London and now based on the south coast of England in the city of Brighton he has spent over 20 years becoming a global circuit comedian. In that time he has performed all over the UK and in many European countries such as Germany\, Spain\, Ireland\, Hungary\, Poland\, France\, Denmark and Norway. He has also done shows in the USA\, Canada and frequents Southeast Asia\, regularly touring in Singapore\, Cambodia\, Vietnam\, Thailand\, Hong Kong\, The Philippines and Japan. \nHe has also toured multiple solo shows at the Edinburgh and Adelaide Fringe Festivals\, New Zealand and Melbourne International Comedy Festivals\, all over Australia and the inaugural Hollywood Fringe Festival in Los Angeles\, all to critical acclaim. \nHis confident\, amiable and energetic style of comedy is quick to build rapport\, as he talks about subjects as wide-ranging as human nature\, his experiences in The Antipodes\, Europe and Asia\, his knowledge of wildlife\, superheroes\, current affairs and his mixed-race upbringing in North West London. His mother is English and his father is from the Caribbean island of Barbados. \nAs well as becoming one of the most professional acts on the comedy circuit\, his versatility has also made him a much sought after compere. He has the ability to adapt to a multitude of audiences and is skilful\, observant and affable enough to immediately put them at ease. \nAmazingly funny stories\, wickedly clever insights and a sense of fun that will drag anyone in. Super funny\, super fun and charisma up the wazoo\, Nik’s awesome! ★★★★ 1/2 – Melbourne International Comedy Festival 2009 \n“A rapid fire non-stop act full of energy. His hour went so quick\, his charming smile and easy manner had the audience eating out of his hand and wanting more. Go and see him” ★★★★ 1/2 – Melbourne International Comedy Festival 2006 \n“Fast and funny…The audience loved it…Sweetly\, wildly hilarious” ★★★★ – Rip It Up\, Adelaide Fringe 2014 \n★★★★★ Devin Gray ★★★★★ \nDevin Gray is an international headlining comedian straight out of South Africa. Having served laughs from the southern tip of Africa to the heart of Europe\, Asia and everywhere in between\, his comedy journey spans diverse cultures and audiences. \nDevin’s style of observational humor with a touch of silly makes him a relatable talent that takes you on a self-reflective journey leaving everyone thinking “I’ve been there!”. \nDevin is crowned with Comedy Central acclaim\, battle-tested in the Comedy Central Roast arena\, and honored as the opening act for comedy heavyweights Jeffrey Ross and Hannibal Buress at the prestigious Comedy Central International Festival. \n“Inventive\, heartfelt\, and hilariously funny\, Devin Gray is a must watch.” – Luke Toulson \n“Devin Gray writes thoughtful\, intelligent material about relationships for self-aware couples and comedy connoisseurs” – Trevor Lock \n“Powerful and charming presence on stage. Great Jokes\, delivered with panache” – Dave Thompson \n“Really funny act. Dynamic and playful” – Cosmic Comedy \n\n★★★★★ TICKETS ★★★★★ \nhttps://www.eventbrite.co.uk/e/nik-coppin-devin-gray-live-at-cosmic-comedy-tickets-1002343906607 \n★★★★★ THE VENUE ★★★★★ \nKookaburra Comedy Club\nSchönhauser Allee 184\, 10119 Berlin\nhttps://bit.ly/3vOs1hH \n★★★★★ COMMUNITY ★★★★★ \nPlease join our Comedy Telegram group to communicate with other nice people going to comedy events in Berlin: http://bit.ly/berlinsocialchat
URL:https://clockworkbanana.com/event/nik-coppin-devin-gray-live-at-cosmic-comedy/
LOCATION:Cosmic Comedy Club Berlin\, Schönhauser Allee 184\, Berlin\, 10119\, Germany
CATEGORIES:Comedy
ATTACH;FMTTYPE=image/jpeg:https://clockworkbanana.com/wp-content/uploads/2024/09/nik-deven.jpeg
END:VEVENT
END:VCALENDAR