BEGIN:VCALENDAR
VERSION:2.0
PRODID:-//Clockwork Banana - ECPv6.15.20//NONSGML v1.0//EN
CALSCALE:GREGORIAN
METHOD:PUBLISH
X-WR-CALNAME:Clockwork Banana
X-ORIGINAL-URL:https://clockworkbanana.com
X-WR-CALDESC:Events for Clockwork Banana
REFRESH-INTERVAL;VALUE=DURATION:PT1H
X-Robots-Tag:noindex
X-PUBLISHED-TTL:PT1H
BEGIN:VTIMEZONE
TZID:Europe/Berlin
BEGIN:DAYLIGHT
TZOFFSETFROM:+0100
TZOFFSETTO:+0200
TZNAME:CEST
DTSTART:20230326T010000
END:DAYLIGHT
BEGIN:STANDARD
TZOFFSETFROM:+0200
TZOFFSETTO:+0100
TZNAME:CET
DTSTART:20231029T010000
END:STANDARD
BEGIN:DAYLIGHT
TZOFFSETFROM:+0100
TZOFFSETTO:+0200
TZNAME:CEST
DTSTART:20240331T010000
END:DAYLIGHT
BEGIN:STANDARD
TZOFFSETFROM:+0200
TZOFFSETTO:+0100
TZNAME:CET
DTSTART:20241027T010000
END:STANDARD
BEGIN:DAYLIGHT
TZOFFSETFROM:+0100
TZOFFSETTO:+0200
TZNAME:CEST
DTSTART:20250330T010000
END:DAYLIGHT
BEGIN:STANDARD
TZOFFSETFROM:+0200
TZOFFSETTO:+0100
TZNAME:CET
DTSTART:20251026T010000
END:STANDARD
END:VTIMEZONE
BEGIN:VEVENT
DTSTART;TZID=Europe/Berlin:20240928T173000
DTEND;TZID=Europe/Berlin:20240928T203000
DTSTAMP:20260419T171710
CREATED:20240826T154724Z
LAST-MODIFIED:20240826T155124Z
UID:12517-1727544600-1727555400@clockworkbanana.com
SUMMARY:NIRANIUM
DESCRIPTION:TICKET LINK (25€ Pre-Sale\, only 18+ guests please!)\nhttps://coretexrecords.com/Niranium-Festival-28092024-CORETEX-TICKET\noder physikalisch /or physical at\nCoretex Records\, Oranienstraße 3\,10997 Berlin\nOpening hours: Mondays till Saturdays: 11-20 Uhr\nES GIBT AUCH TICKETS AN DER ABENDKASSE – CASH ONLY\n28 € Abendkasse / 23 € für Leute mit Behinderten-\, Berliner Pass-\, oder Studentenausweis (nur an AK!)\nTICKETS WILL ALSO BE AVAILABLE AT THE DOOR – CASH ONLY!\n28 € or 23 € with Disabled-\, Student-\, Berlin Pass\nNIRANIUM Rockfestival geht in die zweite Runde:\nNIRANIUM\, Berliner Bands für Berlin – support your local scene \nAfter its debut last September\, NIRANIUM returns and promises to revitalize and unite Berlin’s rock scene once again. The one-day festival will take place on Saturday\, September 28\, 2024\, at Neue Zukunft in Alt-Stralau and will once again showcase Berlin’s wide range of diverse rock genres and ingenious bands. \nThis time\, supported by the Kulturamt Friedrichshain – Kreuzberg\, NIRANIUM has set itself the task of not only promoting Berlin’s rock scene and drawing attention to the dying of the smaller stages\, but also wants to create an inclusive space where all visitors can feel comfortable and enjoy the music. With trained staff on site\, an awareness team\, as well as wheelchair-friendly access and the beer garden as a rest area\, the organizers hope to attract a diverse audience.\nCome along\, music lovers\, and let’s end the summer together with this exquisite line-up: \nBanana of Death\nBandcamp: https://bananaofdeath.bandcamp.com/\nBella and the Bizarre\nBandcamp: https://bellaandthebizarre.bandcamp.com\nLOBSTERBOMB\nBandcamp: https://lobsterbomb.bandcamp.com/\nRed Mess\nBandcamp: https://redmess.bandcamp.com\nin collaboration mit\nAliénore\nBandcamp: https://alienore.bandcamp.com/\nVeranstaltungsort ist die Neue Zukunft in Alt-Stralau\, ein Ort\, der für seine einzigartige Atmosphäre und seinen Beitrag zur Berliner Kulturszene bekannt ist.\nLinks:\nhttps://niranium.myportfolio.com/\nhttps://www.instagram.com/niranium_berlin/\nhttps://www.facebook.com/events/1025624209088754/
URL:https://clockworkbanana.com/event/niranium-2/
LOCATION:Neue Zukunft
CATEGORIES:Bar,Live Music
ATTACH;FMTTYPE=image/jpeg:https://clockworkbanana.com/wp-content/uploads/2024/08/452953043_1093090749073632_1387854062354501102_n.jpg
ORGANIZER;CN="Niranium":MAILTO:noreply@facebookmail.com
END:VEVENT
BEGIN:VEVENT
DTSTART;TZID=Europe/Berlin:20240928T190000
DTEND;TZID=Europe/Berlin:20240928T230000
DTSTAMP:20260419T171710
CREATED:20240925T101248Z
LAST-MODIFIED:20240925T101248Z
UID:13000-1727550000-1727564400@clockworkbanana.com
SUMMARY:Cosmic Comedy Club Berlin : Showcase / Saturday 28th September 2024
DESCRIPTION:Cosmic Comedy Club Berlin : Showcase \nSaturday 28th September 2024 \nThis show is in English. \nJoin us for Cosmic Comedy Club Berlin at our absolutely stunning venue in the heart of Mitte and as always every show with Free Vegan and Vegetarian Pizza & Shots \nHosted by:\nDharmander Singh (UK) & Neil Numb (SCOT) \n★★★★★ THE ACTS ★★★★★ \nTamer Kattan (US)Todd Stuchiner (US)Kyle Legacy (UK)Domenico Maddio (ITY)\n\nSpecial Guest Host- Sandy Jones (UK)\n★★★★★ OPENING TIMES ★★★★★ \nPre-Drinks: 7pm – 9pm\nPizza: 8.15pm\nMain Show : 9pm – 11pm\n2for1 on selected drinks 7pm – 8pm \n★★★★★ HOT SAUCE ★★★★★ \nGet your hands on some of the best hot sauces in Europe and beyond at the Club. https://bit.ly/cosmichotsauce \n★★★★★ TICKETS ★★★★★ \nThe tickets price includes 7% VAT\nhttps://comedyclubberlin.com/events/ \n★★★★★ THE VENUE ★★★★★ \nKookaburra Comedy Club\nSchönhauser Allee 184\, 10119 Berlin\nhttps://bit.ly/3vOs1hH \n★★★★★ COMMUNITY ★★★★★ \nPlease join our Comedy Telegram group to communicate with other nice people going to comedy events in Berlin: http://bit.ly/berlinsocialchat
URL:https://clockworkbanana.com/event/cosmic-comedy-club-berlin-showcase-saturday-28th-september-2024/
LOCATION:Cosmic Comedy Club Berlin\, Schönhauser Allee 184\, Berlin\, 10119\, Germany
CATEGORIES:Comedy
ATTACH;FMTTYPE=image/jpeg:https://clockworkbanana.com/wp-content/uploads/2024/09/Saturday-28th-September-2024.jpg
END:VEVENT
END:VCALENDAR