BEGIN:VCALENDAR
VERSION:2.0
PRODID:-//Clockwork Banana - ECPv6.15.20//NONSGML v1.0//EN
CALSCALE:GREGORIAN
METHOD:PUBLISH
X-ORIGINAL-URL:https://clockworkbanana.com
X-WR-CALDESC:Events for Clockwork Banana
REFRESH-INTERVAL;VALUE=DURATION:PT1H
X-Robots-Tag:noindex
X-PUBLISHED-TTL:PT1H
BEGIN:VTIMEZONE
TZID:Europe/Berlin
BEGIN:DAYLIGHT
TZOFFSETFROM:+0100
TZOFFSETTO:+0200
TZNAME:CEST
DTSTART:20240331T010000
END:DAYLIGHT
BEGIN:STANDARD
TZOFFSETFROM:+0200
TZOFFSETTO:+0100
TZNAME:CET
DTSTART:20241027T010000
END:STANDARD
BEGIN:DAYLIGHT
TZOFFSETFROM:+0100
TZOFFSETTO:+0200
TZNAME:CEST
DTSTART:20250330T010000
END:DAYLIGHT
BEGIN:STANDARD
TZOFFSETFROM:+0200
TZOFFSETTO:+0100
TZNAME:CET
DTSTART:20251026T010000
END:STANDARD
BEGIN:DAYLIGHT
TZOFFSETFROM:+0100
TZOFFSETTO:+0200
TZNAME:CEST
DTSTART:20260329T010000
END:DAYLIGHT
BEGIN:STANDARD
TZOFFSETFROM:+0200
TZOFFSETTO:+0100
TZNAME:CET
DTSTART:20261025T010000
END:STANDARD
END:VTIMEZONE
BEGIN:VEVENT
DTSTART;TZID=Europe/Berlin:20251209T200000
DTEND;TZID=Europe/Berlin:20251209T230000
DTSTAMP:20260422T135019
CREATED:20251203T121113Z
LAST-MODIFIED:20251203T121326Z
UID:24046-1765310400-1765321200@clockworkbanana.com
SUMMARY:SILENT EM + ORTROTASCE live // Urban Spree\, Berlin
DESCRIPTION:aufnahme + wiedergabe & Effetto Notte present\nSilent EM (live)\nwwww.silentem.bandcamp.com\nOrtrotasce (live)\nwww.ortrotasce.bandcamp.com\nHanzel\nwww.instagram.com/effetto.notte.berlin\nPhilipp Strobel\nwww.aufnahmeundwiedergabe.de\nJean Lorenzo\, known as Silent EM\, fell into his solo project by chance. He had played guitar and bass in post-punk and punk bands but in 2010 he found\, upon his transition to a new city\, that he could create music singularly with synthesizers and drum machines. His songs explore themes of disillusion\, disappointment with religious views\, war and lost love utopias. The influence of 1980s French coldwave and post-punk is apparent in his craft.\nExploring the intersection between industrial and synth pop\, Ortrotasce “Distant In Time” draws a line from the sounds of the past to the present. For fans of Hard Corps\, Fad Gadget\, and SPK .\nTickets:\nUrban Spree (RAW-Area)\nRevaler Str. 99/Warschauer Str.\n10245 Berlin\nwww.urbanspree.com\nwww.facebook.com/urbanspree\nhttps://www.facebook.com/events/1371471411275139/
URL:https://clockworkbanana.com/event/silent-em-ortrotasce-live-urban-spree-berlin/
LOCATION:Urban Spree\, Revaler Str. 99\,\, Berlin\, 10245\, Germany
CATEGORIES:Bar,Live Music
ATTACH;FMTTYPE=image/jpeg:https://clockworkbanana.com/wp-content/uploads/2025/12/589640110_1489361056005436_3661709280835449447_n.jpg
END:VEVENT
END:VCALENDAR