BEGIN:VCALENDAR
VERSION:2.0
PRODID:-//Clockwork Banana - ECPv6.15.20//NONSGML v1.0//EN
CALSCALE:GREGORIAN
METHOD:PUBLISH
X-WR-CALNAME:Clockwork Banana
X-ORIGINAL-URL:https://clockworkbanana.com
X-WR-CALDESC:Events for Clockwork Banana
REFRESH-INTERVAL;VALUE=DURATION:PT1H
X-Robots-Tag:noindex
X-PUBLISHED-TTL:PT1H
BEGIN:VTIMEZONE
TZID:Europe/Berlin
BEGIN:DAYLIGHT
TZOFFSETFROM:+0100
TZOFFSETTO:+0200
TZNAME:CEST
DTSTART:20250330T010000
END:DAYLIGHT
BEGIN:STANDARD
TZOFFSETFROM:+0200
TZOFFSETTO:+0100
TZNAME:CET
DTSTART:20251026T010000
END:STANDARD
BEGIN:DAYLIGHT
TZOFFSETFROM:+0100
TZOFFSETTO:+0200
TZNAME:CEST
DTSTART:20260329T010000
END:DAYLIGHT
BEGIN:STANDARD
TZOFFSETFROM:+0200
TZOFFSETTO:+0100
TZNAME:CET
DTSTART:20261025T010000
END:STANDARD
BEGIN:DAYLIGHT
TZOFFSETFROM:+0100
TZOFFSETTO:+0200
TZNAME:CEST
DTSTART:20270328T010000
END:DAYLIGHT
BEGIN:STANDARD
TZOFFSETFROM:+0200
TZOFFSETTO:+0100
TZNAME:CET
DTSTART:20271031T010000
END:STANDARD
END:VTIMEZONE
BEGIN:VEVENT
DTSTART;TZID=Europe/Berlin:20260424T040000
DTEND;TZID=Europe/Berlin:20260424T230000
DTSTAMP:20260424T013407
CREATED:20260214T232921Z
LAST-MODIFIED:20260214T233037Z
UID:24239-1777003200-1777071600@clockworkbanana.com
SUMMARY:Queer Night Market
DESCRIPTION:Queer Night Market is the ultimate vibe for LGBTQ+ peeps to shop\, chill\, and celebrate under the stars!\nBerlin’s Biggest Queer Creative Playground returns.\nQueer Night Market Berlin lands at Holzmarkt on April 24th for a one-night celebration of LGBTQ+ creativity\, nightlife culture\, and community connection in the heart of Berlin.\nThis in-person queer market and social event brings together independent artists\, designers\, makers\, and performers alongside live drag\, workshops\, tattoo artists\, street food\, and interactive experiences. Expect a vibrant mix of queer culture\, creative expression\, and inclusive nightlife energy in one of Berlin’s most unique cultural venues.\nWhether you’re searching for queer events in Berlin\, LGBTQ+ nightlife\, alternative markets\, creative workshops\, or spaces to connect with the community and allies\, Queer Night Market offers a welcoming environment built on visibility\, expression\, and collaboration.\nPerfect for locals\, visitors\, creatives\, and anyone exploring Berlin’s queer scene.\nFirst 100 guests receive free entry.\n24 April\n16:00 — 23:00\nHolzmarkt Berlin\nKeywords: queer event Berlin\, LGBTQ Berlin\, queer market Berlin\, drag Berlin\, creative market Berlin\, LGBTQ nightlife Berlin\, queer community event\, Berlin art market\, inclusive events Berlin\nSee you Queer!\nhttps://www.facebook.com/events/750417224476536/
URL:https://clockworkbanana.com/event/queer-night-market/
LOCATION:Holzmarktstraße 25\,Berlin\,10243\,DE
CATEGORIES:Bar,Market
ATTACH;FMTTYPE=image/jpeg:https://clockworkbanana.com/wp-content/uploads/2026/02/634710521_911204171299495_7447882283611830310_n.jpg
ORGANIZER;CN="Eventbrite":MAILTO:noreply@facebookmail.com
END:VEVENT
BEGIN:VEVENT
DTSTART;TZID=Europe/Berlin:20260424T190000
DTEND;TZID=Europe/Berlin:20260424T220000
DTSTAMP:20260424T013407
CREATED:20260416T163952Z
LAST-MODIFIED:20260416T170805Z
UID:24320-1777057200-1777068000@clockworkbanana.com
SUMMARY:Spice & Giggles Night — Hot Wings Eating Competition & Comedy
DESCRIPTION:Spice & Giggles Night — Hot Wings Eating Competition & Comedy \nCome down for a fun night of hot wings\, laughs\, and questionable life choices. \nSpice & Giggles Night is a live spicy wings eating competition hosted by comedian Tyrone Stallone\, open to anyone brave enough to enter — or happy to watch from a safe distance. Hot wings are also available at the bar all night\, so you can go at your own pace. \nWhether you’re here to compete\, cheer on your mates\, or just enjoy some wings and a laugh\, there’s a spot for you. \nFriday 24 April · Göttin der Weisheit\, Lenaustraße 5\, Neukölln · Doors 7 PM \nFree to watch. Open to enter. \nFor all upto date information visit republicofheat.com and head to the events page. \nRepublic of heat : https://republicofheat.com/en \nIn association with Berlin Chili Festival : http://berlinchilifest.com/
URL:https://clockworkbanana.com/event/24320/
LOCATION:Göttin der Weisheit\, Lenaustraße 5\, Berlin\, 12047\, Germany
CATEGORIES:Chili Event,Comedy
ATTACH;FMTTYPE=image/jpeg:https://clockworkbanana.com/wp-content/uploads/2026/04/spiceandgiggles.jpg
END:VEVENT
END:VCALENDAR